BEGIN:VCALENDAR
VERSION:2.0
PRODID:-//Philomath News - ECPv6.15.20//NONSGML v1.0//EN
CALSCALE:GREGORIAN
METHOD:PUBLISH
X-ORIGINAL-URL:https://philomathnews.com
X-WR-CALDESC:Events for Philomath News
REFRESH-INTERVAL;VALUE=DURATION:PT1H
X-Robots-Tag:noindex
X-PUBLISHED-TTL:PT1H
BEGIN:VTIMEZONE
TZID:America/Los_Angeles
BEGIN:DAYLIGHT
TZOFFSETFROM:-0800
TZOFFSETTO:-0700
TZNAME:PDT
DTSTART:20250309T100000
END:DAYLIGHT
BEGIN:STANDARD
TZOFFSETFROM:-0700
TZOFFSETTO:-0800
TZNAME:PST
DTSTART:20251102T090000
END:STANDARD
BEGIN:DAYLIGHT
TZOFFSETFROM:-0800
TZOFFSETTO:-0700
TZNAME:PDT
DTSTART:20260308T100000
END:DAYLIGHT
BEGIN:STANDARD
TZOFFSETFROM:-0700
TZOFFSETTO:-0800
TZNAME:PST
DTSTART:20261101T090000
END:STANDARD
BEGIN:DAYLIGHT
TZOFFSETFROM:-0800
TZOFFSETTO:-0700
TZNAME:PDT
DTSTART:20270314T100000
END:DAYLIGHT
BEGIN:STANDARD
TZOFFSETFROM:-0700
TZOFFSETTO:-0800
TZNAME:PST
DTSTART:20271107T090000
END:STANDARD
END:VTIMEZONE
BEGIN:VEVENT
DTSTART;TZID=America/Los_Angeles:20260414T100000
DTEND;TZID=America/Los_Angeles:20260414T100000
DTSTAMP:20260420T060456
CREATED:20260414T005107Z
LAST-MODIFIED:20260414T005107Z
UID:10012033-1776160800-1776160800@philomathnews.com
SUMMARY:Philomath Sensational Seniors Society Meeting
DESCRIPTION:On Tuesday\, April 14 at 10 a.m. at the Rebekah’s Lodge\, 148 N. 13th St.\, the Philomath Sensational Seniors Society will host a meeting on advanced directives. Philomath Fire and Rescue Chief Chancy Ferguson and retired doctor David Grube will be guest speakers. An advanced directive is a legal document helps individuals share their medical wishes in the event of becoming unconscious or cannot speak.
URL:https://philomathnews.com/event/philomath-sensational-seniors-society-meeting-4/
LOCATION:Social Rebekah Lodge\, 148 N. 13th St.\, Philomath\, OR\, 97370
CATEGORIES:Clubs and Organizations
ATTACH;FMTTYPE=image/jpeg:https://philomathnews.com/wp-content/uploads/2022/03/033022-rebekah-social-lodge_5548.jpeg
END:VEVENT
BEGIN:VEVENT
DTSTART;TZID=America/Los_Angeles:20260310T100000
DTEND;TZID=America/Los_Angeles:20260310T100000
DTSTAMP:20260420T060456
CREATED:20260227T180144Z
LAST-MODIFIED:20260227T180144Z
UID:10011759-1773136800-1773136800@philomathnews.com
SUMMARY:Philomath Sensational Seniors Society Meeting
DESCRIPTION:On Tuesday\, March 10\, we will be having a game day — board games and the like. If you would like to bring cookies to share\, please do\, but it is not required. We will also get aquatinted with our new location (Rebekahs Lodge\, 148 N. 13th St.). There will be coffee and tea available. Join our email list at philomathseniors@gmail.com.
URL:https://philomathnews.com/event/philomath-sensational-seniors-society-meeting-3/
LOCATION:Social Rebekah Lodge\, 148 N. 13th St.\, Philomath\, OR\, 97370
CATEGORIES:Clubs and Organizations
ATTACH;FMTTYPE=image/jpeg:https://philomathnews.com/wp-content/uploads/2022/03/033022-rebekah-social-lodge_5548.jpeg
END:VEVENT
END:VCALENDAR