BEGIN:VCALENDAR
VERSION:2.0
PRODID:-//Philomath News - ECPv6.15.20//NONSGML v1.0//EN
CALSCALE:GREGORIAN
METHOD:PUBLISH
X-WR-CALNAME:Philomath News
X-ORIGINAL-URL:https://philomathnews.com
X-WR-CALDESC:Events for Philomath News
REFRESH-INTERVAL;VALUE=DURATION:PT1H
X-Robots-Tag:noindex
X-PUBLISHED-TTL:PT1H
BEGIN:VTIMEZONE
TZID:America/Los_Angeles
BEGIN:DAYLIGHT
TZOFFSETFROM:-0800
TZOFFSETTO:-0700
TZNAME:PDT
DTSTART:20270314T100000
END:DAYLIGHT
BEGIN:STANDARD
TZOFFSETFROM:-0700
TZOFFSETTO:-0800
TZNAME:PST
DTSTART:20271107T090000
END:STANDARD
BEGIN:DAYLIGHT
TZOFFSETFROM:-0800
TZOFFSETTO:-0700
TZNAME:PDT
DTSTART:20280312T100000
END:DAYLIGHT
BEGIN:STANDARD
TZOFFSETFROM:-0700
TZOFFSETTO:-0800
TZNAME:PST
DTSTART:20281105T090000
END:STANDARD
BEGIN:DAYLIGHT
TZOFFSETFROM:-0800
TZOFFSETTO:-0700
TZNAME:PDT
DTSTART:20290311T100000
END:DAYLIGHT
BEGIN:STANDARD
TZOFFSETFROM:-0700
TZOFFSETTO:-0800
TZNAME:PST
DTSTART:20291104T090000
END:STANDARD
END:VTIMEZONE
BEGIN:VEVENT
DTSTART;TZID=America/Los_Angeles:20280209T110000
DTEND;TZID=America/Los_Angeles:20280209T120000
DTSTAMP:20260420T140719
CREATED:20251116T214126Z
LAST-MODIFIED:20251116T214126Z
UID:10009608-1833706800-1833710400@philomathnews.com
SUMMARY:Squishtivities at the Library
DESCRIPTION:Squishtivities by Strengthening Rural Families welcomes children and their families. Squishtivities is an adventure in play created especially for adults and their children using arts and crafts and “messy” play to promote problem-solving\, fine motor skills\, caregiver/child relationships\, and creativity.
URL:https://philomathnews.com/event/squishtivities-at-the-library/2028-02-09/
LOCATION:Philomath Community Library\, 1050 Applegate\, Philomath\, OR\, 97370
CATEGORIES:Library
ATTACH;FMTTYPE=image/jpeg:https://philomathnews.com/wp-content/uploads/2022/08/081522-library-file_7767-scaled.jpeg
END:VEVENT
BEGIN:VEVENT
DTSTART;TZID=America/Los_Angeles:20280215T153000
DTEND;TZID=America/Los_Angeles:20280215T163000
DTSTAMP:20260420T140719
CREATED:20251116T221714Z
LAST-MODIFIED:20251116T221714Z
UID:10009857-1834241400-1834245000@philomathnews.com
SUMMARY:READ Dogs at the Library
DESCRIPTION:Beginning readers are invited to practice reading in any language to a trained therapy Reading Education Assistance Dogs (READ Dogs) on the third Tuesday of the month. A permission form is required for children to participate and may be filled out on-site by parents/guardians. Limited spots are available on a first-come\, first-served basis.
URL:https://philomathnews.com/event/read-dogs-at-the-library/2028-02-15/
LOCATION:Philomath Community Library\, 1050 Applegate\, Philomath\, OR\, 97370
CATEGORIES:Library
ATTACH;FMTTYPE=image/jpeg:https://philomathnews.com/wp-content/uploads/2024/12/122724-READ-dogs_9187-scaled.jpg
END:VEVENT
BEGIN:VEVENT
DTSTART;TZID=America/Los_Angeles:20280216T103000
DTEND;TZID=America/Los_Angeles:20280216T110000
DTSTAMP:20260420T140719
CREATED:20251116T194546Z
LAST-MODIFIED:20251116T194634Z
UID:10008631-1834309800-1834311600@philomathnews.com
SUMMARY:Philomath Storytime at the Library
DESCRIPTION:Children of all ages and their families are invited to join us for an interactive storytime full of books\, songs\, and music.
URL:https://philomathnews.com/event/philomath-storytime-at-the-library/2028-02-16/
LOCATION:Philomath Community Library\, 1050 Applegate\, Philomath\, OR\, 97370
CATEGORIES:Library
ATTACH;FMTTYPE=image/jpeg:https://philomathnews.com/wp-content/uploads/2024/07/Calendar-Philomath-Community-Library.jpg
END:VEVENT
BEGIN:VEVENT
DTSTART;TZID=America/Los_Angeles:20280216T120000
DTEND;TZID=America/Los_Angeles:20280216T130000
DTSTAMP:20260420T140719
CREATED:20251116T222809Z
LAST-MODIFIED:20251116T222809Z
UID:10009977-1834315200-1834318800@philomathnews.com
SUMMARY:Wednesday Noon Book Club
DESCRIPTION:The Philomath Noon Book Club meets on the third Wednesday of the month at the Philomath Community Library. Copies of book club books are available each month at the library; please ask at the front desk.
URL:https://philomathnews.com/event/wednesday-noon-book-club/2028-02-16/
LOCATION:Philomath Community Library\, 1050 Applegate\, Philomath\, OR\, 97370
CATEGORIES:Library
ATTACH;FMTTYPE=image/jpeg:https://philomathnews.com/wp-content/uploads/2024/07/Calendar-Philomath-Community-Library.jpg
END:VEVENT
BEGIN:VEVENT
DTSTART;TZID=America/Los_Angeles:20280223T103000
DTEND;TZID=America/Los_Angeles:20280223T110000
DTSTAMP:20260420T140720
CREATED:20251116T194546Z
LAST-MODIFIED:20251116T194634Z
UID:10008632-1834914600-1834916400@philomathnews.com
SUMMARY:Philomath Storytime at the Library
DESCRIPTION:Children of all ages and their families are invited to join us for an interactive storytime full of books\, songs\, and music.
URL:https://philomathnews.com/event/philomath-storytime-at-the-library/2028-02-23/
LOCATION:Philomath Community Library\, 1050 Applegate\, Philomath\, OR\, 97370
CATEGORIES:Library
ATTACH;FMTTYPE=image/jpeg:https://philomathnews.com/wp-content/uploads/2024/07/Calendar-Philomath-Community-Library.jpg
END:VEVENT
BEGIN:VEVENT
DTSTART;TZID=America/Los_Angeles:20280223T110000
DTEND;TZID=America/Los_Angeles:20280223T114500
DTSTAMP:20260420T140720
CREATED:20251116T230448Z
LAST-MODIFIED:20251224T225635Z
UID:10010336-1834916400-1834919100@philomathnews.com
SUMMARY:Playtime at the Library
DESCRIPTION:Children and their adults are invited to a playtime immediately following storytime on the fourth Wednesday of every month. Adults may visit with each other while children play with the provided toys.
URL:https://philomathnews.com/event/playtime-at-the-library/2028-02-23/
LOCATION:Philomath Community Library\, 1050 Applegate\, Philomath\, OR\, 97370
CATEGORIES:Library
ATTACH;FMTTYPE=image/jpeg:https://philomathnews.com/wp-content/uploads/2022/08/081522-library-file_7767-scaled.jpeg
END:VEVENT
BEGIN:VEVENT
DTSTART;TZID=America/Los_Angeles:20280301T103000
DTEND;TZID=America/Los_Angeles:20280301T110000
DTSTAMP:20260420T140720
CREATED:20251116T194546Z
LAST-MODIFIED:20251116T194634Z
UID:10008633-1835519400-1835521200@philomathnews.com
SUMMARY:Philomath Storytime at the Library
DESCRIPTION:Children of all ages and their families are invited to join us for an interactive storytime full of books\, songs\, and music.
URL:https://philomathnews.com/event/philomath-storytime-at-the-library/2028-03-01/
LOCATION:Philomath Community Library\, 1050 Applegate\, Philomath\, OR\, 97370
CATEGORIES:Library
ATTACH;FMTTYPE=image/jpeg:https://philomathnews.com/wp-content/uploads/2024/07/Calendar-Philomath-Community-Library.jpg
END:VEVENT
BEGIN:VEVENT
DTSTART;TZID=America/Los_Angeles:20280307T183000
DTEND;TZID=America/Los_Angeles:20280307T193000
DTSTAMP:20260420T140720
CREATED:20251116T202150Z
LAST-MODIFIED:20251116T202150Z
UID:10008985-1836066600-1836070200@philomathnews.com
SUMMARY:Philomath Evening Book Club
DESCRIPTION:The Philomath Evening Book Club meets at the Philomath Community Library on the first Tuesday of each month (unless noted). Copies of book club books are available monthly at the library; please ask at the front desk.
URL:https://philomathnews.com/event/philomath-evening-book-club/2028-03-07/
LOCATION:Philomath Community Library\, 1050 Applegate\, Philomath\, OR\, 97370
CATEGORIES:Library
ATTACH;FMTTYPE=image/jpeg:https://philomathnews.com/wp-content/uploads/2022/08/081522-library-file_7767-scaled.jpeg
END:VEVENT
BEGIN:VEVENT
DTSTART;TZID=America/Los_Angeles:20280308T103000
DTEND;TZID=America/Los_Angeles:20280308T110000
DTSTAMP:20260420T140720
CREATED:20251116T194546Z
LAST-MODIFIED:20251116T194634Z
UID:10008634-1836124200-1836126000@philomathnews.com
SUMMARY:Philomath Storytime at the Library
DESCRIPTION:Children of all ages and their families are invited to join us for an interactive storytime full of books\, songs\, and music.
URL:https://philomathnews.com/event/philomath-storytime-at-the-library/2028-03-08/
LOCATION:Philomath Community Library\, 1050 Applegate\, Philomath\, OR\, 97370
CATEGORIES:Library
ATTACH;FMTTYPE=image/jpeg:https://philomathnews.com/wp-content/uploads/2024/07/Calendar-Philomath-Community-Library.jpg
END:VEVENT
BEGIN:VEVENT
DTSTART;TZID=America/Los_Angeles:20280308T110000
DTEND;TZID=America/Los_Angeles:20280308T120000
DTSTAMP:20260420T140720
CREATED:20251116T214126Z
LAST-MODIFIED:20251116T214126Z
UID:10009609-1836126000-1836129600@philomathnews.com
SUMMARY:Squishtivities at the Library
DESCRIPTION:Squishtivities by Strengthening Rural Families welcomes children and their families. Squishtivities is an adventure in play created especially for adults and their children using arts and crafts and “messy” play to promote problem-solving\, fine motor skills\, caregiver/child relationships\, and creativity.
URL:https://philomathnews.com/event/squishtivities-at-the-library/2028-03-08/
LOCATION:Philomath Community Library\, 1050 Applegate\, Philomath\, OR\, 97370
CATEGORIES:Library
ATTACH;FMTTYPE=image/jpeg:https://philomathnews.com/wp-content/uploads/2022/08/081522-library-file_7767-scaled.jpeg
END:VEVENT
BEGIN:VEVENT
DTSTART;TZID=America/Los_Angeles:20280315T103000
DTEND;TZID=America/Los_Angeles:20280315T110000
DTSTAMP:20260420T140720
CREATED:20251116T194546Z
LAST-MODIFIED:20251116T194634Z
UID:10008635-1836729000-1836730800@philomathnews.com
SUMMARY:Philomath Storytime at the Library
DESCRIPTION:Children of all ages and their families are invited to join us for an interactive storytime full of books\, songs\, and music.
URL:https://philomathnews.com/event/philomath-storytime-at-the-library/2028-03-15/
LOCATION:Philomath Community Library\, 1050 Applegate\, Philomath\, OR\, 97370
CATEGORIES:Library
ATTACH;FMTTYPE=image/jpeg:https://philomathnews.com/wp-content/uploads/2024/07/Calendar-Philomath-Community-Library.jpg
END:VEVENT
BEGIN:VEVENT
DTSTART;TZID=America/Los_Angeles:20280315T120000
DTEND;TZID=America/Los_Angeles:20280315T130000
DTSTAMP:20260420T140720
CREATED:20251116T222809Z
LAST-MODIFIED:20251116T222809Z
UID:10009978-1836734400-1836738000@philomathnews.com
SUMMARY:Wednesday Noon Book Club
DESCRIPTION:The Philomath Noon Book Club meets on the third Wednesday of the month at the Philomath Community Library. Copies of book club books are available each month at the library; please ask at the front desk.
URL:https://philomathnews.com/event/wednesday-noon-book-club/2028-03-15/
LOCATION:Philomath Community Library\, 1050 Applegate\, Philomath\, OR\, 97370
CATEGORIES:Library
ATTACH;FMTTYPE=image/jpeg:https://philomathnews.com/wp-content/uploads/2024/07/Calendar-Philomath-Community-Library.jpg
END:VEVENT
BEGIN:VEVENT
DTSTART;TZID=America/Los_Angeles:20280321T153000
DTEND;TZID=America/Los_Angeles:20280321T163000
DTSTAMP:20260420T140720
CREATED:20251116T221714Z
LAST-MODIFIED:20251116T221714Z
UID:10009858-1837265400-1837269000@philomathnews.com
SUMMARY:READ Dogs at the Library
DESCRIPTION:Beginning readers are invited to practice reading in any language to a trained therapy Reading Education Assistance Dogs (READ Dogs) on the third Tuesday of the month. A permission form is required for children to participate and may be filled out on-site by parents/guardians. Limited spots are available on a first-come\, first-served basis.
URL:https://philomathnews.com/event/read-dogs-at-the-library/2028-03-21/
LOCATION:Philomath Community Library\, 1050 Applegate\, Philomath\, OR\, 97370
CATEGORIES:Library
ATTACH;FMTTYPE=image/jpeg:https://philomathnews.com/wp-content/uploads/2024/12/122724-READ-dogs_9187-scaled.jpg
END:VEVENT
BEGIN:VEVENT
DTSTART;TZID=America/Los_Angeles:20280322T103000
DTEND;TZID=America/Los_Angeles:20280322T110000
DTSTAMP:20260420T140720
CREATED:20251116T194546Z
LAST-MODIFIED:20251116T194634Z
UID:10008636-1837333800-1837335600@philomathnews.com
SUMMARY:Philomath Storytime at the Library
DESCRIPTION:Children of all ages and their families are invited to join us for an interactive storytime full of books\, songs\, and music.
URL:https://philomathnews.com/event/philomath-storytime-at-the-library/2028-03-22/
LOCATION:Philomath Community Library\, 1050 Applegate\, Philomath\, OR\, 97370
CATEGORIES:Library
ATTACH;FMTTYPE=image/jpeg:https://philomathnews.com/wp-content/uploads/2024/07/Calendar-Philomath-Community-Library.jpg
END:VEVENT
BEGIN:VEVENT
DTSTART;TZID=America/Los_Angeles:20280322T110000
DTEND;TZID=America/Los_Angeles:20280322T114500
DTSTAMP:20260420T140720
CREATED:20251116T230448Z
LAST-MODIFIED:20251224T225635Z
UID:10010337-1837335600-1837338300@philomathnews.com
SUMMARY:Playtime at the Library
DESCRIPTION:Children and their adults are invited to a playtime immediately following storytime on the fourth Wednesday of every month. Adults may visit with each other while children play with the provided toys.
URL:https://philomathnews.com/event/playtime-at-the-library/2028-03-22/
LOCATION:Philomath Community Library\, 1050 Applegate\, Philomath\, OR\, 97370
CATEGORIES:Library
ATTACH;FMTTYPE=image/jpeg:https://philomathnews.com/wp-content/uploads/2022/08/081522-library-file_7767-scaled.jpeg
END:VEVENT
BEGIN:VEVENT
DTSTART;TZID=America/Los_Angeles:20280329T103000
DTEND;TZID=America/Los_Angeles:20280329T110000
DTSTAMP:20260420T140720
CREATED:20251116T194546Z
LAST-MODIFIED:20251116T194634Z
UID:10008637-1837938600-1837940400@philomathnews.com
SUMMARY:Philomath Storytime at the Library
DESCRIPTION:Children of all ages and their families are invited to join us for an interactive storytime full of books\, songs\, and music.
URL:https://philomathnews.com/event/philomath-storytime-at-the-library/2028-03-29/
LOCATION:Philomath Community Library\, 1050 Applegate\, Philomath\, OR\, 97370
CATEGORIES:Library
ATTACH;FMTTYPE=image/jpeg:https://philomathnews.com/wp-content/uploads/2024/07/Calendar-Philomath-Community-Library.jpg
END:VEVENT
BEGIN:VEVENT
DTSTART;TZID=America/Los_Angeles:20280404T183000
DTEND;TZID=America/Los_Angeles:20280404T193000
DTSTAMP:20260420T140720
CREATED:20251116T202150Z
LAST-MODIFIED:20251116T202150Z
UID:10008986-1838485800-1838489400@philomathnews.com
SUMMARY:Philomath Evening Book Club
DESCRIPTION:The Philomath Evening Book Club meets at the Philomath Community Library on the first Tuesday of each month (unless noted). Copies of book club books are available monthly at the library; please ask at the front desk.
URL:https://philomathnews.com/event/philomath-evening-book-club/2028-04-04/
LOCATION:Philomath Community Library\, 1050 Applegate\, Philomath\, OR\, 97370
CATEGORIES:Library
ATTACH;FMTTYPE=image/jpeg:https://philomathnews.com/wp-content/uploads/2022/08/081522-library-file_7767-scaled.jpeg
END:VEVENT
BEGIN:VEVENT
DTSTART;TZID=America/Los_Angeles:20280405T103000
DTEND;TZID=America/Los_Angeles:20280405T110000
DTSTAMP:20260420T140720
CREATED:20251116T194546Z
LAST-MODIFIED:20251116T194634Z
UID:10008638-1838543400-1838545200@philomathnews.com
SUMMARY:Philomath Storytime at the Library
DESCRIPTION:Children of all ages and their families are invited to join us for an interactive storytime full of books\, songs\, and music.
URL:https://philomathnews.com/event/philomath-storytime-at-the-library/2028-04-05/
LOCATION:Philomath Community Library\, 1050 Applegate\, Philomath\, OR\, 97370
CATEGORIES:Library
ATTACH;FMTTYPE=image/jpeg:https://philomathnews.com/wp-content/uploads/2024/07/Calendar-Philomath-Community-Library.jpg
END:VEVENT
BEGIN:VEVENT
DTSTART;TZID=America/Los_Angeles:20280412T103000
DTEND;TZID=America/Los_Angeles:20280412T110000
DTSTAMP:20260420T140720
CREATED:20251116T194546Z
LAST-MODIFIED:20251116T194634Z
UID:10008639-1839148200-1839150000@philomathnews.com
SUMMARY:Philomath Storytime at the Library
DESCRIPTION:Children of all ages and their families are invited to join us for an interactive storytime full of books\, songs\, and music.
URL:https://philomathnews.com/event/philomath-storytime-at-the-library/2028-04-12/
LOCATION:Philomath Community Library\, 1050 Applegate\, Philomath\, OR\, 97370
CATEGORIES:Library
ATTACH;FMTTYPE=image/jpeg:https://philomathnews.com/wp-content/uploads/2024/07/Calendar-Philomath-Community-Library.jpg
END:VEVENT
BEGIN:VEVENT
DTSTART;TZID=America/Los_Angeles:20280412T110000
DTEND;TZID=America/Los_Angeles:20280412T120000
DTSTAMP:20260420T140720
CREATED:20251116T214126Z
LAST-MODIFIED:20251116T214126Z
UID:10009610-1839150000-1839153600@philomathnews.com
SUMMARY:Squishtivities at the Library
DESCRIPTION:Squishtivities by Strengthening Rural Families welcomes children and their families. Squishtivities is an adventure in play created especially for adults and their children using arts and crafts and “messy” play to promote problem-solving\, fine motor skills\, caregiver/child relationships\, and creativity.
URL:https://philomathnews.com/event/squishtivities-at-the-library/2028-04-12/
LOCATION:Philomath Community Library\, 1050 Applegate\, Philomath\, OR\, 97370
CATEGORIES:Library
ATTACH;FMTTYPE=image/jpeg:https://philomathnews.com/wp-content/uploads/2022/08/081522-library-file_7767-scaled.jpeg
END:VEVENT
BEGIN:VEVENT
DTSTART;TZID=America/Los_Angeles:20280418T153000
DTEND;TZID=America/Los_Angeles:20280418T163000
DTSTAMP:20260420T140720
CREATED:20251116T221714Z
LAST-MODIFIED:20251116T221714Z
UID:10009859-1839684600-1839688200@philomathnews.com
SUMMARY:READ Dogs at the Library
DESCRIPTION:Beginning readers are invited to practice reading in any language to a trained therapy Reading Education Assistance Dogs (READ Dogs) on the third Tuesday of the month. A permission form is required for children to participate and may be filled out on-site by parents/guardians. Limited spots are available on a first-come\, first-served basis.
URL:https://philomathnews.com/event/read-dogs-at-the-library/2028-04-18/
LOCATION:Philomath Community Library\, 1050 Applegate\, Philomath\, OR\, 97370
CATEGORIES:Library
ATTACH;FMTTYPE=image/jpeg:https://philomathnews.com/wp-content/uploads/2024/12/122724-READ-dogs_9187-scaled.jpg
END:VEVENT
BEGIN:VEVENT
DTSTART;TZID=America/Los_Angeles:20280419T103000
DTEND;TZID=America/Los_Angeles:20280419T110000
DTSTAMP:20260420T140720
CREATED:20251116T194546Z
LAST-MODIFIED:20251116T194634Z
UID:10008640-1839753000-1839754800@philomathnews.com
SUMMARY:Philomath Storytime at the Library
DESCRIPTION:Children of all ages and their families are invited to join us for an interactive storytime full of books\, songs\, and music.
URL:https://philomathnews.com/event/philomath-storytime-at-the-library/2028-04-19/
LOCATION:Philomath Community Library\, 1050 Applegate\, Philomath\, OR\, 97370
CATEGORIES:Library
ATTACH;FMTTYPE=image/jpeg:https://philomathnews.com/wp-content/uploads/2024/07/Calendar-Philomath-Community-Library.jpg
END:VEVENT
BEGIN:VEVENT
DTSTART;TZID=America/Los_Angeles:20280419T120000
DTEND;TZID=America/Los_Angeles:20280419T130000
DTSTAMP:20260420T140720
CREATED:20251116T222809Z
LAST-MODIFIED:20251116T222809Z
UID:10009979-1839758400-1839762000@philomathnews.com
SUMMARY:Wednesday Noon Book Club
DESCRIPTION:The Philomath Noon Book Club meets on the third Wednesday of the month at the Philomath Community Library. Copies of book club books are available each month at the library; please ask at the front desk.
URL:https://philomathnews.com/event/wednesday-noon-book-club/2028-04-19/
LOCATION:Philomath Community Library\, 1050 Applegate\, Philomath\, OR\, 97370
CATEGORIES:Library
ATTACH;FMTTYPE=image/jpeg:https://philomathnews.com/wp-content/uploads/2024/07/Calendar-Philomath-Community-Library.jpg
END:VEVENT
BEGIN:VEVENT
DTSTART;TZID=America/Los_Angeles:20280426T103000
DTEND;TZID=America/Los_Angeles:20280426T110000
DTSTAMP:20260420T140720
CREATED:20251116T194546Z
LAST-MODIFIED:20251116T194634Z
UID:10008641-1840357800-1840359600@philomathnews.com
SUMMARY:Philomath Storytime at the Library
DESCRIPTION:Children of all ages and their families are invited to join us for an interactive storytime full of books\, songs\, and music.
URL:https://philomathnews.com/event/philomath-storytime-at-the-library/2028-04-26/
LOCATION:Philomath Community Library\, 1050 Applegate\, Philomath\, OR\, 97370
CATEGORIES:Library
ATTACH;FMTTYPE=image/jpeg:https://philomathnews.com/wp-content/uploads/2024/07/Calendar-Philomath-Community-Library.jpg
END:VEVENT
BEGIN:VEVENT
DTSTART;TZID=America/Los_Angeles:20280426T110000
DTEND;TZID=America/Los_Angeles:20280426T114500
DTSTAMP:20260420T140720
CREATED:20251116T230448Z
LAST-MODIFIED:20251224T225635Z
UID:10010338-1840359600-1840362300@philomathnews.com
SUMMARY:Playtime at the Library
DESCRIPTION:Children and their adults are invited to a playtime immediately following storytime on the fourth Wednesday of every month. Adults may visit with each other while children play with the provided toys.
URL:https://philomathnews.com/event/playtime-at-the-library/2028-04-26/
LOCATION:Philomath Community Library\, 1050 Applegate\, Philomath\, OR\, 97370
CATEGORIES:Library
ATTACH;FMTTYPE=image/jpeg:https://philomathnews.com/wp-content/uploads/2022/08/081522-library-file_7767-scaled.jpeg
END:VEVENT
BEGIN:VEVENT
DTSTART;TZID=America/Los_Angeles:20280502T183000
DTEND;TZID=America/Los_Angeles:20280502T193000
DTSTAMP:20260420T140720
CREATED:20251116T202150Z
LAST-MODIFIED:20251116T202150Z
UID:10008987-1840905000-1840908600@philomathnews.com
SUMMARY:Philomath Evening Book Club
DESCRIPTION:The Philomath Evening Book Club meets at the Philomath Community Library on the first Tuesday of each month (unless noted). Copies of book club books are available monthly at the library; please ask at the front desk.
URL:https://philomathnews.com/event/philomath-evening-book-club/2028-05-02/
LOCATION:Philomath Community Library\, 1050 Applegate\, Philomath\, OR\, 97370
CATEGORIES:Library
ATTACH;FMTTYPE=image/jpeg:https://philomathnews.com/wp-content/uploads/2022/08/081522-library-file_7767-scaled.jpeg
END:VEVENT
BEGIN:VEVENT
DTSTART;TZID=America/Los_Angeles:20280503T103000
DTEND;TZID=America/Los_Angeles:20280503T110000
DTSTAMP:20260420T140720
CREATED:20251116T194546Z
LAST-MODIFIED:20251116T194634Z
UID:10008642-1840962600-1840964400@philomathnews.com
SUMMARY:Philomath Storytime at the Library
DESCRIPTION:Children of all ages and their families are invited to join us for an interactive storytime full of books\, songs\, and music.
URL:https://philomathnews.com/event/philomath-storytime-at-the-library/2028-05-03/
LOCATION:Philomath Community Library\, 1050 Applegate\, Philomath\, OR\, 97370
CATEGORIES:Library
ATTACH;FMTTYPE=image/jpeg:https://philomathnews.com/wp-content/uploads/2024/07/Calendar-Philomath-Community-Library.jpg
END:VEVENT
BEGIN:VEVENT
DTSTART;TZID=America/Los_Angeles:20280510T103000
DTEND;TZID=America/Los_Angeles:20280510T110000
DTSTAMP:20260420T140720
CREATED:20251116T194546Z
LAST-MODIFIED:20251116T194634Z
UID:10008643-1841567400-1841569200@philomathnews.com
SUMMARY:Philomath Storytime at the Library
DESCRIPTION:Children of all ages and their families are invited to join us for an interactive storytime full of books\, songs\, and music.
URL:https://philomathnews.com/event/philomath-storytime-at-the-library/2028-05-10/
LOCATION:Philomath Community Library\, 1050 Applegate\, Philomath\, OR\, 97370
CATEGORIES:Library
ATTACH;FMTTYPE=image/jpeg:https://philomathnews.com/wp-content/uploads/2024/07/Calendar-Philomath-Community-Library.jpg
END:VEVENT
BEGIN:VEVENT
DTSTART;TZID=America/Los_Angeles:20280510T110000
DTEND;TZID=America/Los_Angeles:20280510T120000
DTSTAMP:20260420T140720
CREATED:20251116T214126Z
LAST-MODIFIED:20251116T214126Z
UID:10009611-1841569200-1841572800@philomathnews.com
SUMMARY:Squishtivities at the Library
DESCRIPTION:Squishtivities by Strengthening Rural Families welcomes children and their families. Squishtivities is an adventure in play created especially for adults and their children using arts and crafts and “messy” play to promote problem-solving\, fine motor skills\, caregiver/child relationships\, and creativity.
URL:https://philomathnews.com/event/squishtivities-at-the-library/2028-05-10/
LOCATION:Philomath Community Library\, 1050 Applegate\, Philomath\, OR\, 97370
CATEGORIES:Library
ATTACH;FMTTYPE=image/jpeg:https://philomathnews.com/wp-content/uploads/2022/08/081522-library-file_7767-scaled.jpeg
END:VEVENT
BEGIN:VEVENT
DTSTART;TZID=America/Los_Angeles:20280516T153000
DTEND;TZID=America/Los_Angeles:20280516T163000
DTSTAMP:20260420T140720
CREATED:20251116T221714Z
LAST-MODIFIED:20251116T221714Z
UID:10009860-1842103800-1842107400@philomathnews.com
SUMMARY:READ Dogs at the Library
DESCRIPTION:Beginning readers are invited to practice reading in any language to a trained therapy Reading Education Assistance Dogs (READ Dogs) on the third Tuesday of the month. A permission form is required for children to participate and may be filled out on-site by parents/guardians. Limited spots are available on a first-come\, first-served basis.
URL:https://philomathnews.com/event/read-dogs-at-the-library/2028-05-16/
LOCATION:Philomath Community Library\, 1050 Applegate\, Philomath\, OR\, 97370
CATEGORIES:Library
ATTACH;FMTTYPE=image/jpeg:https://philomathnews.com/wp-content/uploads/2024/12/122724-READ-dogs_9187-scaled.jpg
END:VEVENT
END:VCALENDAR