BEGIN:VCALENDAR
VERSION:2.0
PRODID:-//Philomath News - ECPv6.15.20//NONSGML v1.0//EN
CALSCALE:GREGORIAN
METHOD:PUBLISH
X-WR-CALNAME:Philomath News
X-ORIGINAL-URL:https://philomathnews.com
X-WR-CALDESC:Events for Philomath News
REFRESH-INTERVAL;VALUE=DURATION:PT1H
X-Robots-Tag:noindex
X-PUBLISHED-TTL:PT1H
BEGIN:VTIMEZONE
TZID:America/Los_Angeles
BEGIN:DAYLIGHT
TZOFFSETFROM:-0800
TZOFFSETTO:-0700
TZNAME:PDT
DTSTART:20240310T100000
END:DAYLIGHT
BEGIN:STANDARD
TZOFFSETFROM:-0700
TZOFFSETTO:-0800
TZNAME:PST
DTSTART:20241103T090000
END:STANDARD
BEGIN:DAYLIGHT
TZOFFSETFROM:-0800
TZOFFSETTO:-0700
TZNAME:PDT
DTSTART:20250309T100000
END:DAYLIGHT
BEGIN:STANDARD
TZOFFSETFROM:-0700
TZOFFSETTO:-0800
TZNAME:PST
DTSTART:20251102T090000
END:STANDARD
BEGIN:DAYLIGHT
TZOFFSETFROM:-0800
TZOFFSETTO:-0700
TZNAME:PDT
DTSTART:20260308T100000
END:DAYLIGHT
BEGIN:STANDARD
TZOFFSETFROM:-0700
TZOFFSETTO:-0800
TZNAME:PST
DTSTART:20261101T090000
END:STANDARD
BEGIN:DAYLIGHT
TZOFFSETFROM:-0800
TZOFFSETTO:-0700
TZNAME:PDT
DTSTART:20270314T100000
END:DAYLIGHT
BEGIN:STANDARD
TZOFFSETFROM:-0700
TZOFFSETTO:-0800
TZNAME:PST
DTSTART:20271107T090000
END:STANDARD
END:VTIMEZONE
BEGIN:VEVENT
DTSTART;TZID=America/Los_Angeles:20260414T180000
DTEND;TZID=America/Los_Angeles:20260414T190000
DTSTAMP:20260419T055632
CREATED:20251116T192954Z
LAST-MODIFIED:20251116T193042Z
UID:10008012-1776189600-1776193200@philomathnews.com
SUMMARY:Philomath Community Meal
DESCRIPTION:Free meal and fellowship — everyone welcome! Live music\, prayer room\, delicious meal. Sponsored by Philomath Area Churches.
URL:https://philomathnews.com/event/philomath-community-meal/2026-04-14/
LOCATION:College United Methodist Church\, 1123 Main St.\, Philomath\, OR\, 97370
CATEGORIES:Community
ATTACH;FMTTYPE=image/jpeg:https://philomathnews.com/wp-content/uploads/2024/11/112424-community-dinner-sign_256.jpg
ORGANIZER;CN="College United Methodist Church":MAILTO:collegeumc@gmail.com
END:VEVENT
BEGIN:VEVENT
DTSTART;TZID=America/Los_Angeles:20260407T180000
DTEND;TZID=America/Los_Angeles:20260407T190000
DTSTAMP:20260419T055632
CREATED:20251116T192954Z
LAST-MODIFIED:20251116T193042Z
UID:10008011-1775584800-1775588400@philomathnews.com
SUMMARY:Philomath Community Meal
DESCRIPTION:Free meal and fellowship — everyone welcome! Live music\, prayer room\, delicious meal. Sponsored by Philomath Area Churches.
URL:https://philomathnews.com/event/philomath-community-meal/2026-04-07/
LOCATION:College United Methodist Church\, 1123 Main St.\, Philomath\, OR\, 97370
CATEGORIES:Community
ATTACH;FMTTYPE=image/jpeg:https://philomathnews.com/wp-content/uploads/2024/11/112424-community-dinner-sign_256.jpg
ORGANIZER;CN="College United Methodist Church":MAILTO:collegeumc@gmail.com
END:VEVENT
BEGIN:VEVENT
DTSTART;TZID=America/Los_Angeles:20260403T170000
DTEND;TZID=America/Los_Angeles:20260403T190000
DTSTAMP:20260419T055632
CREATED:20260323T153120Z
LAST-MODIFIED:20260323T153120Z
UID:10011835-1775235600-1775242800@philomathnews.com
SUMMARY:Spaghetti Dinner at College United Methodist Church
DESCRIPTION:The College United Methodist Church will offer its annual spaghetti dinner from 5-7 p.m. Friday\, April 3 in the building’s social hall. The spaghetti dinner replaces the usual omelet dinner\, which will return in May. The meal cost $9 for adults\, $5 for children ages 3-8. See the event’s flyer here.
URL:https://philomathnews.com/event/spaghetti-dinner-at-college-united-methodist-church/
LOCATION:College United Methodist Church\, 1123 Main St.\, Philomath\, OR\, 97370
CATEGORIES:Churches
ATTACH;FMTTYPE=image/jpeg:https://philomathnews.com/wp-content/uploads/2023/04/College-United-Methodist-Church3-2020.jpg
ORGANIZER;CN="College United Methodist Church":MAILTO:collegeumc@gmail.com
END:VEVENT
BEGIN:VEVENT
DTSTART;TZID=America/Los_Angeles:20260331T180000
DTEND;TZID=America/Los_Angeles:20260331T190000
DTSTAMP:20260419T055632
CREATED:20251116T192954Z
LAST-MODIFIED:20251116T193042Z
UID:10008010-1774980000-1774983600@philomathnews.com
SUMMARY:Philomath Community Meal
DESCRIPTION:Free meal and fellowship — everyone welcome! Live music\, prayer room\, delicious meal. Sponsored by Philomath Area Churches.
URL:https://philomathnews.com/event/philomath-community-meal/2026-03-31/
LOCATION:College United Methodist Church\, 1123 Main St.\, Philomath\, OR\, 97370
CATEGORIES:Community
ATTACH;FMTTYPE=image/jpeg:https://philomathnews.com/wp-content/uploads/2024/11/112424-community-dinner-sign_256.jpg
ORGANIZER;CN="College United Methodist Church":MAILTO:collegeumc@gmail.com
END:VEVENT
BEGIN:VEVENT
DTSTART;TZID=America/Los_Angeles:20260324T180000
DTEND;TZID=America/Los_Angeles:20260324T190000
DTSTAMP:20260419T055632
CREATED:20251116T192954Z
LAST-MODIFIED:20251116T193042Z
UID:10008009-1774375200-1774378800@philomathnews.com
SUMMARY:Philomath Community Meal
DESCRIPTION:Free meal and fellowship — everyone welcome! Live music\, prayer room\, delicious meal. Sponsored by Philomath Area Churches.
URL:https://philomathnews.com/event/philomath-community-meal/2026-03-24/
LOCATION:College United Methodist Church\, 1123 Main St.\, Philomath\, OR\, 97370
CATEGORIES:Community
ATTACH;FMTTYPE=image/jpeg:https://philomathnews.com/wp-content/uploads/2024/11/112424-community-dinner-sign_256.jpg
ORGANIZER;CN="College United Methodist Church":MAILTO:collegeumc@gmail.com
END:VEVENT
BEGIN:VEVENT
DTSTART;TZID=America/Los_Angeles:20260317T180000
DTEND;TZID=America/Los_Angeles:20260317T190000
DTSTAMP:20260419T055632
CREATED:20251116T192954Z
LAST-MODIFIED:20251116T193042Z
UID:10008008-1773770400-1773774000@philomathnews.com
SUMMARY:Philomath Community Meal
DESCRIPTION:Free meal and fellowship — everyone welcome! Live music\, prayer room\, delicious meal. Sponsored by Philomath Area Churches.
URL:https://philomathnews.com/event/philomath-community-meal/2026-03-17/
LOCATION:College United Methodist Church\, 1123 Main St.\, Philomath\, OR\, 97370
CATEGORIES:Community
ATTACH;FMTTYPE=image/jpeg:https://philomathnews.com/wp-content/uploads/2024/11/112424-community-dinner-sign_256.jpg
ORGANIZER;CN="College United Methodist Church":MAILTO:collegeumc@gmail.com
END:VEVENT
BEGIN:VEVENT
DTSTART;TZID=America/Los_Angeles:20260310T180000
DTEND;TZID=America/Los_Angeles:20260310T190000
DTSTAMP:20260419T055632
CREATED:20251116T192954Z
LAST-MODIFIED:20251116T193042Z
UID:10008007-1773165600-1773169200@philomathnews.com
SUMMARY:Philomath Community Meal
DESCRIPTION:Free meal and fellowship — everyone welcome! Live music\, prayer room\, delicious meal. Sponsored by Philomath Area Churches.
URL:https://philomathnews.com/event/philomath-community-meal/2026-03-10/
LOCATION:College United Methodist Church\, 1123 Main St.\, Philomath\, OR\, 97370
CATEGORIES:Community
ATTACH;FMTTYPE=image/jpeg:https://philomathnews.com/wp-content/uploads/2024/11/112424-community-dinner-sign_256.jpg
ORGANIZER;CN="College United Methodist Church":MAILTO:collegeumc@gmail.com
END:VEVENT
BEGIN:VEVENT
DTSTART;TZID=America/Los_Angeles:20260306T170000
DTEND;TZID=America/Los_Angeles:20260306T190000
DTSTAMP:20260419T055632
CREATED:20251116T211625Z
LAST-MODIFIED:20251116T211823Z
UID:10009403-1772816400-1772823600@philomathnews.com
SUMMARY:Omelet Dinner at College United Methodist Church
DESCRIPTION:Held the first Friday of each month (excluding July and August)\, the dinner began in 1987 as a means of funding parsonage property taxes. Dinners are open to the public. The meal consists of an omelet (made while you watch) with your choice of fillings (ham\, green onion\, green peppers\, mushrooms\, cheddar and/or Jack cheese)\, homemade scones\, fresh fruit and a beverage. If you are real hungry\, sausage gravy and scones are available for purchase. Homemade desserts can be enjoyed for a donation.\n\n\nIn April\, omelets are replaced with our annual Spaghetti Dinner. The meal includes spaghetti\, bread\, salad and a beverage. Delicious\, homemade desserts will be available for a donation. (Same time\, same place — Social Hall from 5-7 PM)
URL:https://philomathnews.com/event/omelet-dinner-at-college-united-methodist-church/2026-03-06/
LOCATION:College United Methodist Church\, 1123 Main St.\, Philomath\, OR\, 97370
CATEGORIES:Community
ATTACH;FMTTYPE=image/jpeg:https://philomathnews.com/wp-content/uploads/2020/11/College-United-Methodist-Church3-2020.jpg
ORGANIZER;CN="College United Methodist Church":MAILTO:collegeumc@gmail.com
END:VEVENT
BEGIN:VEVENT
DTSTART;TZID=America/Los_Angeles:20260303T180000
DTEND;TZID=America/Los_Angeles:20260303T190000
DTSTAMP:20260419T055632
CREATED:20251116T192954Z
LAST-MODIFIED:20251116T193042Z
UID:10008006-1772560800-1772564400@philomathnews.com
SUMMARY:Philomath Community Meal
DESCRIPTION:Free meal and fellowship — everyone welcome! Live music\, prayer room\, delicious meal. Sponsored by Philomath Area Churches.
URL:https://philomathnews.com/event/philomath-community-meal/2026-03-03/
LOCATION:College United Methodist Church\, 1123 Main St.\, Philomath\, OR\, 97370
CATEGORIES:Community
ATTACH;FMTTYPE=image/jpeg:https://philomathnews.com/wp-content/uploads/2024/11/112424-community-dinner-sign_256.jpg
ORGANIZER;CN="College United Methodist Church":MAILTO:collegeumc@gmail.com
END:VEVENT
BEGIN:VEVENT
DTSTART;TZID=America/Los_Angeles:20260224T180000
DTEND;TZID=America/Los_Angeles:20260224T190000
DTSTAMP:20260419T055632
CREATED:20251116T192954Z
LAST-MODIFIED:20251116T193042Z
UID:10008005-1771956000-1771959600@philomathnews.com
SUMMARY:Philomath Community Meal
DESCRIPTION:Free meal and fellowship — everyone welcome! Live music\, prayer room\, delicious meal. Sponsored by Philomath Area Churches.
URL:https://philomathnews.com/event/philomath-community-meal/2026-02-24/
LOCATION:College United Methodist Church\, 1123 Main St.\, Philomath\, OR\, 97370
CATEGORIES:Community
ATTACH;FMTTYPE=image/jpeg:https://philomathnews.com/wp-content/uploads/2024/11/112424-community-dinner-sign_256.jpg
ORGANIZER;CN="College United Methodist Church":MAILTO:collegeumc@gmail.com
END:VEVENT
BEGIN:VEVENT
DTSTART;TZID=America/Los_Angeles:20260217T180000
DTEND;TZID=America/Los_Angeles:20260217T190000
DTSTAMP:20260419T055632
CREATED:20251116T192954Z
LAST-MODIFIED:20251116T193042Z
UID:10008004-1771351200-1771354800@philomathnews.com
SUMMARY:Philomath Community Meal
DESCRIPTION:Free meal and fellowship — everyone welcome! Live music\, prayer room\, delicious meal. Sponsored by Philomath Area Churches.
URL:https://philomathnews.com/event/philomath-community-meal/2026-02-17/
LOCATION:College United Methodist Church\, 1123 Main St.\, Philomath\, OR\, 97370
CATEGORIES:Community
ATTACH;FMTTYPE=image/jpeg:https://philomathnews.com/wp-content/uploads/2024/11/112424-community-dinner-sign_256.jpg
ORGANIZER;CN="College United Methodist Church":MAILTO:collegeumc@gmail.com
END:VEVENT
BEGIN:VEVENT
DTSTART;TZID=America/Los_Angeles:20260210T180000
DTEND;TZID=America/Los_Angeles:20260210T190000
DTSTAMP:20260419T055632
CREATED:20251116T192954Z
LAST-MODIFIED:20251116T193042Z
UID:10008003-1770746400-1770750000@philomathnews.com
SUMMARY:Philomath Community Meal
DESCRIPTION:Free meal and fellowship — everyone welcome! Live music\, prayer room\, delicious meal. Sponsored by Philomath Area Churches.
URL:https://philomathnews.com/event/philomath-community-meal/2026-02-10/
LOCATION:College United Methodist Church\, 1123 Main St.\, Philomath\, OR\, 97370
CATEGORIES:Community
ATTACH;FMTTYPE=image/jpeg:https://philomathnews.com/wp-content/uploads/2024/11/112424-community-dinner-sign_256.jpg
ORGANIZER;CN="College United Methodist Church":MAILTO:collegeumc@gmail.com
END:VEVENT
BEGIN:VEVENT
DTSTART;TZID=America/Los_Angeles:20260206T170000
DTEND;TZID=America/Los_Angeles:20260206T190000
DTSTAMP:20260419T055632
CREATED:20251116T211625Z
LAST-MODIFIED:20251116T211823Z
UID:10009402-1770397200-1770404400@philomathnews.com
SUMMARY:Omelet Dinner at College United Methodist Church
DESCRIPTION:Held the first Friday of each month (excluding July and August)\, the dinner began in 1987 as a means of funding parsonage property taxes. Dinners are open to the public. The meal consists of an omelet (made while you watch) with your choice of fillings (ham\, green onion\, green peppers\, mushrooms\, cheddar and/or Jack cheese)\, homemade scones\, fresh fruit and a beverage. If you are real hungry\, sausage gravy and scones are available for purchase. Homemade desserts can be enjoyed for a donation.\n\n\nIn April\, omelets are replaced with our annual Spaghetti Dinner. The meal includes spaghetti\, bread\, salad and a beverage. Delicious\, homemade desserts will be available for a donation. (Same time\, same place — Social Hall from 5-7 PM)
URL:https://philomathnews.com/event/omelet-dinner-at-college-united-methodist-church/2026-02-06/
LOCATION:College United Methodist Church\, 1123 Main St.\, Philomath\, OR\, 97370
CATEGORIES:Community
ATTACH;FMTTYPE=image/jpeg:https://philomathnews.com/wp-content/uploads/2020/11/College-United-Methodist-Church3-2020.jpg
ORGANIZER;CN="College United Methodist Church":MAILTO:collegeumc@gmail.com
END:VEVENT
BEGIN:VEVENT
DTSTART;TZID=America/Los_Angeles:20260203T180000
DTEND;TZID=America/Los_Angeles:20260203T190000
DTSTAMP:20260419T055632
CREATED:20251116T192954Z
LAST-MODIFIED:20251116T193042Z
UID:10008002-1770141600-1770145200@philomathnews.com
SUMMARY:Philomath Community Meal
DESCRIPTION:Free meal and fellowship — everyone welcome! Live music\, prayer room\, delicious meal. Sponsored by Philomath Area Churches.
URL:https://philomathnews.com/event/philomath-community-meal/2026-02-03/
LOCATION:College United Methodist Church\, 1123 Main St.\, Philomath\, OR\, 97370
CATEGORIES:Community
ATTACH;FMTTYPE=image/jpeg:https://philomathnews.com/wp-content/uploads/2024/11/112424-community-dinner-sign_256.jpg
ORGANIZER;CN="College United Methodist Church":MAILTO:collegeumc@gmail.com
END:VEVENT
BEGIN:VEVENT
DTSTART;TZID=America/Los_Angeles:20260127T180000
DTEND;TZID=America/Los_Angeles:20260127T190000
DTSTAMP:20260419T055632
CREATED:20251116T192954Z
LAST-MODIFIED:20251116T193042Z
UID:10008001-1769536800-1769540400@philomathnews.com
SUMMARY:Philomath Community Meal
DESCRIPTION:Free meal and fellowship — everyone welcome! Live music\, prayer room\, delicious meal. Sponsored by Philomath Area Churches.
URL:https://philomathnews.com/event/philomath-community-meal/2026-01-27/
LOCATION:College United Methodist Church\, 1123 Main St.\, Philomath\, OR\, 97370
CATEGORIES:Community
ATTACH;FMTTYPE=image/jpeg:https://philomathnews.com/wp-content/uploads/2024/11/112424-community-dinner-sign_256.jpg
ORGANIZER;CN="College United Methodist Church":MAILTO:collegeumc@gmail.com
END:VEVENT
BEGIN:VEVENT
DTSTART;TZID=America/Los_Angeles:20260120T180000
DTEND;TZID=America/Los_Angeles:20260120T190000
DTSTAMP:20260419T055632
CREATED:20251116T192954Z
LAST-MODIFIED:20251116T193042Z
UID:10008000-1768932000-1768935600@philomathnews.com
SUMMARY:Philomath Community Meal
DESCRIPTION:Free meal and fellowship — everyone welcome! Live music\, prayer room\, delicious meal. Sponsored by Philomath Area Churches.
URL:https://philomathnews.com/event/philomath-community-meal/2026-01-20/
LOCATION:College United Methodist Church\, 1123 Main St.\, Philomath\, OR\, 97370
CATEGORIES:Community
ATTACH;FMTTYPE=image/jpeg:https://philomathnews.com/wp-content/uploads/2024/11/112424-community-dinner-sign_256.jpg
ORGANIZER;CN="College United Methodist Church":MAILTO:collegeumc@gmail.com
END:VEVENT
BEGIN:VEVENT
DTSTART;TZID=America/Los_Angeles:20260113T180000
DTEND;TZID=America/Los_Angeles:20260113T190000
DTSTAMP:20260419T055632
CREATED:20251116T192954Z
LAST-MODIFIED:20251116T193042Z
UID:10007999-1768327200-1768330800@philomathnews.com
SUMMARY:Philomath Community Meal
DESCRIPTION:Free meal and fellowship — everyone welcome! Live music\, prayer room\, delicious meal. Sponsored by Philomath Area Churches.
URL:https://philomathnews.com/event/philomath-community-meal/2026-01-13/
LOCATION:College United Methodist Church\, 1123 Main St.\, Philomath\, OR\, 97370
CATEGORIES:Community
ATTACH;FMTTYPE=image/jpeg:https://philomathnews.com/wp-content/uploads/2024/11/112424-community-dinner-sign_256.jpg
ORGANIZER;CN="College United Methodist Church":MAILTO:collegeumc@gmail.com
END:VEVENT
BEGIN:VEVENT
DTSTART;TZID=America/Los_Angeles:20260106T180000
DTEND;TZID=America/Los_Angeles:20260106T190000
DTSTAMP:20260419T055632
CREATED:20251116T192954Z
LAST-MODIFIED:20251116T193042Z
UID:10007998-1767722400-1767726000@philomathnews.com
SUMMARY:Philomath Community Meal
DESCRIPTION:Free meal and fellowship — everyone welcome! Live music\, prayer room\, delicious meal. Sponsored by Philomath Area Churches.
URL:https://philomathnews.com/event/philomath-community-meal/2026-01-06/
LOCATION:College United Methodist Church\, 1123 Main St.\, Philomath\, OR\, 97370
CATEGORIES:Community
ATTACH;FMTTYPE=image/jpeg:https://philomathnews.com/wp-content/uploads/2024/11/112424-community-dinner-sign_256.jpg
ORGANIZER;CN="College United Methodist Church":MAILTO:collegeumc@gmail.com
END:VEVENT
BEGIN:VEVENT
DTSTART;TZID=America/Los_Angeles:20260102T170000
DTEND;TZID=America/Los_Angeles:20260102T190000
DTSTAMP:20260419T055632
CREATED:20251116T211625Z
LAST-MODIFIED:20251116T211823Z
UID:10009401-1767373200-1767380400@philomathnews.com
SUMMARY:Omelet Dinner at College United Methodist Church
DESCRIPTION:Held the first Friday of each month (excluding July and August)\, the dinner began in 1987 as a means of funding parsonage property taxes. Dinners are open to the public. The meal consists of an omelet (made while you watch) with your choice of fillings (ham\, green onion\, green peppers\, mushrooms\, cheddar and/or Jack cheese)\, homemade scones\, fresh fruit and a beverage. If you are real hungry\, sausage gravy and scones are available for purchase. Homemade desserts can be enjoyed for a donation.\n\n\nIn April\, omelets are replaced with our annual Spaghetti Dinner. The meal includes spaghetti\, bread\, salad and a beverage. Delicious\, homemade desserts will be available for a donation. (Same time\, same place — Social Hall from 5-7 PM)
URL:https://philomathnews.com/event/omelet-dinner-at-college-united-methodist-church/2026-01-02/
LOCATION:College United Methodist Church\, 1123 Main St.\, Philomath\, OR\, 97370
CATEGORIES:Community
ATTACH;FMTTYPE=image/jpeg:https://philomathnews.com/wp-content/uploads/2020/11/College-United-Methodist-Church3-2020.jpg
ORGANIZER;CN="College United Methodist Church":MAILTO:collegeumc@gmail.com
END:VEVENT
BEGIN:VEVENT
DTSTART;TZID=America/Los_Angeles:20251230T180000
DTEND;TZID=America/Los_Angeles:20251230T190000
DTSTAMP:20260419T055632
CREATED:20251116T192954Z
LAST-MODIFIED:20251116T193042Z
UID:10007997-1767117600-1767121200@philomathnews.com
SUMMARY:Philomath Community Meal
DESCRIPTION:Free meal and fellowship — everyone welcome! Live music\, prayer room\, delicious meal. Sponsored by Philomath Area Churches.
URL:https://philomathnews.com/event/philomath-community-meal/2025-12-30/
LOCATION:College United Methodist Church\, 1123 Main St.\, Philomath\, OR\, 97370
CATEGORIES:Community
ATTACH;FMTTYPE=image/jpeg:https://philomathnews.com/wp-content/uploads/2024/11/112424-community-dinner-sign_256.jpg
ORGANIZER;CN="College United Methodist Church":MAILTO:collegeumc@gmail.com
END:VEVENT
BEGIN:VEVENT
DTSTART;TZID=America/Los_Angeles:20251224T190000
DTEND;TZID=America/Los_Angeles:20251224T190000
DTSTAMP:20260419T055632
CREATED:20251125T235513Z
LAST-MODIFIED:20251125T235654Z
UID:10010513-1766602800-1766602800@philomathnews.com
SUMMARY:Christmas Eve Candlelight Service at College United Methodist Church
DESCRIPTION:The College United Methodist Church will host its Christmas Eve Candlelight Service at 7 p.m. Wednesday\, Dec. 24.
URL:https://philomathnews.com/event/christmas-eve-candlelight-service-at-college-united-methodist-church/
LOCATION:College United Methodist Church\, 1123 Main St.\, Philomath\, OR\, 97370
CATEGORIES:Churches
ATTACH;FMTTYPE=image/jpeg:https://philomathnews.com/wp-content/uploads/2023/04/College-United-Methodist-Church3-2020.jpg
ORGANIZER;CN="College United Methodist Church":MAILTO:collegeumc@gmail.com
END:VEVENT
BEGIN:VEVENT
DTSTART;TZID=America/Los_Angeles:20251223T180000
DTEND;TZID=America/Los_Angeles:20251223T190000
DTSTAMP:20260419T055632
CREATED:20251116T192954Z
LAST-MODIFIED:20251116T193042Z
UID:10007996-1766512800-1766516400@philomathnews.com
SUMMARY:Philomath Community Meal
DESCRIPTION:Free meal and fellowship — everyone welcome! Live music\, prayer room\, delicious meal. Sponsored by Philomath Area Churches.
URL:https://philomathnews.com/event/philomath-community-meal/2025-12-23/
LOCATION:College United Methodist Church\, 1123 Main St.\, Philomath\, OR\, 97370
CATEGORIES:Community
ATTACH;FMTTYPE=image/jpeg:https://philomathnews.com/wp-content/uploads/2024/11/112424-community-dinner-sign_256.jpg
ORGANIZER;CN="College United Methodist Church":MAILTO:collegeumc@gmail.com
END:VEVENT
BEGIN:VEVENT
DTSTART;TZID=America/Los_Angeles:20251216T180000
DTEND;TZID=America/Los_Angeles:20251216T190000
DTSTAMP:20260419T055632
CREATED:20251116T192954Z
LAST-MODIFIED:20251116T193042Z
UID:10007995-1765908000-1765911600@philomathnews.com
SUMMARY:Philomath Community Meal
DESCRIPTION:Free meal and fellowship — everyone welcome! Live music\, prayer room\, delicious meal. Sponsored by Philomath Area Churches.
URL:https://philomathnews.com/event/philomath-community-meal/2025-12-16/
LOCATION:College United Methodist Church\, 1123 Main St.\, Philomath\, OR\, 97370
CATEGORIES:Community
ATTACH;FMTTYPE=image/jpeg:https://philomathnews.com/wp-content/uploads/2024/11/112424-community-dinner-sign_256.jpg
ORGANIZER;CN="College United Methodist Church":MAILTO:collegeumc@gmail.com
END:VEVENT
BEGIN:VEVENT
DTSTART;TZID=America/Los_Angeles:20251209T180000
DTEND;TZID=America/Los_Angeles:20251209T190000
DTSTAMP:20260419T055632
CREATED:20251116T192954Z
LAST-MODIFIED:20251116T193042Z
UID:10007994-1765303200-1765306800@philomathnews.com
SUMMARY:Philomath Community Meal
DESCRIPTION:Free meal and fellowship — everyone welcome! Live music\, prayer room\, delicious meal. Sponsored by Philomath Area Churches.
URL:https://philomathnews.com/event/philomath-community-meal/2025-12-09/
LOCATION:College United Methodist Church\, 1123 Main St.\, Philomath\, OR\, 97370
CATEGORIES:Community
ATTACH;FMTTYPE=image/jpeg:https://philomathnews.com/wp-content/uploads/2024/11/112424-community-dinner-sign_256.jpg
ORGANIZER;CN="College United Methodist Church":MAILTO:collegeumc@gmail.com
END:VEVENT
BEGIN:VEVENT
DTSTART;TZID=America/Los_Angeles:20251207T103000
DTEND;TZID=America/Los_Angeles:20251207T103000
DTSTAMP:20260419T055632
CREATED:20251125T235243Z
LAST-MODIFIED:20251125T235243Z
UID:10010512-1765103400-1765103400@philomathnews.com
SUMMARY:Holy Communion at College United Methodist Church
DESCRIPTION:The College United Methodist Church will hold Holy Communion on Sunday\, Dec. 7\, at 10:30 a.m.
URL:https://philomathnews.com/event/holy-communion-at-college-united-methodist-church/
LOCATION:College United Methodist Church\, 1123 Main St.\, Philomath\, OR\, 97370
CATEGORIES:Churches
ATTACH;FMTTYPE=image/jpeg:https://philomathnews.com/wp-content/uploads/2023/04/College-United-Methodist-Church3-2020.jpg
ORGANIZER;CN="College United Methodist Church":MAILTO:collegeumc@gmail.com
END:VEVENT
BEGIN:VEVENT
DTSTART;TZID=America/Los_Angeles:20251205T170000
DTEND;TZID=America/Los_Angeles:20251205T190000
DTSTAMP:20260419T055632
CREATED:20251116T211625Z
LAST-MODIFIED:20251116T211823Z
UID:10009400-1764954000-1764961200@philomathnews.com
SUMMARY:Omelet Dinner at College United Methodist Church
DESCRIPTION:Held the first Friday of each month (excluding July and August)\, the dinner began in 1987 as a means of funding parsonage property taxes. Dinners are open to the public. The meal consists of an omelet (made while you watch) with your choice of fillings (ham\, green onion\, green peppers\, mushrooms\, cheddar and/or Jack cheese)\, homemade scones\, fresh fruit and a beverage. If you are real hungry\, sausage gravy and scones are available for purchase. Homemade desserts can be enjoyed for a donation.\n\n\nIn April\, omelets are replaced with our annual Spaghetti Dinner. The meal includes spaghetti\, bread\, salad and a beverage. Delicious\, homemade desserts will be available for a donation. (Same time\, same place — Social Hall from 5-7 PM)
URL:https://philomathnews.com/event/omelet-dinner-at-college-united-methodist-church/2025-12-05/
LOCATION:College United Methodist Church\, 1123 Main St.\, Philomath\, OR\, 97370
CATEGORIES:Community
ATTACH;FMTTYPE=image/jpeg:https://philomathnews.com/wp-content/uploads/2020/11/College-United-Methodist-Church3-2020.jpg
ORGANIZER;CN="College United Methodist Church":MAILTO:collegeumc@gmail.com
END:VEVENT
BEGIN:VEVENT
DTSTART;TZID=America/Los_Angeles:20251202T180000
DTEND;TZID=America/Los_Angeles:20251202T190000
DTSTAMP:20260419T055632
CREATED:20251116T192954Z
LAST-MODIFIED:20251116T193042Z
UID:10007993-1764698400-1764702000@philomathnews.com
SUMMARY:Philomath Community Meal
DESCRIPTION:Free meal and fellowship — everyone welcome! Live music\, prayer room\, delicious meal. Sponsored by Philomath Area Churches.
URL:https://philomathnews.com/event/philomath-community-meal/2025-12-02/
LOCATION:College United Methodist Church\, 1123 Main St.\, Philomath\, OR\, 97370
CATEGORIES:Community
ATTACH;FMTTYPE=image/jpeg:https://philomathnews.com/wp-content/uploads/2024/11/112424-community-dinner-sign_256.jpg
ORGANIZER;CN="College United Methodist Church":MAILTO:collegeumc@gmail.com
END:VEVENT
BEGIN:VEVENT
DTSTART;TZID=America/Los_Angeles:20251130T103000
DTEND;TZID=America/Los_Angeles:20251130T103000
DTSTAMP:20260419T055632
CREATED:20251125T235044Z
LAST-MODIFIED:20251125T235044Z
UID:10010511-1764498600-1764498600@philomathnews.com
SUMMARY:Special Advent Worship Service at College United Methodist Church
DESCRIPTION:The College United Methodist Church will hold its Special Advent Worship Service on Sunday\, Nov. 30\, at 10:30 a.m. The service marks the beginning of the Advent season\, the four-week period of preparation leading up to Christmas. The church is located at 1123 Main St.
URL:https://philomathnews.com/event/special-advent-worship-service-at-college-united-methodist-church/
LOCATION:College United Methodist Church\, 1123 Main St.\, Philomath\, OR\, 97370
CATEGORIES:Churches
ATTACH;FMTTYPE=image/jpeg:https://philomathnews.com/wp-content/uploads/2023/04/College-United-Methodist-Church3-2020.jpg
ORGANIZER;CN="College United Methodist Church":MAILTO:collegeumc@gmail.com
END:VEVENT
BEGIN:VEVENT
DTSTART;TZID=America/Los_Angeles:20251125T180000
DTEND;TZID=America/Los_Angeles:20251125T190000
DTSTAMP:20260419T055632
CREATED:20251116T192954Z
LAST-MODIFIED:20251116T193042Z
UID:10007992-1764093600-1764097200@philomathnews.com
SUMMARY:Philomath Community Meal
DESCRIPTION:Free meal and fellowship — everyone welcome! Live music\, prayer room\, delicious meal. Sponsored by Philomath Area Churches.
URL:https://philomathnews.com/event/philomath-community-meal/2025-11-25/
LOCATION:College United Methodist Church\, 1123 Main St.\, Philomath\, OR\, 97370
CATEGORIES:Community
ATTACH;FMTTYPE=image/jpeg:https://philomathnews.com/wp-content/uploads/2024/11/112424-community-dinner-sign_256.jpg
ORGANIZER;CN="College United Methodist Church":MAILTO:collegeumc@gmail.com
END:VEVENT
BEGIN:VEVENT
DTSTART;TZID=America/Los_Angeles:20251118T180000
DTEND;TZID=America/Los_Angeles:20251118T190000
DTSTAMP:20260419T055632
CREATED:20251116T192954Z
LAST-MODIFIED:20251116T193042Z
UID:10007991-1763488800-1763492400@philomathnews.com
SUMMARY:Philomath Community Meal
DESCRIPTION:Free meal and fellowship — everyone welcome! Live music\, prayer room\, delicious meal. Sponsored by Philomath Area Churches.
URL:https://philomathnews.com/event/philomath-community-meal/2025-11-18/
LOCATION:College United Methodist Church\, 1123 Main St.\, Philomath\, OR\, 97370
CATEGORIES:Community
ATTACH;FMTTYPE=image/jpeg:https://philomathnews.com/wp-content/uploads/2024/11/112424-community-dinner-sign_256.jpg
ORGANIZER;CN="College United Methodist Church":MAILTO:collegeumc@gmail.com
END:VEVENT
END:VCALENDAR