BEGIN:VCALENDAR
VERSION:2.0
PRODID:-//Philomath News - ECPv6.15.20//NONSGML v1.0//EN
CALSCALE:GREGORIAN
METHOD:PUBLISH
X-ORIGINAL-URL:https://philomathnews.com
X-WR-CALDESC:Events for Philomath News
REFRESH-INTERVAL;VALUE=DURATION:PT1H
X-Robots-Tag:noindex
X-PUBLISHED-TTL:PT1H
BEGIN:VTIMEZONE
TZID:America/Los_Angeles
BEGIN:DAYLIGHT
TZOFFSETFROM:-0800
TZOFFSETTO:-0700
TZNAME:PDT
DTSTART:20250309T100000
END:DAYLIGHT
BEGIN:STANDARD
TZOFFSETFROM:-0700
TZOFFSETTO:-0800
TZNAME:PST
DTSTART:20251102T090000
END:STANDARD
BEGIN:DAYLIGHT
TZOFFSETFROM:-0800
TZOFFSETTO:-0700
TZNAME:PDT
DTSTART:20260308T100000
END:DAYLIGHT
BEGIN:STANDARD
TZOFFSETFROM:-0700
TZOFFSETTO:-0800
TZNAME:PST
DTSTART:20261101T090000
END:STANDARD
BEGIN:DAYLIGHT
TZOFFSETFROM:-0800
TZOFFSETTO:-0700
TZNAME:PDT
DTSTART:20270314T100000
END:DAYLIGHT
BEGIN:STANDARD
TZOFFSETFROM:-0700
TZOFFSETTO:-0800
TZNAME:PST
DTSTART:20271107T090000
END:STANDARD
END:VTIMEZONE
BEGIN:VEVENT
DTSTART;TZID=America/Los_Angeles:20260407T163000
DTEND;TZID=America/Los_Angeles:20260407T163000
DTSTAMP:20260421T040358
CREATED:20260325T025439Z
LAST-MODIFIED:20260325T025439Z
UID:10011868-1775579400-1775579400@philomathnews.com
SUMMARY:PHS Baseball vs. West Albany
DESCRIPTION:The Philomath High School baseball team is scheduled to play at home vs. West Albany at 4:30 p.m. Tuesday\, April 7.
URL:https://philomathnews.com/event/phs-baseball-vs-west-albany/
LOCATION:Philomath High School\, 2054 Applegate St.\, Philomath\, OR\, 97370
CATEGORIES:Athletics
ATTACH;FMTTYPE=image/jpeg:https://philomathnews.com/wp-content/uploads/2025/04/040525-bb-artwork-dugout_2460-scaled.jpeg
END:VEVENT
BEGIN:VEVENT
DTSTART;TZID=America/Los_Angeles:20260407T160000
DTEND;TZID=America/Los_Angeles:20260407T160000
DTSTAMP:20260421T040358
CREATED:20260325T025001Z
LAST-MODIFIED:20260325T025001Z
UID:10011866-1775577600-1775577600@philomathnews.com
SUMMARY:PHS Girls Tennis vs. Riverdale
DESCRIPTION:The Philomath High School girls tennis team is scheduled to play at home vs. Riverdale at 4 p.m. Tuesday\, April 7.
URL:https://philomathnews.com/event/phs-girls-tennis-vs-riverdale/
LOCATION:Philomath High School\, 2054 Applegate St.\, Philomath\, OR\, 97370
CATEGORIES:Athletics
ATTACH;FMTTYPE=image/jpeg:https://philomathnews.com/wp-content/uploads/2025/03/031625-tennis-artwork_2213-scaled.jpeg
END:VEVENT
BEGIN:VEVENT
DTSTART;TZID=America/Los_Angeles:20260406T103000
DTEND;TZID=America/Los_Angeles:20260406T103000
DTSTAMP:20260421T040358
CREATED:20260325T172718Z
LAST-MODIFIED:20260401T155225Z
UID:10011875-1775471400-1775471400@philomathnews.com
SUMMARY:PHS Boys Golf at Trysting Tree
DESCRIPTION:The Philomath High School boys golf team is scheduled to compete in a six-school tournament at 10:30 a.m. Monday\, April 6\, at Trysting Tree Golf Club in Corvallis.
URL:https://philomathnews.com/event/phs-boys-golf-at-trysting-tree-2/
LOCATION:Trysting Tree Golf Club\, 34028 NE Electric Rd\, Corvallis\, OR\, 97333
CATEGORIES:Athletics
ATTACH;FMTTYPE=image/jpeg:https://philomathnews.com/wp-content/uploads/2025/04/042225-bglf-Trysting-Tree-01.jpg
END:VEVENT
BEGIN:VEVENT
DTSTART;TZID=America/Los_Angeles:20260403T130000
DTEND;TZID=America/Los_Angeles:20260403T130000
DTSTAMP:20260421T040358
CREATED:20260323T222350Z
LAST-MODIFIED:20260323T222350Z
UID:10011856-1775221200-1775221200@philomathnews.com
SUMMARY:PHS Softball vs. Marshfield (2)
DESCRIPTION:The Philomath High School softball team is scheduled to play a doubleheader beginning at 1 p.m. Friday\, April 3\, at home against Marshfield.
URL:https://philomathnews.com/event/phs-softball-vs-marshfield-2/
LOCATION:Philomath High School\, 2054 Applegate St.\, Philomath\, OR\, 97370
CATEGORIES:Athletics
ATTACH;FMTTYPE=image/jpeg:https://philomathnews.com/wp-content/uploads/2026/03/031826-softball-practice-philo-photos_0924.jpeg
END:VEVENT
BEGIN:VEVENT
DTSTART;TZID=America/Los_Angeles:20260401T170000
DTEND;TZID=America/Los_Angeles:20260401T170000
DTSTAMP:20260421T040358
CREATED:20260324T234152Z
LAST-MODIFIED:20260324T234152Z
UID:10011862-1775062800-1775062800@philomathnews.com
SUMMARY:PHS Softball vs. Yamhill-Carlton
DESCRIPTION:The Philomath High School softball team is scheduled to play at 5 p.m. Wednesday\, April 1 at home vs. Yamhill-Carlton.
URL:https://philomathnews.com/event/phs-softball-vs-yamhill-carlton/
LOCATION:Philomath High School\, 2054 Applegate St.\, Philomath\, OR\, 97370
CATEGORIES:Athletics
ATTACH;FMTTYPE=image/jpeg:https://philomathnews.com/wp-content/uploads/2026/03/031626-sb-logo-dugout_0922-scaled.jpeg
END:VEVENT
BEGIN:VEVENT
DTSTART;TZID=America/Los_Angeles:20260331T180000
DTEND;TZID=America/Los_Angeles:20260331T180000
DTSTAMP:20260421T040358
CREATED:20260323T162801Z
LAST-MODIFIED:20260323T162801Z
UID:10011843-1774980000-1774980000@philomathnews.com
SUMMARY:PHS Boys Volleyball vs. Newport
DESCRIPTION:The Philomath High boys volleyball team is scheduled to play at 6 p.m. Tuesday\, March 31 at home vs. Newport.
URL:https://philomathnews.com/event/phs-boys-volleyball-vs-newport/
LOCATION:Philomath High School\, 2054 Applegate St.\, Philomath\, OR\, 97370
CATEGORIES:Athletics
ATTACH;FMTTYPE=image/jpeg:https://philomathnews.com/wp-content/uploads/2025/05/050625-bvb-team_6311-scaled.jpg
END:VEVENT
BEGIN:VEVENT
DTSTART;TZID=America/Los_Angeles:20260331T160000
DTEND;TZID=America/Los_Angeles:20260331T160000
DTSTAMP:20260421T040358
CREATED:20260323T161819Z
LAST-MODIFIED:20260323T161951Z
UID:10011841-1774972800-1774972800@philomathnews.com
SUMMARY:PHS Boys Tennis vs. Valley Catholic
DESCRIPTION:The Philomath High School boys tennis team is scheduled to play at home vs. Valley Catholic at 4 p.m. Tuesday\, March 31.
URL:https://philomathnews.com/event/phs-boys-tennis-vs-valley-catholic/
LOCATION:Philomath High School\, 2054 Applegate St.\, Philomath\, OR\, 97370
CATEGORIES:Athletics
ATTACH;FMTTYPE=image/jpeg:https://philomathnews.com/wp-content/uploads/2026/03/031926-bten-reynolds_5448.jpg
END:VEVENT
BEGIN:VEVENT
DTSTART;TZID=America/Los_Angeles:20260320T170000
DTEND;TZID=America/Los_Angeles:20260320T170000
DTSTAMP:20260421T040358
CREATED:20260310T034306Z
LAST-MODIFIED:20260310T034306Z
UID:10011800-1774026000-1774026000@philomathnews.com
SUMMARY:PHS Baseball vs. Gladstone
DESCRIPTION:The Philomath High School baseball team is scheduled to play at at home vs. Gladstone at 5 p.m. Friday\, March 20.
URL:https://philomathnews.com/event/phs-baseball-vs-gladstone/
LOCATION:Philomath High School\, 2054 Applegate St.\, Philomath\, OR\, 97370
CATEGORIES:Athletics
ATTACH;FMTTYPE=image/jpeg:https://philomathnews.com/wp-content/uploads/2025/04/040525-bb-artwork-dugout_2460-scaled.jpeg
END:VEVENT
BEGIN:VEVENT
DTSTART;TZID=America/Los_Angeles:20260319T160000
DTEND;TZID=America/Los_Angeles:20260319T160000
DTSTAMP:20260421T040358
CREATED:20260310T035000Z
LAST-MODIFIED:20260310T035000Z
UID:10011802-1773936000-1773936000@philomathnews.com
SUMMARY:PHS Boys Tennis vs. Dallas
DESCRIPTION:The Philomath High School boys tennis team is scheduled to play at home vs. Dallas at 4 p.m. Thursday\, March 19.
URL:https://philomathnews.com/event/phs-boys-tennis-vs-dallas/
LOCATION:Philomath High School\, 2054 Applegate St.\, Philomath\, OR\, 97370
CATEGORIES:Athletics
ATTACH;FMTTYPE=image/jpeg:https://philomathnews.com/wp-content/uploads/2025/04/031625-tennis-artwork_2221-scaled.jpeg
END:VEVENT
BEGIN:VEVENT
DTSTART;TZID=America/Los_Angeles:20260318T110000
DTEND;TZID=America/Los_Angeles:20260318T110000
DTSTAMP:20260421T040358
CREATED:20260310T040347Z
LAST-MODIFIED:20260310T040347Z
UID:10011806-1773831600-1773831600@philomathnews.com
SUMMARY:PHS Girls Golf Scramble at Trysting Tree
DESCRIPTION:The Philomath High School girls golf team is scheduled to host a scramble at 11 a.m. Wednesday\, March 18 at Trysting Tree Golf Club in Corvallis.
URL:https://philomathnews.com/event/phs-girls-golf-scramble-at-trysting-tree/
LOCATION:Trysting Tree Golf Club\, 34028 NE Electric Rd\, Corvallis\, OR\, 97333
CATEGORIES:Athletics
ATTACH;FMTTYPE=image/jpeg:https://philomathnews.com/wp-content/uploads/2025/04/042225-bglf-Trysting-Tree-01.jpg
END:VEVENT
BEGIN:VEVENT
DTSTART;TZID=America/Los_Angeles:20260317T160000
DTEND;TZID=America/Los_Angeles:20260317T160000
DTSTAMP:20260421T040358
CREATED:20260310T035429Z
LAST-MODIFIED:20260310T035429Z
UID:10011803-1773763200-1773763200@philomathnews.com
SUMMARY:PHS Girls Tennis vs. Lebanon
DESCRIPTION:The Philomath High School girls tennis team is scheduled to play at home vs. Lebanon at 4 p.m. Tuesday\, March 17.
URL:https://philomathnews.com/event/phs-girls-tennis-vs-lebanon/
LOCATION:Philomath High School\, 2054 Applegate St.\, Philomath\, OR\, 97370
CATEGORIES:Athletics
ATTACH;FMTTYPE=image/jpeg:https://philomathnews.com/wp-content/uploads/2025/03/031625-tennis-artwork_2213-scaled.jpeg
END:VEVENT
BEGIN:VEVENT
DTSTART;TZID=America/Los_Angeles:20260305T180000
DTEND;TZID=America/Los_Angeles:20260305T180000
DTSTAMP:20260421T040358
CREATED:20260304T141941Z
LAST-MODIFIED:20260304T141941Z
UID:10011768-1772733600-1772733600@philomathnews.com
SUMMARY:Philomath School District Budget Committee Meeting
DESCRIPTION:The Philomath School District Budget Committee plans to meet at 6 p.m. Thursday\, March 5 in the Philomath High School Community Conference Room. See a notice of the meeting here.
URL:https://philomathnews.com/event/philomath-school-district-budget-committee-meeting-2/
LOCATION:Philomath High School\, 2054 Applegate St.\, Philomath\, OR\, 97370
CATEGORIES:Government,Schools
ATTACH;FMTTYPE=image/jpeg:https://philomathnews.com/wp-content/uploads/2021/11/080818-pe-nws-phs-file.jpg
END:VEVENT
BEGIN:VEVENT
DTSTART;TZID=America/Los_Angeles:20260220T190000
DTEND;TZID=America/Los_Angeles:20260220T190000
DTSTAMP:20260421T040358
CREATED:20260119T221439Z
LAST-MODIFIED:20260119T221439Z
UID:10011703-1771614000-1771614000@philomathnews.com
SUMMARY:PHS Boys Basketball vs. Stayton
DESCRIPTION:Philomath High’s boys basketball team is scheduled to host Stayton at 7 p.m. Friday\, Feb. 20.
URL:https://philomathnews.com/event/phs-boys-basketball-vs-stayton/
LOCATION:Philomath High School\, 2054 Applegate St.\, Philomath\, OR\, 97370
CATEGORIES:Athletics
ATTACH;FMTTYPE=image/jpeg:https://philomathnews.com/wp-content/uploads/2026/01/011326-bbb-Sapp-03.jpg
END:VEVENT
BEGIN:VEVENT
DTSTART;TZID=America/Los_Angeles:20260220T173000
DTEND;TZID=America/Los_Angeles:20260220T173000
DTSTAMP:20260421T040358
CREATED:20260119T220935Z
LAST-MODIFIED:20260119T233135Z
UID:10011701-1771608600-1771608600@philomathnews.com
SUMMARY:PHS Girls Basketball vs. Stayton
DESCRIPTION:Philomath High’s girls basketball team is scheduled to host Stayton at 5:30 p.m. Friday\, Feb. 20.
URL:https://philomathnews.com/event/phs-girls-basketball-vs-stayton/
LOCATION:Philomath High School\, 2054 Applegate St.\, Philomath\, OR\, 97370
CATEGORIES:Athletics
ATTACH;FMTTYPE=image/jpeg:https://philomathnews.com/wp-content/uploads/2025/12/121625-gbb-Kramer-01.jpg
END:VEVENT
BEGIN:VEVENT
DTSTART;TZID=America/Los_Angeles:20260213T190000
DTEND;TZID=America/Los_Angeles:20260213T190000
DTSTAMP:20260421T040358
CREATED:20260211T052850Z
LAST-MODIFIED:20260211T052850Z
UID:10011730-1771009200-1771009200@philomathnews.com
SUMMARY:PHS Boys Basketball vs. North Marion
DESCRIPTION:Philomath High’s boys basketball team is scheduled to host North Marion at 7 p.m. Friday\, Feb. 13 (rescheduled from 5:30 p.m.).
URL:https://philomathnews.com/event/phs-boys-basketball-vs-north-marion-2/
LOCATION:Philomath High School\, 2054 Applegate St.\, Philomath\, OR\, 97370
CATEGORIES:Athletics
ATTACH;FMTTYPE=image/jpeg:https://philomathnews.com/wp-content/uploads/2026/01/011326-bbb-Seits-04.jpg
END:VEVENT
BEGIN:VEVENT
DTSTART;TZID=America/Los_Angeles:20260207T110000
DTEND;TZID=America/Los_Angeles:20260207T110000
DTSTAMP:20260421T040358
CREATED:20260205T164459Z
LAST-MODIFIED:20260205T164459Z
UID:10011727-1770462000-1770462000@philomathnews.com
SUMMARY:PHS Shining Stars at Dancing With the Stars
DESCRIPTION:The Philomath High School Shining Stars dance team is scheduled to host Dancing With the Stars competition at 11 a.m. Saturday\, Feb. 7. Doors open at 10:30 a.m. See preview story.
URL:https://philomathnews.com/event/phs-shining-stars-at-dancing-with-the-stars/
LOCATION:Philomath High School\, 2054 Applegate St.\, Philomath\, OR\, 97370
CATEGORIES:Athletics
ATTACH;FMTTYPE=image/jpeg:https://philomathnews.com/wp-content/uploads/2025/09/090525-fb-Dance-01.jpg
END:VEVENT
BEGIN:VEVENT
DTSTART;TZID=America/Los_Angeles:20260205T180000
DTEND;TZID=America/Los_Angeles:20260205T180000
DTSTAMP:20260421T040358
CREATED:20260202T223031Z
LAST-MODIFIED:20260202T223031Z
UID:10011725-1770314400-1770314400@philomathnews.com
SUMMARY:PHS Wrestling vs. Sweet Home
DESCRIPTION:Philomath High’s wrestling team is scheduled to host Sweet Home for a dual at 6 p.m. Thursday\, Feb. 5.
URL:https://philomathnews.com/event/phs-wrestling-vs-sweet-home-2/
LOCATION:Philomath High School\, 2054 Applegate St.\, Philomath\, OR\, 97370
CATEGORIES:Athletics
ATTACH;FMTTYPE=image/jpeg:https://philomathnews.com/wp-content/uploads/2025/12/121225-wr-woosley-kohn_0260-scaled.jpg
END:VEVENT
BEGIN:VEVENT
DTSTART;TZID=America/Los_Angeles:20260205T180000
DTEND;TZID=America/Los_Angeles:20260205T180000
DTSTAMP:20260421T040358
CREATED:20260129T233907Z
LAST-MODIFIED:20260129T233907Z
UID:10011720-1770314400-1770314400@philomathnews.com
SUMMARY:Philomath School District Budget Committee Meeting
DESCRIPTION:The Philomath School District Budget Committee plans to meet at 6 p.m. Thursday\, Feb. 5 in the Philomath High School Community Conference Room. See the public meeting notice here.
URL:https://philomathnews.com/event/philomath-school-district-budget-committee-meeting/
LOCATION:Philomath High School\, 2054 Applegate St.\, Philomath\, OR\, 97370
CATEGORIES:Government,Schools
ATTACH;FMTTYPE=image/jpeg:https://philomathnews.com/wp-content/uploads/2021/11/080818-pe-nws-phs-file.jpg
END:VEVENT
BEGIN:VEVENT
DTSTART;TZID=America/Los_Angeles:20260203T190000
DTEND;TZID=America/Los_Angeles:20260203T190000
DTSTAMP:20260421T040358
CREATED:20260105T155223Z
LAST-MODIFIED:20260105T155223Z
UID:10011509-1770145200-1770145200@philomathnews.com
SUMMARY:PHS Girls Basketball vs. Newport
DESCRIPTION:Philomath High’s girls basketball team is scheduled to host Newport at 7 p.m. Tuesday\, Feb. 3.
URL:https://philomathnews.com/event/phs-girls-basketball-vs-newport/
LOCATION:Philomath High School\, 2054 Applegate St.\, Philomath\, OR\, 97370
CATEGORIES:Athletics
ATTACH;FMTTYPE=image/jpeg:https://philomathnews.com/wp-content/uploads/2025/12/122325-gbb-team-01.jpg
END:VEVENT
BEGIN:VEVENT
DTSTART;TZID=America/Los_Angeles:20260203T173000
DTEND;TZID=America/Los_Angeles:20260203T173000
DTSTAMP:20260421T040358
CREATED:20260105T155456Z
LAST-MODIFIED:20260105T155456Z
UID:10011510-1770139800-1770139800@philomathnews.com
SUMMARY:PHS Boys Basketball vs. Newport
DESCRIPTION:Philomath High’s boys basketball team is scheduled to host Newport at 5:30 p.m. Tuesday\, Feb. 3.
URL:https://philomathnews.com/event/phs-boys-basketball-vs-newport/
LOCATION:Philomath High School\, 2054 Applegate St.\, Philomath\, OR\, 97370
CATEGORIES:Athletics
ATTACH;FMTTYPE=image/jpeg:https://philomathnews.com/wp-content/uploads/2025/12/122325-bbb-Nuno-01.jpg
END:VEVENT
BEGIN:VEVENT
DTSTART;TZID=America/Los_Angeles:20260128T163000
DTEND;TZID=America/Los_Angeles:20260128T163000
DTSTAMP:20260421T040358
CREATED:20251226T192235Z
LAST-MODIFIED:20251226T192235Z
UID:10011487-1769617800-1769617800@philomathnews.com
SUMMARY:PHS Swimming vs. Junction City\, Marist Catholic
DESCRIPTION:Philomath High’s boys and girls swim teams will host a tri-meet against Junction City and Marist Catholic at 4:30 p.m. Wednesday\, Jan. 28 at Clemens Community Pool.\n\n\n 
URL:https://philomathnews.com/event/phs-swimming-vs-junction-city-marist-catholic/
LOCATION:Clemens Community Pool\, 2054 Applegate St.\, Philomath\, OR\, 97370
CATEGORIES:Athletics
ATTACH;FMTTYPE=image/jpeg:https://philomathnews.com/wp-content/uploads/2025/12/121025-swm-laukkanen-raskauskas-100-back_9751-scaled.jpg
END:VEVENT
BEGIN:VEVENT
DTSTART;TZID=America/Los_Angeles:20260127T190000
DTEND;TZID=America/Los_Angeles:20260127T190000
DTSTAMP:20260421T040358
CREATED:20251226T183023Z
LAST-MODIFIED:20251226T183023Z
UID:10011470-1769540400-1769540400@philomathnews.com
SUMMARY:PHS Girls Basketball vs. Cascade
DESCRIPTION:Philomath High’s girls basketball team is scheduled to host Cascade at 7 p.m. Tuesday\, Jan. 27.
URL:https://philomathnews.com/event/phs-girls-basketball-vs-cascade/
LOCATION:Philomath High School\, 2054 Applegate St.\, Philomath\, OR\, 97370
CATEGORIES:Athletics
ATTACH;FMTTYPE=image/jpeg:https://philomathnews.com/wp-content/uploads/2025/12/121625-gbb-Cannon-01.jpg
END:VEVENT
BEGIN:VEVENT
DTSTART;TZID=America/Los_Angeles:20260127T173000
DTEND;TZID=America/Los_Angeles:20260127T173000
DTSTAMP:20260421T040358
CREATED:20251226T181614Z
LAST-MODIFIED:20251226T181614Z
UID:10011464-1769535000-1769535000@philomathnews.com
SUMMARY:PHS Boys Basketball vs. Cascade
DESCRIPTION:Philomath High’s boys basketball team is scheduled to host Cascade at 5:30 p.m. Tuesday\, Jan. 27.
URL:https://philomathnews.com/event/phs-boys-basketball-vs-cascade/
LOCATION:Philomath High School\, 2054 Applegate St.\, Philomath\, OR\, 97370
CATEGORIES:Athletics
ATTACH;FMTTYPE=image/jpeg:https://philomathnews.com/wp-content/uploads/2025/12/120925-bbb-mcconnell_9183-scaled.jpg
END:VEVENT
BEGIN:VEVENT
DTSTART;TZID=America/Los_Angeles:20260124T130000
DTEND;TZID=America/Los_Angeles:20260124T130000
DTSTAMP:20260421T040358
CREATED:20260124T154121Z
LAST-MODIFIED:20260124T154121Z
UID:10011717-1769259600-1769259600@philomathnews.com
SUMMARY:PHS Girls Basketball vs. Astoria
DESCRIPTION:Philomath High’s girls basketball team is scheduled to host Astoria at 1 p.m. Saturday\, Jan. 24.
URL:https://philomathnews.com/event/phs-girls-basketball-vs-astoria/
LOCATION:Philomath High School\, 2054 Applegate St.\, Philomath\, OR\, 97370
CATEGORIES:Athletics
ATTACH;FMTTYPE=image/jpeg:https://philomathnews.com/wp-content/uploads/2025/12/120925-gbb-Hood-03.jpg
END:VEVENT
BEGIN:VEVENT
DTSTART;TZID=America/Los_Angeles:20260121T161500
DTEND;TZID=America/Los_Angeles:20260121T161500
DTSTAMP:20260421T040358
CREATED:20260119T222334Z
LAST-MODIFIED:20260119T222334Z
UID:10011707-1769012100-1769012100@philomathnews.com
SUMMARY:PHS Swimming vs. Kennedy\, Salem Academy\, Sisters
DESCRIPTION:Philomath High’s boys and girls swim teams will host a quad-meet against Kennedy\, Salem Academy and Sisters at 4:15 p.m. Wednesday\, Jan. 21 at Clemens Community Pool.\n\n\n 
URL:https://philomathnews.com/event/phs-swimming-vs-kennedy-salem-academy-sisters-2/
LOCATION:Clemens Community Pool\, 2054 Applegate St.\, Philomath\, OR\, 97370
CATEGORIES:Athletics
ATTACH;FMTTYPE=image/jpeg:https://philomathnews.com/wp-content/uploads/2025/12/121025-swm-weeber-200-free-relay_9658-scaled.jpg
END:VEVENT
BEGIN:VEVENT
DTSTART;TZID=America/Los_Angeles:20260120T190000
DTEND;TZID=America/Los_Angeles:20260120T190000
DTSTAMP:20260421T040358
CREATED:20251226T182545Z
LAST-MODIFIED:20251226T182545Z
UID:10011468-1768935600-1768935600@philomathnews.com
SUMMARY:PHS Girls Basketball vs. Sweet Home
DESCRIPTION:Philomath High’s girls basketball team is scheduled to host Sweet Home at 7 p.m. Tuesday\, Jan. 20.
URL:https://philomathnews.com/event/phs-girls-basketball-vs-sweet-home/
LOCATION:Philomath High School\, 2054 Applegate St.\, Philomath\, OR\, 97370
CATEGORIES:Athletics
ATTACH;FMTTYPE=image/jpeg:https://philomathnews.com/wp-content/uploads/2025/12/121625-gbb-Brown-06.jpg
END:VEVENT
BEGIN:VEVENT
DTSTART;TZID=America/Los_Angeles:20260120T173000
DTEND;TZID=America/Los_Angeles:20260120T173000
DTSTAMP:20260421T040358
CREATED:20251226T181431Z
LAST-MODIFIED:20251226T181431Z
UID:10011463-1768930200-1768930200@philomathnews.com
SUMMARY:PHS Boys Basketball vs. Sweet Home
DESCRIPTION:Philomath High’s boys basketball team is scheduled to host Sweet Home at 5:30 p.m. Tuesday\, Jan. 20.
URL:https://philomathnews.com/event/phs-boys-basketball-vs-sweet-home/
LOCATION:Philomath High School\, 2054 Applegate St.\, Philomath\, OR\, 97370
CATEGORIES:Athletics
ATTACH;FMTTYPE=image/jpeg:https://philomathnews.com/wp-content/uploads/2025/12/121125-bbb-Barron-03.jpg
END:VEVENT
BEGIN:VEVENT
DTSTART;TZID=America/Los_Angeles:20260117T150000
DTEND;TZID=America/Los_Angeles:20260117T150000
DTSTAMP:20260421T040358
CREATED:20260116T154731Z
LAST-MODIFIED:20260116T154731Z
UID:10011644-1768662000-1768662000@philomathnews.com
SUMMARY:PHS Girls Basketball vs. Silverton
DESCRIPTION:Philomath High’s girls basketball team is scheduled to host Silverton at 3 p.m. Saturday\, Jan. 17.
URL:https://philomathnews.com/event/phs-girls-basketball-vs-silverton-2/
LOCATION:Philomath High School\, 2054 Applegate St.\, Philomath\, OR\, 97370
CATEGORIES:Athletics
ATTACH;FMTTYPE=image/jpeg:https://philomathnews.com/wp-content/uploads/2026/01/011326-gbb-cannon_1344-scaled.jpg
END:VEVENT
BEGIN:VEVENT
DTSTART;TZID=America/Los_Angeles:20260114T161500
DTEND;TZID=America/Los_Angeles:20260114T161500
DTSTAMP:20260421T040358
CREATED:20251226T191531Z
LAST-MODIFIED:20251226T191531Z
UID:10011484-1768407300-1768407300@philomathnews.com
SUMMARY:PHS Swimming vs. Blanchet Catholic\, Stayton
DESCRIPTION:Philomath High’s boys and girls swim teams will host a tri-meet against Blanchet Catholic and Stayton at 4:15 p.m. Wednesday\, Jan. 14 at Clemens Community Pool.\n\n\n 
URL:https://philomathnews.com/event/phs-swimming-vs-blanchet-catholic-stayton/
LOCATION:Clemens Community Pool\, 2054 Applegate St.\, Philomath\, OR\, 97370
CATEGORIES:Athletics
ATTACH;FMTTYPE=image/jpeg:https://philomathnews.com/wp-content/uploads/2025/12/121025-swm-barton-50-free_9373-scaled.jpg
END:VEVENT
BEGIN:VEVENT
DTSTART;TZID=America/Los_Angeles:20260113T190000
DTEND;TZID=America/Los_Angeles:20260113T190000
DTSTAMP:20260421T040358
CREATED:20251226T181240Z
LAST-MODIFIED:20251226T181240Z
UID:10011462-1768330800-1768330800@philomathnews.com
SUMMARY:PHS Boys Basketball vs. Gladstone
DESCRIPTION:Philomath High’s boys basketball team is scheduled to host Gladstone at 7 p.m. Tuesday\, Jan. 13.
URL:https://philomathnews.com/event/phs-boys-basketball-vs-gladstone/
LOCATION:Philomath High School\, 2054 Applegate St.\, Philomath\, OR\, 97370
CATEGORIES:Athletics
ATTACH;FMTTYPE=image/jpeg:https://philomathnews.com/wp-content/uploads/2025/12/121125-bbb-Nuno-03.jpg
END:VEVENT
END:VCALENDAR