BEGIN:VCALENDAR
VERSION:2.0
PRODID:-//Philomath News - ECPv6.15.20//NONSGML v1.0//EN
CALSCALE:GREGORIAN
METHOD:PUBLISH
X-ORIGINAL-URL:https://philomathnews.com
X-WR-CALDESC:Events for Philomath News
REFRESH-INTERVAL;VALUE=DURATION:PT1H
X-Robots-Tag:noindex
X-PUBLISHED-TTL:PT1H
BEGIN:VTIMEZONE
TZID:America/Los_Angeles
BEGIN:DAYLIGHT
TZOFFSETFROM:-0800
TZOFFSETTO:-0700
TZNAME:PDT
DTSTART:20260308T100000
END:DAYLIGHT
BEGIN:STANDARD
TZOFFSETFROM:-0700
TZOFFSETTO:-0800
TZNAME:PST
DTSTART:20261101T090000
END:STANDARD
BEGIN:DAYLIGHT
TZOFFSETFROM:-0800
TZOFFSETTO:-0700
TZNAME:PDT
DTSTART:20270314T100000
END:DAYLIGHT
BEGIN:STANDARD
TZOFFSETFROM:-0700
TZOFFSETTO:-0800
TZNAME:PST
DTSTART:20271107T090000
END:STANDARD
BEGIN:DAYLIGHT
TZOFFSETFROM:-0800
TZOFFSETTO:-0700
TZNAME:PDT
DTSTART:20280312T100000
END:DAYLIGHT
BEGIN:STANDARD
TZOFFSETFROM:-0700
TZOFFSETTO:-0800
TZNAME:PST
DTSTART:20281105T090000
END:STANDARD
BEGIN:DAYLIGHT
TZOFFSETFROM:-0800
TZOFFSETTO:-0700
TZNAME:PDT
DTSTART:20290311T100000
END:DAYLIGHT
BEGIN:STANDARD
TZOFFSETFROM:-0700
TZOFFSETTO:-0800
TZNAME:PST
DTSTART:20291104T090000
END:STANDARD
BEGIN:DAYLIGHT
TZOFFSETFROM:-0800
TZOFFSETTO:-0700
TZNAME:PDT
DTSTART:20300310T100000
END:DAYLIGHT
BEGIN:STANDARD
TZOFFSETFROM:-0700
TZOFFSETTO:-0800
TZNAME:PST
DTSTART:20301103T090000
END:STANDARD
END:VTIMEZONE
BEGIN:VEVENT
DTSTART;TZID=America/Los_Angeles:20271008T180000
DTEND;TZID=America/Los_Angeles:20271008T203000
DTSTAMP:20260424T120841
CREATED:20251116T215927Z
LAST-MODIFIED:20251116T215927Z
UID:10009790-1823018400-1823027400@philomathnews.com
SUMMARY:Bingo at the Grange
DESCRIPTION:Marys River Grange No. 685 hosts bingo on the second Friday each month from 6-8:30 p.m. at Marys River Grange Hall.
URL:https://philomathnews.com/event/bingo-at-the-grange/2027-10-08/
LOCATION:Marys River Grange Hall\, 24707 Grange Hall Road\, Philomath\, OR\, 97370
CATEGORIES:Clubs and Organizations,Community
ATTACH;FMTTYPE=image/jpeg:https://philomathnews.com/wp-content/uploads/2025/08/081325-mrg-sign_8863-scaled.jpg
ORGANIZER;CN="Marys River Grange No. 685":MAILTO:marysrivergrange@gmail.com
END:VEVENT
BEGIN:VEVENT
DTSTART;TZID=America/Los_Angeles:20271103T183000
DTEND;TZID=America/Los_Angeles:20271103T203000
DTSTAMP:20260424T120841
CREATED:20251116T204619Z
LAST-MODIFIED:20251116T204619Z
UID:10009363-1825266600-1825273800@philomathnews.com
SUMMARY:Marys River Grange No. 685 Meeting
DESCRIPTION:Potluck and Social: 6:30\n\n\nPresentation: 7:00\n\n\nBusiness Meeting: 7:30-8:30
URL:https://philomathnews.com/event/marys-river-grange-no-685-meeting/2027-11-03/
LOCATION:Marys River Grange Hall\, 24707 Grange Hall Road\, Philomath\, OR\, 97370
CATEGORIES:Clubs and Organizations
ATTACH;FMTTYPE=image/jpeg:https://philomathnews.com/wp-content/uploads/2025/09/081325-mrg-sign_8863-scaled.jpg
ORGANIZER;CN="Marys River Grange No. 685":MAILTO:marysrivergrange@gmail.com
END:VEVENT
BEGIN:VEVENT
DTSTART;TZID=America/Los_Angeles:20271112T180000
DTEND;TZID=America/Los_Angeles:20271112T203000
DTSTAMP:20260424T120841
CREATED:20251116T215927Z
LAST-MODIFIED:20251116T215927Z
UID:10009791-1826042400-1826051400@philomathnews.com
SUMMARY:Bingo at the Grange
DESCRIPTION:Marys River Grange No. 685 hosts bingo on the second Friday each month from 6-8:30 p.m. at Marys River Grange Hall.
URL:https://philomathnews.com/event/bingo-at-the-grange/2027-11-12/
LOCATION:Marys River Grange Hall\, 24707 Grange Hall Road\, Philomath\, OR\, 97370
CATEGORIES:Clubs and Organizations,Community
ATTACH;FMTTYPE=image/jpeg:https://philomathnews.com/wp-content/uploads/2025/08/081325-mrg-sign_8863-scaled.jpg
ORGANIZER;CN="Marys River Grange No. 685":MAILTO:marysrivergrange@gmail.com
END:VEVENT
BEGIN:VEVENT
DTSTART;TZID=America/Los_Angeles:20271201T183000
DTEND;TZID=America/Los_Angeles:20271201T203000
DTSTAMP:20260424T120841
CREATED:20251116T204619Z
LAST-MODIFIED:20251116T204619Z
UID:10009364-1827685800-1827693000@philomathnews.com
SUMMARY:Marys River Grange No. 685 Meeting
DESCRIPTION:Potluck and Social: 6:30\n\n\nPresentation: 7:00\n\n\nBusiness Meeting: 7:30-8:30
URL:https://philomathnews.com/event/marys-river-grange-no-685-meeting/2027-12-01/
LOCATION:Marys River Grange Hall\, 24707 Grange Hall Road\, Philomath\, OR\, 97370
CATEGORIES:Clubs and Organizations
ATTACH;FMTTYPE=image/jpeg:https://philomathnews.com/wp-content/uploads/2025/09/081325-mrg-sign_8863-scaled.jpg
ORGANIZER;CN="Marys River Grange No. 685":MAILTO:marysrivergrange@gmail.com
END:VEVENT
BEGIN:VEVENT
DTSTART;TZID=America/Los_Angeles:20271210T180000
DTEND;TZID=America/Los_Angeles:20271210T203000
DTSTAMP:20260424T120841
CREATED:20251116T215927Z
LAST-MODIFIED:20251116T215927Z
UID:10009792-1828461600-1828470600@philomathnews.com
SUMMARY:Bingo at the Grange
DESCRIPTION:Marys River Grange No. 685 hosts bingo on the second Friday each month from 6-8:30 p.m. at Marys River Grange Hall.
URL:https://philomathnews.com/event/bingo-at-the-grange/2027-12-10/
LOCATION:Marys River Grange Hall\, 24707 Grange Hall Road\, Philomath\, OR\, 97370
CATEGORIES:Clubs and Organizations,Community
ATTACH;FMTTYPE=image/jpeg:https://philomathnews.com/wp-content/uploads/2025/08/081325-mrg-sign_8863-scaled.jpg
ORGANIZER;CN="Marys River Grange No. 685":MAILTO:marysrivergrange@gmail.com
END:VEVENT
BEGIN:VEVENT
DTSTART;TZID=America/Los_Angeles:20280105T183000
DTEND;TZID=America/Los_Angeles:20280105T203000
DTSTAMP:20260424T120841
CREATED:20251116T204619Z
LAST-MODIFIED:20251116T204619Z
UID:10009365-1830709800-1830717000@philomathnews.com
SUMMARY:Marys River Grange No. 685 Meeting
DESCRIPTION:Potluck and Social: 6:30\n\n\nPresentation: 7:00\n\n\nBusiness Meeting: 7:30-8:30
URL:https://philomathnews.com/event/marys-river-grange-no-685-meeting/2028-01-05/
LOCATION:Marys River Grange Hall\, 24707 Grange Hall Road\, Philomath\, OR\, 97370
CATEGORIES:Clubs and Organizations
ATTACH;FMTTYPE=image/jpeg:https://philomathnews.com/wp-content/uploads/2025/09/081325-mrg-sign_8863-scaled.jpg
ORGANIZER;CN="Marys River Grange No. 685":MAILTO:marysrivergrange@gmail.com
END:VEVENT
BEGIN:VEVENT
DTSTART;TZID=America/Los_Angeles:20280114T180000
DTEND;TZID=America/Los_Angeles:20280114T203000
DTSTAMP:20260424T120841
CREATED:20251116T215927Z
LAST-MODIFIED:20251116T215927Z
UID:10009793-1831485600-1831494600@philomathnews.com
SUMMARY:Bingo at the Grange
DESCRIPTION:Marys River Grange No. 685 hosts bingo on the second Friday each month from 6-8:30 p.m. at Marys River Grange Hall.
URL:https://philomathnews.com/event/bingo-at-the-grange/2028-01-14/
LOCATION:Marys River Grange Hall\, 24707 Grange Hall Road\, Philomath\, OR\, 97370
CATEGORIES:Clubs and Organizations,Community
ATTACH;FMTTYPE=image/jpeg:https://philomathnews.com/wp-content/uploads/2025/08/081325-mrg-sign_8863-scaled.jpg
ORGANIZER;CN="Marys River Grange No. 685":MAILTO:marysrivergrange@gmail.com
END:VEVENT
BEGIN:VEVENT
DTSTART;TZID=America/Los_Angeles:20280202T183000
DTEND;TZID=America/Los_Angeles:20280202T203000
DTSTAMP:20260424T120841
CREATED:20251116T204619Z
LAST-MODIFIED:20251116T204619Z
UID:10009366-1833129000-1833136200@philomathnews.com
SUMMARY:Marys River Grange No. 685 Meeting
DESCRIPTION:Potluck and Social: 6:30\n\n\nPresentation: 7:00\n\n\nBusiness Meeting: 7:30-8:30
URL:https://philomathnews.com/event/marys-river-grange-no-685-meeting/2028-02-02/
LOCATION:Marys River Grange Hall\, 24707 Grange Hall Road\, Philomath\, OR\, 97370
CATEGORIES:Clubs and Organizations
ATTACH;FMTTYPE=image/jpeg:https://philomathnews.com/wp-content/uploads/2025/09/081325-mrg-sign_8863-scaled.jpg
ORGANIZER;CN="Marys River Grange No. 685":MAILTO:marysrivergrange@gmail.com
END:VEVENT
BEGIN:VEVENT
DTSTART;TZID=America/Los_Angeles:20280211T180000
DTEND;TZID=America/Los_Angeles:20280211T203000
DTSTAMP:20260424T120841
CREATED:20251116T215927Z
LAST-MODIFIED:20251116T215927Z
UID:10009794-1833904800-1833913800@philomathnews.com
SUMMARY:Bingo at the Grange
DESCRIPTION:Marys River Grange No. 685 hosts bingo on the second Friday each month from 6-8:30 p.m. at Marys River Grange Hall.
URL:https://philomathnews.com/event/bingo-at-the-grange/2028-02-11/
LOCATION:Marys River Grange Hall\, 24707 Grange Hall Road\, Philomath\, OR\, 97370
CATEGORIES:Clubs and Organizations,Community
ATTACH;FMTTYPE=image/jpeg:https://philomathnews.com/wp-content/uploads/2025/08/081325-mrg-sign_8863-scaled.jpg
ORGANIZER;CN="Marys River Grange No. 685":MAILTO:marysrivergrange@gmail.com
END:VEVENT
BEGIN:VEVENT
DTSTART;TZID=America/Los_Angeles:20280301T183000
DTEND;TZID=America/Los_Angeles:20280301T203000
DTSTAMP:20260424T120841
CREATED:20251116T204619Z
LAST-MODIFIED:20251116T204619Z
UID:10009367-1835548200-1835555400@philomathnews.com
SUMMARY:Marys River Grange No. 685 Meeting
DESCRIPTION:Potluck and Social: 6:30\n\n\nPresentation: 7:00\n\n\nBusiness Meeting: 7:30-8:30
URL:https://philomathnews.com/event/marys-river-grange-no-685-meeting/2028-03-01/
LOCATION:Marys River Grange Hall\, 24707 Grange Hall Road\, Philomath\, OR\, 97370
CATEGORIES:Clubs and Organizations
ATTACH;FMTTYPE=image/jpeg:https://philomathnews.com/wp-content/uploads/2025/09/081325-mrg-sign_8863-scaled.jpg
ORGANIZER;CN="Marys River Grange No. 685":MAILTO:marysrivergrange@gmail.com
END:VEVENT
BEGIN:VEVENT
DTSTART;TZID=America/Los_Angeles:20280310T180000
DTEND;TZID=America/Los_Angeles:20280310T203000
DTSTAMP:20260424T120841
CREATED:20251116T215927Z
LAST-MODIFIED:20251116T215927Z
UID:10009795-1836324000-1836333000@philomathnews.com
SUMMARY:Bingo at the Grange
DESCRIPTION:Marys River Grange No. 685 hosts bingo on the second Friday each month from 6-8:30 p.m. at Marys River Grange Hall.
URL:https://philomathnews.com/event/bingo-at-the-grange/2028-03-10/
LOCATION:Marys River Grange Hall\, 24707 Grange Hall Road\, Philomath\, OR\, 97370
CATEGORIES:Clubs and Organizations,Community
ATTACH;FMTTYPE=image/jpeg:https://philomathnews.com/wp-content/uploads/2025/08/081325-mrg-sign_8863-scaled.jpg
ORGANIZER;CN="Marys River Grange No. 685":MAILTO:marysrivergrange@gmail.com
END:VEVENT
BEGIN:VEVENT
DTSTART;TZID=America/Los_Angeles:20280405T183000
DTEND;TZID=America/Los_Angeles:20280405T203000
DTSTAMP:20260424T120841
CREATED:20251116T204619Z
LAST-MODIFIED:20251116T204619Z
UID:10009368-1838572200-1838579400@philomathnews.com
SUMMARY:Marys River Grange No. 685 Meeting
DESCRIPTION:Potluck and Social: 6:30\n\n\nPresentation: 7:00\n\n\nBusiness Meeting: 7:30-8:30
URL:https://philomathnews.com/event/marys-river-grange-no-685-meeting/2028-04-05/
LOCATION:Marys River Grange Hall\, 24707 Grange Hall Road\, Philomath\, OR\, 97370
CATEGORIES:Clubs and Organizations
ATTACH;FMTTYPE=image/jpeg:https://philomathnews.com/wp-content/uploads/2025/09/081325-mrg-sign_8863-scaled.jpg
ORGANIZER;CN="Marys River Grange No. 685":MAILTO:marysrivergrange@gmail.com
END:VEVENT
BEGIN:VEVENT
DTSTART;TZID=America/Los_Angeles:20280414T180000
DTEND;TZID=America/Los_Angeles:20280414T203000
DTSTAMP:20260424T120841
CREATED:20251116T215927Z
LAST-MODIFIED:20251116T215927Z
UID:10009796-1839348000-1839357000@philomathnews.com
SUMMARY:Bingo at the Grange
DESCRIPTION:Marys River Grange No. 685 hosts bingo on the second Friday each month from 6-8:30 p.m. at Marys River Grange Hall.
URL:https://philomathnews.com/event/bingo-at-the-grange/2028-04-14/
LOCATION:Marys River Grange Hall\, 24707 Grange Hall Road\, Philomath\, OR\, 97370
CATEGORIES:Clubs and Organizations,Community
ATTACH;FMTTYPE=image/jpeg:https://philomathnews.com/wp-content/uploads/2025/08/081325-mrg-sign_8863-scaled.jpg
ORGANIZER;CN="Marys River Grange No. 685":MAILTO:marysrivergrange@gmail.com
END:VEVENT
BEGIN:VEVENT
DTSTART;TZID=America/Los_Angeles:20280503T183000
DTEND;TZID=America/Los_Angeles:20280503T203000
DTSTAMP:20260424T120841
CREATED:20251116T204619Z
LAST-MODIFIED:20251116T204619Z
UID:10009369-1840991400-1840998600@philomathnews.com
SUMMARY:Marys River Grange No. 685 Meeting
DESCRIPTION:Potluck and Social: 6:30\n\n\nPresentation: 7:00\n\n\nBusiness Meeting: 7:30-8:30
URL:https://philomathnews.com/event/marys-river-grange-no-685-meeting/2028-05-03/
LOCATION:Marys River Grange Hall\, 24707 Grange Hall Road\, Philomath\, OR\, 97370
CATEGORIES:Clubs and Organizations
ATTACH;FMTTYPE=image/jpeg:https://philomathnews.com/wp-content/uploads/2025/09/081325-mrg-sign_8863-scaled.jpg
ORGANIZER;CN="Marys River Grange No. 685":MAILTO:marysrivergrange@gmail.com
END:VEVENT
BEGIN:VEVENT
DTSTART;TZID=America/Los_Angeles:20280512T180000
DTEND;TZID=America/Los_Angeles:20280512T203000
DTSTAMP:20260424T120841
CREATED:20251116T215927Z
LAST-MODIFIED:20251116T215927Z
UID:10009797-1841767200-1841776200@philomathnews.com
SUMMARY:Bingo at the Grange
DESCRIPTION:Marys River Grange No. 685 hosts bingo on the second Friday each month from 6-8:30 p.m. at Marys River Grange Hall.
URL:https://philomathnews.com/event/bingo-at-the-grange/2028-05-12/
LOCATION:Marys River Grange Hall\, 24707 Grange Hall Road\, Philomath\, OR\, 97370
CATEGORIES:Clubs and Organizations,Community
ATTACH;FMTTYPE=image/jpeg:https://philomathnews.com/wp-content/uploads/2025/08/081325-mrg-sign_8863-scaled.jpg
ORGANIZER;CN="Marys River Grange No. 685":MAILTO:marysrivergrange@gmail.com
END:VEVENT
BEGIN:VEVENT
DTSTART;TZID=America/Los_Angeles:20280607T183000
DTEND;TZID=America/Los_Angeles:20280607T203000
DTSTAMP:20260424T120841
CREATED:20251116T204619Z
LAST-MODIFIED:20251116T204619Z
UID:10009370-1844015400-1844022600@philomathnews.com
SUMMARY:Marys River Grange No. 685 Meeting
DESCRIPTION:Potluck and Social: 6:30\n\n\nPresentation: 7:00\n\n\nBusiness Meeting: 7:30-8:30
URL:https://philomathnews.com/event/marys-river-grange-no-685-meeting/2028-06-07/
LOCATION:Marys River Grange Hall\, 24707 Grange Hall Road\, Philomath\, OR\, 97370
CATEGORIES:Clubs and Organizations
ATTACH;FMTTYPE=image/jpeg:https://philomathnews.com/wp-content/uploads/2025/09/081325-mrg-sign_8863-scaled.jpg
ORGANIZER;CN="Marys River Grange No. 685":MAILTO:marysrivergrange@gmail.com
END:VEVENT
BEGIN:VEVENT
DTSTART;TZID=America/Los_Angeles:20280609T180000
DTEND;TZID=America/Los_Angeles:20280609T203000
DTSTAMP:20260424T120841
CREATED:20251116T215927Z
LAST-MODIFIED:20251116T215927Z
UID:10009798-1844186400-1844195400@philomathnews.com
SUMMARY:Bingo at the Grange
DESCRIPTION:Marys River Grange No. 685 hosts bingo on the second Friday each month from 6-8:30 p.m. at Marys River Grange Hall.
URL:https://philomathnews.com/event/bingo-at-the-grange/2028-06-09/
LOCATION:Marys River Grange Hall\, 24707 Grange Hall Road\, Philomath\, OR\, 97370
CATEGORIES:Clubs and Organizations,Community
ATTACH;FMTTYPE=image/jpeg:https://philomathnews.com/wp-content/uploads/2025/08/081325-mrg-sign_8863-scaled.jpg
ORGANIZER;CN="Marys River Grange No. 685":MAILTO:marysrivergrange@gmail.com
END:VEVENT
BEGIN:VEVENT
DTSTART;TZID=America/Los_Angeles:20280705T183000
DTEND;TZID=America/Los_Angeles:20280705T203000
DTSTAMP:20260424T120841
CREATED:20251116T204619Z
LAST-MODIFIED:20251116T204619Z
UID:10009371-1846434600-1846441800@philomathnews.com
SUMMARY:Marys River Grange No. 685 Meeting
DESCRIPTION:Potluck and Social: 6:30\n\n\nPresentation: 7:00\n\n\nBusiness Meeting: 7:30-8:30
URL:https://philomathnews.com/event/marys-river-grange-no-685-meeting/2028-07-05/
LOCATION:Marys River Grange Hall\, 24707 Grange Hall Road\, Philomath\, OR\, 97370
CATEGORIES:Clubs and Organizations
ATTACH;FMTTYPE=image/jpeg:https://philomathnews.com/wp-content/uploads/2025/09/081325-mrg-sign_8863-scaled.jpg
ORGANIZER;CN="Marys River Grange No. 685":MAILTO:marysrivergrange@gmail.com
END:VEVENT
BEGIN:VEVENT
DTSTART;TZID=America/Los_Angeles:20280714T180000
DTEND;TZID=America/Los_Angeles:20280714T203000
DTSTAMP:20260424T120841
CREATED:20251116T215927Z
LAST-MODIFIED:20251116T215927Z
UID:10009799-1847210400-1847219400@philomathnews.com
SUMMARY:Bingo at the Grange
DESCRIPTION:Marys River Grange No. 685 hosts bingo on the second Friday each month from 6-8:30 p.m. at Marys River Grange Hall.
URL:https://philomathnews.com/event/bingo-at-the-grange/2028-07-14/
LOCATION:Marys River Grange Hall\, 24707 Grange Hall Road\, Philomath\, OR\, 97370
CATEGORIES:Clubs and Organizations,Community
ATTACH;FMTTYPE=image/jpeg:https://philomathnews.com/wp-content/uploads/2025/08/081325-mrg-sign_8863-scaled.jpg
ORGANIZER;CN="Marys River Grange No. 685":MAILTO:marysrivergrange@gmail.com
END:VEVENT
BEGIN:VEVENT
DTSTART;TZID=America/Los_Angeles:20280802T183000
DTEND;TZID=America/Los_Angeles:20280802T203000
DTSTAMP:20260424T120841
CREATED:20251116T204619Z
LAST-MODIFIED:20251116T204619Z
UID:10009372-1848853800-1848861000@philomathnews.com
SUMMARY:Marys River Grange No. 685 Meeting
DESCRIPTION:Potluck and Social: 6:30\n\n\nPresentation: 7:00\n\n\nBusiness Meeting: 7:30-8:30
URL:https://philomathnews.com/event/marys-river-grange-no-685-meeting/2028-08-02/
LOCATION:Marys River Grange Hall\, 24707 Grange Hall Road\, Philomath\, OR\, 97370
CATEGORIES:Clubs and Organizations
ATTACH;FMTTYPE=image/jpeg:https://philomathnews.com/wp-content/uploads/2025/09/081325-mrg-sign_8863-scaled.jpg
ORGANIZER;CN="Marys River Grange No. 685":MAILTO:marysrivergrange@gmail.com
END:VEVENT
BEGIN:VEVENT
DTSTART;TZID=America/Los_Angeles:20280811T180000
DTEND;TZID=America/Los_Angeles:20280811T203000
DTSTAMP:20260424T120841
CREATED:20251116T215927Z
LAST-MODIFIED:20251116T215927Z
UID:10009800-1849629600-1849638600@philomathnews.com
SUMMARY:Bingo at the Grange
DESCRIPTION:Marys River Grange No. 685 hosts bingo on the second Friday each month from 6-8:30 p.m. at Marys River Grange Hall.
URL:https://philomathnews.com/event/bingo-at-the-grange/2028-08-11/
LOCATION:Marys River Grange Hall\, 24707 Grange Hall Road\, Philomath\, OR\, 97370
CATEGORIES:Clubs and Organizations,Community
ATTACH;FMTTYPE=image/jpeg:https://philomathnews.com/wp-content/uploads/2025/08/081325-mrg-sign_8863-scaled.jpg
ORGANIZER;CN="Marys River Grange No. 685":MAILTO:marysrivergrange@gmail.com
END:VEVENT
BEGIN:VEVENT
DTSTART;TZID=America/Los_Angeles:20280906T183000
DTEND;TZID=America/Los_Angeles:20280906T203000
DTSTAMP:20260424T120841
CREATED:20251116T204619Z
LAST-MODIFIED:20251116T204619Z
UID:10009373-1851877800-1851885000@philomathnews.com
SUMMARY:Marys River Grange No. 685 Meeting
DESCRIPTION:Potluck and Social: 6:30\n\n\nPresentation: 7:00\n\n\nBusiness Meeting: 7:30-8:30
URL:https://philomathnews.com/event/marys-river-grange-no-685-meeting/2028-09-06/
LOCATION:Marys River Grange Hall\, 24707 Grange Hall Road\, Philomath\, OR\, 97370
CATEGORIES:Clubs and Organizations
ATTACH;FMTTYPE=image/jpeg:https://philomathnews.com/wp-content/uploads/2025/09/081325-mrg-sign_8863-scaled.jpg
ORGANIZER;CN="Marys River Grange No. 685":MAILTO:marysrivergrange@gmail.com
END:VEVENT
BEGIN:VEVENT
DTSTART;TZID=America/Los_Angeles:20280908T180000
DTEND;TZID=America/Los_Angeles:20280908T203000
DTSTAMP:20260424T120841
CREATED:20251116T215927Z
LAST-MODIFIED:20251116T215927Z
UID:10009801-1852048800-1852057800@philomathnews.com
SUMMARY:Bingo at the Grange
DESCRIPTION:Marys River Grange No. 685 hosts bingo on the second Friday each month from 6-8:30 p.m. at Marys River Grange Hall.
URL:https://philomathnews.com/event/bingo-at-the-grange/2028-09-08/
LOCATION:Marys River Grange Hall\, 24707 Grange Hall Road\, Philomath\, OR\, 97370
CATEGORIES:Clubs and Organizations,Community
ATTACH;FMTTYPE=image/jpeg:https://philomathnews.com/wp-content/uploads/2025/08/081325-mrg-sign_8863-scaled.jpg
ORGANIZER;CN="Marys River Grange No. 685":MAILTO:marysrivergrange@gmail.com
END:VEVENT
BEGIN:VEVENT
DTSTART;TZID=America/Los_Angeles:20281004T183000
DTEND;TZID=America/Los_Angeles:20281004T203000
DTSTAMP:20260424T120841
CREATED:20251116T204619Z
LAST-MODIFIED:20251116T204619Z
UID:10009374-1854297000-1854304200@philomathnews.com
SUMMARY:Marys River Grange No. 685 Meeting
DESCRIPTION:Potluck and Social: 6:30\n\n\nPresentation: 7:00\n\n\nBusiness Meeting: 7:30-8:30
URL:https://philomathnews.com/event/marys-river-grange-no-685-meeting/2028-10-04/
LOCATION:Marys River Grange Hall\, 24707 Grange Hall Road\, Philomath\, OR\, 97370
CATEGORIES:Clubs and Organizations
ATTACH;FMTTYPE=image/jpeg:https://philomathnews.com/wp-content/uploads/2025/09/081325-mrg-sign_8863-scaled.jpg
ORGANIZER;CN="Marys River Grange No. 685":MAILTO:marysrivergrange@gmail.com
END:VEVENT
BEGIN:VEVENT
DTSTART;TZID=America/Los_Angeles:20281013T180000
DTEND;TZID=America/Los_Angeles:20281013T203000
DTSTAMP:20260424T120841
CREATED:20251116T215927Z
LAST-MODIFIED:20251116T215927Z
UID:10009802-1855072800-1855081800@philomathnews.com
SUMMARY:Bingo at the Grange
DESCRIPTION:Marys River Grange No. 685 hosts bingo on the second Friday each month from 6-8:30 p.m. at Marys River Grange Hall.
URL:https://philomathnews.com/event/bingo-at-the-grange/2028-10-13/
LOCATION:Marys River Grange Hall\, 24707 Grange Hall Road\, Philomath\, OR\, 97370
CATEGORIES:Clubs and Organizations,Community
ATTACH;FMTTYPE=image/jpeg:https://philomathnews.com/wp-content/uploads/2025/08/081325-mrg-sign_8863-scaled.jpg
ORGANIZER;CN="Marys River Grange No. 685":MAILTO:marysrivergrange@gmail.com
END:VEVENT
BEGIN:VEVENT
DTSTART;TZID=America/Los_Angeles:20281101T183000
DTEND;TZID=America/Los_Angeles:20281101T203000
DTSTAMP:20260424T120841
CREATED:20251116T204619Z
LAST-MODIFIED:20251116T204619Z
UID:10009375-1856716200-1856723400@philomathnews.com
SUMMARY:Marys River Grange No. 685 Meeting
DESCRIPTION:Potluck and Social: 6:30\n\n\nPresentation: 7:00\n\n\nBusiness Meeting: 7:30-8:30
URL:https://philomathnews.com/event/marys-river-grange-no-685-meeting/2028-11-01/
LOCATION:Marys River Grange Hall\, 24707 Grange Hall Road\, Philomath\, OR\, 97370
CATEGORIES:Clubs and Organizations
ATTACH;FMTTYPE=image/jpeg:https://philomathnews.com/wp-content/uploads/2025/09/081325-mrg-sign_8863-scaled.jpg
ORGANIZER;CN="Marys River Grange No. 685":MAILTO:marysrivergrange@gmail.com
END:VEVENT
BEGIN:VEVENT
DTSTART;TZID=America/Los_Angeles:20281110T180000
DTEND;TZID=America/Los_Angeles:20281110T203000
DTSTAMP:20260424T120841
CREATED:20251116T215927Z
LAST-MODIFIED:20251116T215927Z
UID:10009803-1857492000-1857501000@philomathnews.com
SUMMARY:Bingo at the Grange
DESCRIPTION:Marys River Grange No. 685 hosts bingo on the second Friday each month from 6-8:30 p.m. at Marys River Grange Hall.
URL:https://philomathnews.com/event/bingo-at-the-grange/2028-11-10/
LOCATION:Marys River Grange Hall\, 24707 Grange Hall Road\, Philomath\, OR\, 97370
CATEGORIES:Clubs and Organizations,Community
ATTACH;FMTTYPE=image/jpeg:https://philomathnews.com/wp-content/uploads/2025/08/081325-mrg-sign_8863-scaled.jpg
ORGANIZER;CN="Marys River Grange No. 685":MAILTO:marysrivergrange@gmail.com
END:VEVENT
BEGIN:VEVENT
DTSTART;TZID=America/Los_Angeles:20281206T183000
DTEND;TZID=America/Los_Angeles:20281206T203000
DTSTAMP:20260424T120841
CREATED:20251116T204619Z
LAST-MODIFIED:20251116T204619Z
UID:10009376-1859740200-1859747400@philomathnews.com
SUMMARY:Marys River Grange No. 685 Meeting
DESCRIPTION:Potluck and Social: 6:30\n\n\nPresentation: 7:00\n\n\nBusiness Meeting: 7:30-8:30
URL:https://philomathnews.com/event/marys-river-grange-no-685-meeting/2028-12-06/
LOCATION:Marys River Grange Hall\, 24707 Grange Hall Road\, Philomath\, OR\, 97370
CATEGORIES:Clubs and Organizations
ATTACH;FMTTYPE=image/jpeg:https://philomathnews.com/wp-content/uploads/2025/09/081325-mrg-sign_8863-scaled.jpg
ORGANIZER;CN="Marys River Grange No. 685":MAILTO:marysrivergrange@gmail.com
END:VEVENT
BEGIN:VEVENT
DTSTART;TZID=America/Los_Angeles:20281208T180000
DTEND;TZID=America/Los_Angeles:20281208T203000
DTSTAMP:20260424T120841
CREATED:20251116T215927Z
LAST-MODIFIED:20251116T215927Z
UID:10009804-1859911200-1859920200@philomathnews.com
SUMMARY:Bingo at the Grange
DESCRIPTION:Marys River Grange No. 685 hosts bingo on the second Friday each month from 6-8:30 p.m. at Marys River Grange Hall.
URL:https://philomathnews.com/event/bingo-at-the-grange/2028-12-08/
LOCATION:Marys River Grange Hall\, 24707 Grange Hall Road\, Philomath\, OR\, 97370
CATEGORIES:Clubs and Organizations,Community
ATTACH;FMTTYPE=image/jpeg:https://philomathnews.com/wp-content/uploads/2025/08/081325-mrg-sign_8863-scaled.jpg
ORGANIZER;CN="Marys River Grange No. 685":MAILTO:marysrivergrange@gmail.com
END:VEVENT
BEGIN:VEVENT
DTSTART;TZID=America/Los_Angeles:20290103T183000
DTEND;TZID=America/Los_Angeles:20290103T203000
DTSTAMP:20260424T120841
CREATED:20251116T204619Z
LAST-MODIFIED:20251116T204619Z
UID:10009377-1862159400-1862166600@philomathnews.com
SUMMARY:Marys River Grange No. 685 Meeting
DESCRIPTION:Potluck and Social: 6:30\n\n\nPresentation: 7:00\n\n\nBusiness Meeting: 7:30-8:30
URL:https://philomathnews.com/event/marys-river-grange-no-685-meeting/2029-01-03/
LOCATION:Marys River Grange Hall\, 24707 Grange Hall Road\, Philomath\, OR\, 97370
CATEGORIES:Clubs and Organizations
ATTACH;FMTTYPE=image/jpeg:https://philomathnews.com/wp-content/uploads/2025/09/081325-mrg-sign_8863-scaled.jpg
ORGANIZER;CN="Marys River Grange No. 685":MAILTO:marysrivergrange@gmail.com
END:VEVENT
END:VCALENDAR