BEGIN:VCALENDAR
VERSION:2.0
PRODID:-//Philomath News - ECPv6.15.20//NONSGML v1.0//EN
CALSCALE:GREGORIAN
METHOD:PUBLISH
X-ORIGINAL-URL:https://philomathnews.com
X-WR-CALDESC:Events for Philomath News
REFRESH-INTERVAL;VALUE=DURATION:PT1H
X-Robots-Tag:noindex
X-PUBLISHED-TTL:PT1H
BEGIN:VTIMEZONE
TZID:America/Los_Angeles
BEGIN:DAYLIGHT
TZOFFSETFROM:-0800
TZOFFSETTO:-0700
TZNAME:PDT
DTSTART:20250309T100000
END:DAYLIGHT
BEGIN:STANDARD
TZOFFSETFROM:-0700
TZOFFSETTO:-0800
TZNAME:PST
DTSTART:20251102T090000
END:STANDARD
BEGIN:DAYLIGHT
TZOFFSETFROM:-0800
TZOFFSETTO:-0700
TZNAME:PDT
DTSTART:20260308T100000
END:DAYLIGHT
BEGIN:STANDARD
TZOFFSETFROM:-0700
TZOFFSETTO:-0800
TZNAME:PST
DTSTART:20261101T090000
END:STANDARD
BEGIN:DAYLIGHT
TZOFFSETFROM:-0800
TZOFFSETTO:-0700
TZNAME:PDT
DTSTART:20270314T100000
END:DAYLIGHT
BEGIN:STANDARD
TZOFFSETFROM:-0700
TZOFFSETTO:-0800
TZNAME:PST
DTSTART:20271107T090000
END:STANDARD
END:VTIMEZONE
BEGIN:VEVENT
DTSTART;TZID=America/Los_Angeles:20260123T173000
DTEND;TZID=America/Los_Angeles:20260123T203000
DTSTAMP:20260423T124754
CREATED:20260119T214853Z
LAST-MODIFIED:20260119T214853Z
UID:10011696-1769189400-1769200200@philomathnews.com
SUMMARY:Philomath High School Booster Club BINGO Bash
DESCRIPTION:You’re invited to the 2nd Annual Philomath High School Booster Club BINGO Bash! Whether you’re a seasoned BINGO pro or a first-timer\, this night is all about fun\, laughter\, and supporting a great cause! BBQ and wine too! 21+ event\nJoin us for an adults-only night of BINGO\, BBQ and drinks at Compton Family Wines! Enjoy mouthwatering BBQ\, sip on tasty drinks and try your luck with exciting Bingo and raffles – all while supporting The Philomath Booster Club. From local gift cards to unique experiences\, we’ve got prizes that will make you say\, “I’m glad I came!”\nWhy are we doing this?\nIt’s not just about BINGO (though\, trust us\, BINGO is the star of the show). This event is a fundraiser to support our high school athletics and activities—so every ticket and every prize helps us make sure our student athletes have resources available.\n$25 per person includes 2 Bingo cards\, with additional cards available at $10 each.\nYou won’t want to miss the 2nd Annual Booster Club BINGO Bash! It’s going to be an unforgettable night of fun\, prizes\, and a whole lot of BINGO. Doors open at 5:30 and Bingo starts at 6 PM. 21+ ADULTS ONLY EVENT\n\n\nBuy tickets and extra cards at this link.
URL:https://philomathnews.com/event/philomath-high-school-booster-club-bingo-bash/
LOCATION:Compton Family Wines\, 810 Applegate St.\, Philomath\, OR\, 97370
CATEGORIES:Business,Community
ATTACH;FMTTYPE=image/jpeg:https://philomathnews.com/wp-content/uploads/2026/01/053025-compton-family-wines_3206-scaled.jpeg
ORGANIZER;CN="Compton Family Wines":MAILTO:tastingroom@comptonwine.com
END:VEVENT
END:VCALENDAR