BEGIN:VCALENDAR
VERSION:2.0
PRODID:-//Philomath News - ECPv6.15.20//NONSGML v1.0//EN
CALSCALE:GREGORIAN
METHOD:PUBLISH
X-ORIGINAL-URL:https://philomathnews.com
X-WR-CALDESC:Events for Philomath News
REFRESH-INTERVAL;VALUE=DURATION:PT1H
X-Robots-Tag:noindex
X-PUBLISHED-TTL:PT1H
BEGIN:VTIMEZONE
TZID:America/Los_Angeles
BEGIN:DAYLIGHT
TZOFFSETFROM:-0800
TZOFFSETTO:-0700
TZNAME:PDT
DTSTART:20250309T100000
END:DAYLIGHT
BEGIN:STANDARD
TZOFFSETFROM:-0700
TZOFFSETTO:-0800
TZNAME:PST
DTSTART:20251102T090000
END:STANDARD
BEGIN:DAYLIGHT
TZOFFSETFROM:-0800
TZOFFSETTO:-0700
TZNAME:PDT
DTSTART:20260308T100000
END:DAYLIGHT
BEGIN:STANDARD
TZOFFSETFROM:-0700
TZOFFSETTO:-0800
TZNAME:PST
DTSTART:20261101T090000
END:STANDARD
BEGIN:DAYLIGHT
TZOFFSETFROM:-0800
TZOFFSETTO:-0700
TZNAME:PDT
DTSTART:20270314T100000
END:DAYLIGHT
BEGIN:STANDARD
TZOFFSETFROM:-0700
TZOFFSETTO:-0800
TZNAME:PST
DTSTART:20271107T090000
END:STANDARD
END:VTIMEZONE
BEGIN:VEVENT
DTSTART;TZID=America/Los_Angeles:20260302T090000
DTEND;TZID=America/Los_Angeles:20260302T090000
DTSTAMP:20260420T065748
CREATED:20251116T054312Z
LAST-MODIFIED:20251116T054312Z
UID:10007222-1772442000-1772442000@philomathnews.com
SUMMARY:Philomath TOPS Meeting
DESCRIPTION:The Philomath chapter of TOPS (Take Off Pounds Sensibly) meets at 9 a.m. Mondays at Peace Lutheran Church with weigh-in preceding the meeting from 8:30-9 a.m.
URL:https://philomathnews.com/event/philomath-tops-meeting/2026-03-02/
LOCATION:Peace Lutheran Church\, 2540 Applegate St.\, Philomath\, OR\, 97370
CATEGORIES:Clubs and Organizations
ATTACH;FMTTYPE=image/jpeg:https://philomathnews.com/wp-content/uploads/2023/02/Peace-Lutheran-Church1-2020-scaled.jpg
END:VEVENT
BEGIN:VEVENT
DTSTART;TZID=America/Los_Angeles:20260302T100000
DTEND;TZID=America/Los_Angeles:20260302T100000
DTSTAMP:20260420T065748
CREATED:20251116T185922Z
LAST-MODIFIED:20251116T185922Z
UID:10007483-1772445600-1772445600@philomathnews.com
SUMMARY:Dementia Warriors Coffee Connections
DESCRIPTION:Dementia Warriors Coffee Connections meets at 10 a.m. Mondays at Timber Towne Coffee in Philomath. From the organizer: “Come savor this casual opportunity to connect and laugh with people with dementia/Alzheimer’s and caregivers.”
URL:https://philomathnews.com/event/dementia-warriors-coffee-connections/2026-03-02/
LOCATION:Timber Towne Coffee\, 1427 Main St.\, Philomath\, OR\, 97370
CATEGORIES:Clubs and Organizations
ATTACH;FMTTYPE=image/jpeg:https://philomathnews.com/wp-content/uploads/2025/01/020422-Douglas-The-Truck-At-Timber-Townejpg.jpg
ORGANIZER;CN="Dementia Warriors":MAILTO:dementiaadvocacy16@gmail.com
END:VEVENT
BEGIN:VEVENT
DTSTART;TZID=America/Los_Angeles:20260302T183000
DTEND;TZID=America/Los_Angeles:20260302T223000
DTSTAMP:20260420T065748
CREATED:20251116T192605Z
LAST-MODIFIED:20251116T192605Z
UID:10007745-1772476200-1772490600@philomathnews.com
SUMMARY:Moonlight Country Mixer at the Grange
DESCRIPTION:Jamie Lee Dancing presents Moonlight Country Mixer. Every Monday 6:30-10:30 p.m. at Marys River Grange\, 24707 Grange Hall Rd.\, Philomath. Cost: $5. All ages welcome. Parking limited to Grange Hall lot. Country swing and line dance lessons from 6:30-7:30.
URL:https://philomathnews.com/event/moonlight-country-mixer-at-the-grange/2026-03-02/
LOCATION:Marys River Grange Hall\, 24707 Grange Hall Road\, Philomath\, OR\, 97370
CATEGORIES:Arts and Entertainment
ATTACH;FMTTYPE=image/jpeg:https://philomathnews.com/wp-content/uploads/2025/09/081325-mrg-sign_8863-scaled.jpg
ORGANIZER;CN="Jamie Lee Dancing":MAILTO:Jamieleedancing@gmail.com
END:VEVENT
BEGIN:VEVENT
DTSTART;TZID=America/Los_Angeles:20260303T090000
DTEND;TZID=America/Los_Angeles:20260303T090000
DTSTAMP:20260420T065748
CREATED:20251116T195508Z
LAST-MODIFIED:20251116T200243Z
UID:10008779-1772528400-1772528400@philomathnews.com
SUMMARY:Benton County Board of Commissioners Meeting
DESCRIPTION:The Benton County Board of Commissioners typically meet for regular meetings at 9 a.m. on the first and third Tuesdays each month at the Kalapuya Building. Holidays and special events occasionally forces the board to move a regular meeting to another date.
URL:https://philomathnews.com/event/benton-county-board-of-commissioners-meeting/2026-03-03/
LOCATION:Kalapuya Building\, 4500 SW Research Way\, Corvallis\, OR\, 97333
CATEGORIES:Government
ATTACH;FMTTYPE=image/jpeg:https://philomathnews.com/wp-content/uploads/2022/02/020822-kalapuya-bldg_2625-scaled.jpeg
END:VEVENT
BEGIN:VEVENT
DTSTART;TZID=America/Los_Angeles:20260303T100000
DTEND;TZID=America/Los_Angeles:20260303T100000
DTSTAMP:20260420T065748
CREATED:20260227T180742Z
LAST-MODIFIED:20260227T180742Z
UID:10011760-1772532000-1772532000@philomathnews.com
SUMMARY:Philomath Sensational Seniors Society Arts and Crafts
DESCRIPTION:On March 3\, we will do our first Tuesday of the month meeting at Maxtivity to create crafts and more importantly laugh and have some fun. Maxtivity is located at 1604 Main St. in Philomath. You do not have to be a gifted crafter. All seniors are welcome\, and you can just drop in to get to know us. Join our email list at philomathseniors@gmail.com.
URL:https://philomathnews.com/event/philomath-sensational-seniors-society-arts-and-crafts/
LOCATION:Maxtivity Creative Space for Community Arts\, 1604 Main St.\, Philomath\, OR\, 97370
CATEGORIES:Clubs and Organizations
ATTACH;FMTTYPE=image/jpeg:https://philomathnews.com/wp-content/uploads/2026/02/022726-maxtivity-sign_2469-scaled.jpg
END:VEVENT
BEGIN:VEVENT
DTSTART;TZID=America/Los_Angeles:20260303T120000
DTEND;TZID=America/Los_Angeles:20260303T120000
DTSTAMP:20260420T065748
CREATED:20260224T044934Z
LAST-MODIFIED:20260224T044934Z
UID:10011748-1772539200-1772539200@philomathnews.com
SUMMARY:Philomath Rotary Club Meeting
DESCRIPTION:Please come to the Philomath Rotary Club meeting event on March 3 at noon in the fellowship hall of Peace Lutheran Church.  All Rotarians and community members are welcome.\nAnnouncements will be Philomath Rotary Club’s upcoming community service goals:\n• Community service projects such as Peace Pole installations at 5 school grounds and 1 at the Philomath Community Services.\n• Planning for the 24th annual Salmon & Jazz fun-raiser event on April 18th\, 2026.\n• Review of next steps for the Club participation in Philomath 25-year planning process.\nThere will be two presentations:\n• Philomath High School Councilor\, Beth Edgemon\, will speak about their supplemental weekend food program.\n• Robert Hulshof-Schmidt\, Club President-Elect will talk about Rotary Leadership Priorities for the coming Rotary year 2026-2027\, as discussed at the training he  attended in February.\nWe hope you can come and please remember lunch will be provided. Please RSVP to rotaryfred@hotmail.com if you will be attending so we can plan the number of meals.  There will be a board meeting following the meeting at 1 p.m.
URL:https://philomathnews.com/event/philomath-rotary-club-meeting-7/
LOCATION:Peace Lutheran Church\, 2540 Applegate St.\, Philomath\, OR\, 97370
CATEGORIES:Clubs and Organizations
ATTACH;FMTTYPE=image/jpeg:https://philomathnews.com/wp-content/uploads/2025/07/062725-rotary-file_7524-scaled.jpg
END:VEVENT
BEGIN:VEVENT
DTSTART;TZID=America/Los_Angeles:20260303T173000
DTEND;TZID=America/Los_Angeles:20260303T173000
DTSTAMP:20260420T065748
CREATED:20251116T201754Z
LAST-MODIFIED:20260103T155752Z
UID:10008901-1772559000-1772559000@philomathnews.com
SUMMARY:Philomath Park Advisory Board Meeting
DESCRIPTION:The Board meets on the first Tuesday of each month at 5:30 p.m. Access Park Advisory Board agenda packets here.
URL:https://philomathnews.com/event/philomath-park-advisory-board-meeting/2026-03-03/
LOCATION:Philomath City Hall\, 980 Applegate St.\, Philomath
CATEGORIES:Government
ATTACH;FMTTYPE=image/jpeg:https://philomathnews.com/wp-content/uploads/2025/01/011525-city-hall-file_1596-scaled.jpeg
END:VEVENT
BEGIN:VEVENT
DTSTART;TZID=America/Los_Angeles:20260303T173000
DTEND;TZID=America/Los_Angeles:20260303T173000
DTSTAMP:20260420T065748
CREATED:20260228T230011Z
LAST-MODIFIED:20260228T230011Z
UID:10011762-1772559000-1772559000@philomathnews.com
SUMMARY:PHS Girls Basketball at Corvallis
DESCRIPTION:Philomath High’s girls basketball team is scheduled to play at Corvallis at 5:30 p.m. Tuesday\, March 3.
URL:https://philomathnews.com/event/phs-girls-basketball-at-corvallis/
LOCATION:Corvallis High School\, 1400 NW Buchanan Ave.\, Corvallis\, OR\, 97330
CATEGORIES:Athletics
ATTACH;FMTTYPE=image/jpeg:https://philomathnews.com/wp-content/uploads/2026/02/020326-gbb-may_2255-scaled.jpg
END:VEVENT
BEGIN:VEVENT
DTSTART;TZID=America/Los_Angeles:20260303T180000
DTEND;TZID=America/Los_Angeles:20260303T190000
DTSTAMP:20260420T065748
CREATED:20251116T192954Z
LAST-MODIFIED:20251116T193042Z
UID:10008006-1772560800-1772564400@philomathnews.com
SUMMARY:Philomath Community Meal
DESCRIPTION:Free meal and fellowship — everyone welcome! Live music\, prayer room\, delicious meal. Sponsored by Philomath Area Churches.
URL:https://philomathnews.com/event/philomath-community-meal/2026-03-03/
LOCATION:College United Methodist Church\, 1123 Main St.\, Philomath\, OR\, 97370
CATEGORIES:Community
ATTACH;FMTTYPE=image/jpeg:https://philomathnews.com/wp-content/uploads/2024/11/112424-community-dinner-sign_256.jpg
ORGANIZER;CN="College United Methodist Church":MAILTO:collegeumc@gmail.com
END:VEVENT
BEGIN:VEVENT
DTSTART;TZID=America/Los_Angeles:20260303T180000
DTEND;TZID=America/Los_Angeles:20260303T190000
DTSTAMP:20260420T065748
CREATED:20251216T154159Z
LAST-MODIFIED:20251216T154159Z
UID:10010986-1772560800-1772564400@philomathnews.com
SUMMARY:Yoga at the Grange
DESCRIPTION:Instructor Laura Coen leads Yoga at the Grange Tuesdays from Dec. 2-March 17. \nNo Registration Required. For more information\, send email to: lauraploeg@yahoo.com \nLaura has been teaching yoga to adults\, children and families since 2014. She believes individuals can experience a mindful connection to themselves and the world through the practice of yoga. With a mindful connection to self\, both adults and children can feel better\, have more self-control and more self-awareness. A strong sense of self allows for more stable connections with others. Laura hopes to help yoga students find stability in themselves\, and therefore become more productive\, helpful and healthy members of their community.
URL:https://philomathnews.com/event/yoga-at-the-grange-2/2026-03-03/
LOCATION:Marys River Grange Hall\, 24707 Grange Hall Road\, Philomath\, OR\, 97370
CATEGORIES:Exercise
ATTACH;FMTTYPE=image/jpeg:https://philomathnews.com/wp-content/uploads/2025/03/030725-yoga-artwork.jpg
ORGANIZER;CN="Laura Coen":MAILTO:lauraploeg@yahoo.com
END:VEVENT
BEGIN:VEVENT
DTSTART;TZID=America/Los_Angeles:20260303T183000
DTEND;TZID=America/Los_Angeles:20260303T193000
DTSTAMP:20260420T065748
CREATED:20251116T202150Z
LAST-MODIFIED:20251116T202150Z
UID:10008961-1772562600-1772566200@philomathnews.com
SUMMARY:Philomath Evening Book Club
DESCRIPTION:The Philomath Evening Book Club meets at the Philomath Community Library on the first Tuesday of each month (unless noted). Copies of book club books are available monthly at the library; please ask at the front desk.
URL:https://philomathnews.com/event/philomath-evening-book-club/2026-03-03/
LOCATION:Philomath Community Library\, 1050 Applegate\, Philomath\, OR\, 97370
CATEGORIES:Library
ATTACH;FMTTYPE=image/jpeg:https://philomathnews.com/wp-content/uploads/2022/08/081522-library-file_7767-scaled.jpeg
END:VEVENT
BEGIN:VEVENT
DTSTART;TZID=America/Los_Angeles:20260304T083000
DTEND;TZID=America/Los_Angeles:20260304T093000
DTSTAMP:20260420T065748
CREATED:20260305T003245Z
LAST-MODIFIED:20260305T003245Z
UID:10011778-1772613000-1772616600@philomathnews.com
SUMMARY:Philomath Area Chamber of Commerce Greeters
DESCRIPTION:Join us for Greeters for complimentary coffee\, treats\, prizes and networking. 8:30-9:30 am at Slipstream Clay Studios \nGreeters gatherings are typically held the first Wednesday of each month from 8:30 – 9:30 am at various Chamber member host locations throughout Philomath. \nCome network in a fun and relaxed atmosphere! It’s a great opportunity to visit Philomath Chamber members and show support for our business community. This program gives business owners an opportunity to promote their operations to a core group of actively involved business people in the community. Lively and uplifting\, there’s no better way to make connections and build professional relationships. Greeters is a networking program available to all Philomath Area Chamber of Commerce members (and their employees)
URL:https://philomathnews.com/event/philomath-area-chamber-of-commerce-greeters-4/
LOCATION:Slipstream Clay Studio\, 1233 Main St.\, Philomath\, OR\, 97370
CATEGORIES:Business,Clubs and Organizations
ATTACH;FMTTYPE=image/jpeg:https://philomathnews.com/wp-content/uploads/2025/03/011625-chamber-logo-file_0576-scaled.jpg
ORGANIZER;CN="Philomath Area Chamber of Commerce":MAILTO:director@philomathchamber.org
END:VEVENT
BEGIN:VEVENT
DTSTART;TZID=America/Los_Angeles:20260304T090000
DTEND;TZID=America/Los_Angeles:20260304T120000
DTSTAMP:20260420T065748
CREATED:20251230T162231Z
LAST-MODIFIED:20260106T155015Z
UID:10008268-1772614800-1772625600@philomathnews.com
SUMMARY:Quilts From Caring Hands
DESCRIPTION:The primary purpose of Quilts From Caring Hands is to bring the feeling of loving comfort to at-risk children in Oregon’s Benton\, Linn and Marion counties. These include those who are homeless\, drug addicted\, visually impaired\, or abused\, and those in foster care. Our quilts are distributed through designated social service agencies. \nEach quilt we make for a child is unique. In addition to crib- and twin-sized quilts\, we also assemble tactile quilts and “cuddlers” for visually impaired children.  The finished quilts and cuddlers are given away once each quarter. \nQCH is grateful to our sponsors for their support over the years. Quilts from Caring Hands is a volunteer-powered 501(c)(3) nonprofit organization.  All donations are tax deductible.
URL:https://philomathnews.com/event/quilts-from-caring-hands-2/2026-03-04/
LOCATION:Philomath Scout Lodge\, 660 Clemens Mill Road\, Philomath\, OR\, 97370
CATEGORIES:Clubs and Organizations
ATTACH;FMTTYPE=image/jpeg:https://philomathnews.com/wp-content/uploads/2022/08/081122-quilters-workroom_6836-scaled.jpeg
ORGANIZER;CN="Quilts From Caring Hands":MAILTO:qch@peak.org
END:VEVENT
BEGIN:VEVENT
DTSTART;TZID=America/Los_Angeles:20260304T103000
DTEND;TZID=America/Los_Angeles:20260304T110000
DTSTAMP:20260420T065748
CREATED:20251116T194546Z
LAST-MODIFIED:20251116T194634Z
UID:10008529-1772620200-1772622000@philomathnews.com
SUMMARY:Philomath Storytime at the Library
DESCRIPTION:Children of all ages and their families are invited to join us for an interactive storytime full of books\, songs\, and music.
URL:https://philomathnews.com/event/philomath-storytime-at-the-library/2026-03-04/
LOCATION:Philomath Community Library\, 1050 Applegate\, Philomath\, OR\, 97370
CATEGORIES:Library
ATTACH;FMTTYPE=image/jpeg:https://philomathnews.com/wp-content/uploads/2024/07/Calendar-Philomath-Community-Library.jpg
END:VEVENT
BEGIN:VEVENT
DTSTART;TZID=America/Los_Angeles:20260304T120000
DTEND;TZID=America/Los_Angeles:20260304T120000
DTSTAMP:20260420T065748
CREATED:20251116T222511Z
LAST-MODIFIED:20251116T222511Z
UID:10009893-1772625600-1772625600@philomathnews.com
SUMMARY:Philomath Lions Club Meeting
DESCRIPTION:The Philomath Lions Club meets on the first and third Wednesdays of the month at noon at Philomath Fire and Rescue’s Station 201.
URL:https://philomathnews.com/event/philomath-lions-club-meeting-2/2026-03-04/
LOCATION:Philomath Fire and Rescue\, 1035 Main St.\, Philomath\, OR\, 97370
CATEGORIES:Clubs and Organizations
ATTACH;FMTTYPE=image/jpeg:https://philomathnews.com/wp-content/uploads/2025/04/040925-lions-club-artwork_2509-scaled.jpeg
END:VEVENT
BEGIN:VEVENT
DTSTART;TZID=America/Los_Angeles:20260304T143000
DTEND;TZID=America/Los_Angeles:20260304T160000
DTSTAMP:20260420T065748
CREATED:20260303T140940Z
LAST-MODIFIED:20260303T140940Z
UID:10011767-1772634600-1772640000@philomathnews.com
SUMMARY:Dementia Warriors Support Group Meeting
DESCRIPTION:At our next support group meeting on Wednesday\, March 4\, we will have a guest speaker from the Alzheimer’s Association presenting on Understanding Alzheimer’s & Dementia. This would be a good opportunity for anyone interested in learning more to attend. \nDementia Warriors meets from 2:30-4 p.m. on the first and third Wednesday of each month at Peace Lutheran Church in Philomath\, Oregon.
URL:https://philomathnews.com/event/dementia-warriors-support-group-meeting-3/
LOCATION:Peace Lutheran Church\, 2540 Applegate St.\, Philomath\, OR\, 97370
CATEGORIES:Clubs and Organizations
ATTACH;FMTTYPE=image/jpeg:https://philomathnews.com/wp-content/uploads/2023/02/Peace-Lutheran-Church1-2020-scaled.jpg
ORGANIZER;CN="Dementia Warriors":MAILTO:dementiaadvocacy16@gmail.com
END:VEVENT
BEGIN:VEVENT
DTSTART;TZID=America/Los_Angeles:20260304T153000
DTEND;TZID=America/Los_Angeles:20260304T163000
DTSTAMP:20260420T065748
CREATED:20260119T193850Z
LAST-MODIFIED:20260119T193850Z
UID:10011683-1772638200-1772641800@philomathnews.com
SUMMARY:BUILD IT Day at Library
DESCRIPTION:Patrons of all ages are invited to play with a variety of building toys. Each week a new engineering challenge will be issued for patrons to attempt. Can you build the highest tower? Can you build the strongest bridge?
URL:https://philomathnews.com/event/build-it-day-at-library-4/
LOCATION:Philomath Community Library\, 1050 Applegate\, Philomath\, OR\, 97370
CATEGORIES:Library
ATTACH;FMTTYPE=image/jpeg:https://philomathnews.com/wp-content/uploads/2024/07/Calendar-Philomath-Community-Library.jpg
END:VEVENT
BEGIN:VEVENT
DTSTART;TZID=America/Los_Angeles:20260304T183000
DTEND;TZID=America/Los_Angeles:20260304T203000
DTSTAMP:20260420T065748
CREATED:20251116T204619Z
LAST-MODIFIED:20251116T204619Z
UID:10009343-1772649000-1772656200@philomathnews.com
SUMMARY:Marys River Grange No. 685 Meeting
DESCRIPTION:Potluck and Social: 6:30 \nPresentation: 7:00 \nBusiness Meeting: 7:30-8:30
URL:https://philomathnews.com/event/marys-river-grange-no-685-meeting/2026-03-04/
LOCATION:Marys River Grange Hall\, 24707 Grange Hall Road\, Philomath\, OR\, 97370
CATEGORIES:Clubs and Organizations
ATTACH;FMTTYPE=image/jpeg:https://philomathnews.com/wp-content/uploads/2025/09/081325-mrg-sign_8863-scaled.jpg
ORGANIZER;CN="Marys River Grange No. 685":MAILTO:marysrivergrange@gmail.com
END:VEVENT
BEGIN:VEVENT
DTSTART;TZID=America/Los_Angeles:20260305T160000
DTEND;TZID=America/Los_Angeles:20260305T160000
DTSTAMP:20260420T065748
CREATED:20260303T032409Z
LAST-MODIFIED:20260303T032409Z
UID:10011763-1772726400-1772726400@philomathnews.com
SUMMARY:Alice in Wonderland Tea Party
DESCRIPTION:Philomath Middle School theater students will host its “Alice in Wonderland” Tea Party at 4 p.m. Thursday\, March 5\, in the Philomath High School auditorium. Admission is $5. Sing and dance with the cast as they perform songs from the musical while enjoying lemonade and cookies.
URL:https://philomathnews.com/event/alice-in-wonderland-tea-party/
LOCATION:Philomath High School\, 2054 Applegate St.\, Philomath\, OR\, 97370
CATEGORIES:Arts and Entertainment,Schools
ATTACH;FMTTYPE=image/jpeg:https://philomathnews.com/wp-content/uploads/2025/03/031125-aladdin_2803-scaled.jpg
END:VEVENT
BEGIN:VEVENT
DTSTART;TZID=America/Los_Angeles:20260305T180000
DTEND;TZID=America/Los_Angeles:20260305T180000
DTSTAMP:20260420T065748
CREATED:20260304T141941Z
LAST-MODIFIED:20260304T141941Z
UID:10011768-1772733600-1772733600@philomathnews.com
SUMMARY:Philomath School District Budget Committee Meeting
DESCRIPTION:The Philomath School District Budget Committee plans to meet at 6 p.m. Thursday\, March 5 in the Philomath High School Community Conference Room. See a notice of the meeting here.
URL:https://philomathnews.com/event/philomath-school-district-budget-committee-meeting-2/
LOCATION:Philomath High School\, 2054 Applegate St.\, Philomath\, OR\, 97370
CATEGORIES:Government,Schools
ATTACH;FMTTYPE=image/jpeg:https://philomathnews.com/wp-content/uploads/2021/11/080818-pe-nws-phs-file.jpg
END:VEVENT
BEGIN:VEVENT
DTSTART;TZID=America/Los_Angeles:20260306T170000
DTEND;TZID=America/Los_Angeles:20260306T190000
DTSTAMP:20260420T065748
CREATED:20251116T211625Z
LAST-MODIFIED:20251116T211823Z
UID:10009403-1772816400-1772823600@philomathnews.com
SUMMARY:Omelet Dinner at College United Methodist Church
DESCRIPTION:Held the first Friday of each month (excluding July and August)\, the dinner began in 1987 as a means of funding parsonage property taxes. Dinners are open to the public. The meal consists of an omelet (made while you watch) with your choice of fillings (ham\, green onion\, green peppers\, mushrooms\, cheddar and/or Jack cheese)\, homemade scones\, fresh fruit and a beverage. If you are real hungry\, sausage gravy and scones are available for purchase. Homemade desserts can be enjoyed for a donation. \nIn April\, omelets are replaced with our annual Spaghetti Dinner. The meal includes spaghetti\, bread\, salad and a beverage. Delicious\, homemade desserts will be available for a donation. (Same time\, same place — Social Hall from 5-7 PM)
URL:https://philomathnews.com/event/omelet-dinner-at-college-united-methodist-church/2026-03-06/
LOCATION:College United Methodist Church\, 1123 Main St.\, Philomath\, OR\, 97370
CATEGORIES:Community
ATTACH;FMTTYPE=image/jpeg:https://philomathnews.com/wp-content/uploads/2020/11/College-United-Methodist-Church3-2020.jpg
ORGANIZER;CN="College United Methodist Church":MAILTO:collegeumc@gmail.com
END:VEVENT
BEGIN:VEVENT
DTSTART;TZID=America/Los_Angeles:20260306T190000
DTEND;TZID=America/Los_Angeles:20260306T190000
DTSTAMP:20260420T065748
CREATED:20260305T152005Z
LAST-MODIFIED:20260305T152005Z
UID:10011784-1772823600-1772823600@philomathnews.com
SUMMARY:PHS Boys Basketball at St. Helens
DESCRIPTION:Philomath High’s boys basketball team is scheduled to play at St. Helens at 7 p.m. Friday\, March 6 in the first round of the Class 4A playoffs.
URL:https://philomathnews.com/event/phs-boys-basketball-at-st-helens-2/
LOCATION:St. Helens High School\, 2375 Gable Rd\, St. Helens\, OR\, 97051
CATEGORIES:Athletics
ATTACH;FMTTYPE=image/jpeg:https://philomathnews.com/wp-content/uploads/2026/02/021326-bbb-Peters-jo-01.jpg
END:VEVENT
BEGIN:VEVENT
DTSTART;TZID=America/Los_Angeles:20260307T090000
DTEND;TZID=America/Los_Angeles:20260307T130000
DTSTAMP:20260420T065748
CREATED:20251226T194733Z
LAST-MODIFIED:20260319T050414Z
UID:10011496-1772874000-1772888400@philomathnews.com
SUMMARY:Corvallis Indoor Winter Market
DESCRIPTION:The 2026 winter market season begins Jan. 10\, 2026. \nThe winter market again will be matching SNAP with Double Up Food Bucks up to $20 per market . This is the same program offered at other farmers’ markets during the regular season. \nOutdoor markets in Corvallis and Albany are run by Corvallis-Albany Farmers’ Markets. Please visit their page\, www.locallygrown.org\, for information about regular season markets. \nMarket hours are 9 a.m. to 1 p.m. every Saturday in Guerber Hall at the Benton County Fairgrounds.
URL:https://philomathnews.com/event/corvallis-indoor-winter-market/2026-03-07/
LOCATION:Benton County Fairgrounds\, 110 SW 53rd St.\, Corvallis\, OR\, 97333
CATEGORIES:Clubs and Organizations
ATTACH;FMTTYPE=image/jpeg:https://philomathnews.com/wp-content/uploads/2023/02/020523-fresh-veggies-philo-photos_9833.jpg
ORGANIZER;CN="Corvallis-Albany Farmers' Markets":MAILTO:cafm@locallygrown.org
END:VEVENT
BEGIN:VEVENT
DTSTART;TZID=America/Los_Angeles:20260307T130000
DTEND;TZID=America/Los_Angeles:20260307T130000
DTSTAMP:20260420T065748
CREATED:20260119T191950Z
LAST-MODIFIED:20260119T191950Z
UID:10011676-1772888400-1772888400@philomathnews.com
SUMMARY:Historic Philomath College Tour at Philomath Museum
DESCRIPTION:Historic Philomath College Tour\nSaturday\, March 7\, 2026\n1:00 pm \nHistoric tour of Philomath College will highlight the stories of the students and teachers who lived and worked here\, shaping the future of the town of Philomath. Erected in 1867\, building is now listed in the National Register of Historic Places. The campus once included a gymnasium and tennis court! Learn about the intriguing history of church of the United Brethren in Christ and their legacy in the modern town of Philomath\, Oregon. \nTours are led by a trained docent from Benton County Historical Society. \nDress for the weather; a portion of the tour occurs outside. \nAccommodations can be made with advance notice! Please email education@bentoncountymuseums.org for accommodations relating to a disability. \nCost: $10 per person. Registration required. \nMeeting place: Philomath Museum. 1101 Main Street\, Philomath Oregon 97370
URL:https://philomathnews.com/event/historic-philomath-college-tour-at-philomath-museum/
LOCATION:Philomath Museum\, 1101 Main St.\, Philomath\, OR\, 97370
CATEGORIES:Clubs and Organizations,Community
ATTACH;FMTTYPE=image/jpeg:https://philomathnews.com/wp-content/uploads/2025/10/101125-philomath-museum-file_4063-scaled.jpg
END:VEVENT
BEGIN:VEVENT
DTSTART;TZID=America/Los_Angeles:20260307T180000
DTEND;TZID=America/Los_Angeles:20260307T180000
DTSTAMP:20260420T065748
CREATED:20260305T005647Z
LAST-MODIFIED:20260305T005647Z
UID:10011782-1772906400-1772906400@philomathnews.com
SUMMARY:PHS Girls Basketball at Molalla
DESCRIPTION:Philomath High’s girls basketball team is scheduled to play at Molalla High at 6 p.m. Saturday\, March 7\, in the first round of the Class 4A playoffs.
URL:https://philomathnews.com/event/phs-girls-basketball-at-molalla/
LOCATION:Molalla High School\, 357 Frances St.\, Molalla\, OR\, 97038
CATEGORIES:Athletics
ATTACH;FMTTYPE=image/jpeg:https://philomathnews.com/wp-content/uploads/2026/01/012726-gbb-Toombs-01.jpg
END:VEVENT
END:VCALENDAR