BEGIN:VCALENDAR
VERSION:2.0
PRODID:-//Philomath News - ECPv6.15.20//NONSGML v1.0//EN
CALSCALE:GREGORIAN
METHOD:PUBLISH
X-WR-CALNAME:Philomath News
X-ORIGINAL-URL:https://philomathnews.com
X-WR-CALDESC:Events for Philomath News
REFRESH-INTERVAL;VALUE=DURATION:PT1H
X-Robots-Tag:noindex
X-PUBLISHED-TTL:PT1H
BEGIN:VTIMEZONE
TZID:America/Los_Angeles
BEGIN:DAYLIGHT
TZOFFSETFROM:-0800
TZOFFSETTO:-0700
TZNAME:PDT
DTSTART:20250309T100000
END:DAYLIGHT
BEGIN:STANDARD
TZOFFSETFROM:-0700
TZOFFSETTO:-0800
TZNAME:PST
DTSTART:20251102T090000
END:STANDARD
BEGIN:DAYLIGHT
TZOFFSETFROM:-0800
TZOFFSETTO:-0700
TZNAME:PDT
DTSTART:20260308T100000
END:DAYLIGHT
BEGIN:STANDARD
TZOFFSETFROM:-0700
TZOFFSETTO:-0800
TZNAME:PST
DTSTART:20261101T090000
END:STANDARD
BEGIN:DAYLIGHT
TZOFFSETFROM:-0800
TZOFFSETTO:-0700
TZNAME:PDT
DTSTART:20270314T100000
END:DAYLIGHT
BEGIN:STANDARD
TZOFFSETFROM:-0700
TZOFFSETTO:-0800
TZNAME:PST
DTSTART:20271107T090000
END:STANDARD
END:VTIMEZONE
BEGIN:VEVENT
DTSTART;TZID=America/Los_Angeles:20260111T103000
DTEND;TZID=America/Los_Angeles:20260111T103000
DTSTAMP:20260423T151059
CREATED:20251226T165759Z
LAST-MODIFIED:20251226T165900Z
UID:10011441-1768127400-1768127400@philomathnews.com
SUMMARY:Fruit Tree Spraying Class at Shonnard's
DESCRIPTION:Fruit Tree Spraying Class\nSunday\, January 11th at 10:30am\nFREE CLASS \nLearn the proper techniques\, timing\, and products for fruit tree spraying. Proper care in the dormant season can alleviate disease and insect problems during the growing season.
URL:https://philomathnews.com/event/fruit-tree-spraying-class-at-shonnards/
LOCATION:Shonnard’s Nursery\, 6600 Philomath Blvd\, Corvallis\, OR\, 97333
CATEGORIES:Classes and Workshops
ATTACH;FMTTYPE=image/jpeg:https://philomathnews.com/wp-content/uploads/2025/12/011126-shonnards-class-artwork.jpg
END:VEVENT
BEGIN:VEVENT
DTSTART;TZID=America/Los_Angeles:20260112T090000
DTEND;TZID=America/Los_Angeles:20260112T090000
DTSTAMP:20260423T151059
CREATED:20251116T054312Z
LAST-MODIFIED:20251116T054312Z
UID:10007215-1768208400-1768208400@philomathnews.com
SUMMARY:Philomath TOPS Meeting
DESCRIPTION:The Philomath chapter of TOPS (Take Off Pounds Sensibly) meets at 9 a.m. Mondays at Peace Lutheran Church with weigh-in preceding the meeting from 8:30-9 a.m.
URL:https://philomathnews.com/event/philomath-tops-meeting/2026-01-12/
LOCATION:Peace Lutheran Church\, 2540 Applegate St.\, Philomath\, OR\, 97370
CATEGORIES:Clubs and Organizations
ATTACH;FMTTYPE=image/jpeg:https://philomathnews.com/wp-content/uploads/2023/02/Peace-Lutheran-Church1-2020-scaled.jpg
END:VEVENT
BEGIN:VEVENT
DTSTART;TZID=America/Los_Angeles:20260112T100000
DTEND;TZID=America/Los_Angeles:20260112T100000
DTSTAMP:20260423T151059
CREATED:20251116T185922Z
LAST-MODIFIED:20251116T185922Z
UID:10007476-1768212000-1768212000@philomathnews.com
SUMMARY:Dementia Warriors Coffee Connections
DESCRIPTION:Dementia Warriors Coffee Connections meets at 10 a.m. Mondays at Timber Towne Coffee in Philomath. From the organizer: “Come savor this casual opportunity to connect and laugh with people with dementia/Alzheimer’s and caregivers.”
URL:https://philomathnews.com/event/dementia-warriors-coffee-connections/2026-01-12/
LOCATION:Timber Towne Coffee\, 1427 Main St.\, Philomath\, OR\, 97370
CATEGORIES:Clubs and Organizations
ATTACH;FMTTYPE=image/jpeg:https://philomathnews.com/wp-content/uploads/2025/01/020422-Douglas-The-Truck-At-Timber-Townejpg.jpg
ORGANIZER;CN="Dementia Warriors":MAILTO:dementiaadvocacy16@gmail.com
END:VEVENT
BEGIN:VEVENT
DTSTART;TZID=America/Los_Angeles:20260112T150000
DTEND;TZID=America/Los_Angeles:20260112T150000
DTSTAMP:20260423T151059
CREATED:20251116T212129Z
LAST-MODIFIED:20251116T212129Z
UID:10009461-1768230000-1768230000@philomathnews.com
SUMMARY:Philomath Fire and Rescue Board of Directors Meeting
DESCRIPTION:The Philomath Fire and Rescue’s Board of Directors meets on the second Tuesday each month at 3 p.m. at Station 201 (1035 Main St.).
URL:https://philomathnews.com/event/philomath-fire-and-rescue-board-of-directors-meeting/2026-01-12/
LOCATION:Philomath Fire and Rescue\, 1035 Main St.\, Philomath\, OR\, 97370
CATEGORIES:Government
ATTACH;FMTTYPE=image/jpeg:https://philomathnews.com/wp-content/uploads/2020/11/Philomath-Fire-Rescue2-2020.jpg
END:VEVENT
BEGIN:VEVENT
DTSTART;TZID=America/Los_Angeles:20260112T183000
DTEND;TZID=America/Los_Angeles:20260112T223000
DTSTAMP:20260423T151059
CREATED:20251116T192605Z
LAST-MODIFIED:20251116T192605Z
UID:10007738-1768242600-1768257000@philomathnews.com
SUMMARY:Moonlight Country Mixer at the Grange
DESCRIPTION:Jamie Lee Dancing presents Moonlight Country Mixer. Every Monday 6:30-10:30 p.m. at Marys River Grange\, 24707 Grange Hall Rd.\, Philomath. Cost: $5. All ages welcome. Parking limited to Grange Hall lot. Country swing and line dance lessons from 6:30-7:30.
URL:https://philomathnews.com/event/moonlight-country-mixer-at-the-grange/2026-01-12/
LOCATION:Marys River Grange Hall\, 24707 Grange Hall Road\, Philomath\, OR\, 97370
CATEGORIES:Arts and Entertainment
ATTACH;FMTTYPE=image/jpeg:https://philomathnews.com/wp-content/uploads/2025/09/081325-mrg-sign_8863-scaled.jpg
ORGANIZER;CN="Jamie Lee Dancing":MAILTO:Jamieleedancing@gmail.com
END:VEVENT
BEGIN:VEVENT
DTSTART;TZID=America/Los_Angeles:20260112T190000
DTEND;TZID=America/Los_Angeles:20260112T190000
DTSTAMP:20260423T151059
CREATED:20251116T212502Z
LAST-MODIFIED:20251116T212502Z
UID:10009521-1768244400-1768244400@philomathnews.com
SUMMARY:Philomath City Council Meeting
DESCRIPTION:Agendas are typically posted on the Friday prior to the scheduled meeting.
URL:https://philomathnews.com/event/philomath-city-council-meeting/2026-01-12/
LOCATION:Philomath City Hall\, 980 Applegate St.\, Philomath
CATEGORIES:Government
ATTACH;FMTTYPE=image/jpeg:https://philomathnews.com/wp-content/uploads/2025/01/011525-city-hall-file_1596-scaled.jpeg
END:VEVENT
BEGIN:VEVENT
DTSTART;TZID=America/Los_Angeles:20260113T090000
DTEND;TZID=America/Los_Angeles:20260113T090000
DTSTAMP:20260423T151059
CREATED:20251226T163430Z
LAST-MODIFIED:20251226T163430Z
UID:10011438-1768294800-1768294800@philomathnews.com
SUMMARY:Benton County Board of Commissioners Goal-Setting Meeting
DESCRIPTION:The Benton County Board of Commissioners plans to hold meeting to discuss its goals at 9 a.m. Tuesday\, Jan. 13 at the Kalapuya Building.
URL:https://philomathnews.com/event/benton-county-board-of-commissioners-goal-setting-meeting-2/
LOCATION:Kalapuya Building\, 4500 SW Research Way\, Corvallis\, OR\, 97333
CATEGORIES:Government
ATTACH;FMTTYPE=image/jpeg:https://philomathnews.com/wp-content/uploads/2022/02/020822-kalapuya-bldg_2625-scaled.jpeg
END:VEVENT
BEGIN:VEVENT
DTSTART;TZID=America/Los_Angeles:20260113T100000
DTEND;TZID=America/Los_Angeles:20260113T120000
DTSTAMP:20260423T151059
CREATED:20251116T213213Z
LAST-MODIFIED:20251116T213213Z
UID:10009580-1768298400-1768305600@philomathnews.com
SUMMARY:Philomath Sensational Seniors Society Meeting
DESCRIPTION:TOPIC: Home Security with Benton County Sheriff\nWhen: 13 January 2026\nTime: 10 AM to 12 AM\nWhere: Philomath City Hall – Council Chambers\nWho: Ages 55+ \nJoin us for a monthly Senior Gathering focused on building community and discussing the needs of senior citizens in Philomath. This informal meetup is a space to share ideas\, raise concerns\, and connect with others in a friendly environment. \nAll are welcome—please invite your friends! \nNo registration required. \nFor more information\, contact Diane Crocker.
URL:https://philomathnews.com/event/philomath-sensational-seniors-society-meeting/
LOCATION:Philomath City Hall\, 980 Applegate St.\, Philomath
CATEGORIES:Clubs and Organizations
ATTACH;FMTTYPE=image/jpeg:https://philomathnews.com/wp-content/uploads/2022/08/081522-city-hall-file_7775-scaled.jpeg
END:VEVENT
BEGIN:VEVENT
DTSTART;TZID=America/Los_Angeles:20260113T173000
DTEND;TZID=America/Los_Angeles:20260113T173000
DTSTAMP:20260423T151059
CREATED:20251226T175823Z
LAST-MODIFIED:20251226T175823Z
UID:10011456-1768325400-1768325400@philomathnews.com
SUMMARY:Philomath Unified Basketball vs. Sutherlin
DESCRIPTION:The Philomath High School Unified basketball team is scheduled to play at home vs. Sutherlin at 5:30 p.m. Tuesday\, Jan. 13.
URL:https://philomathnews.com/event/philomath-unified-basketball-vs-sutherlin/
LOCATION:Philomath High School\, 2054 Applegate St.\, Philomath\, OR\, 97370
CATEGORIES:Athletics
ATTACH;FMTTYPE=image/jpeg:https://philomathnews.com/wp-content/uploads/2021/11/080818-pe-nws-phs-file.jpg
END:VEVENT
BEGIN:VEVENT
DTSTART;TZID=America/Los_Angeles:20260113T173000
DTEND;TZID=America/Los_Angeles:20260113T173000
DTSTAMP:20260423T151059
CREATED:20251226T182346Z
LAST-MODIFIED:20251226T182346Z
UID:10011467-1768325400-1768325400@philomathnews.com
SUMMARY:PHS Girls Basketball vs. Sutherlin
DESCRIPTION:Philomath High’s girls basketball team is scheduled to host Sutherlin at 5:30 p.m. Tuesday\, Jan. 13.
URL:https://philomathnews.com/event/phs-girls-basketball-vs-sutherlin/
LOCATION:Philomath High School\, 2054 Applegate St.\, Philomath\, OR\, 97370
CATEGORIES:Athletics
ATTACH;FMTTYPE=image/jpeg:https://philomathnews.com/wp-content/uploads/2025/12/121625-gbb-Heiken-06.jpg
END:VEVENT
BEGIN:VEVENT
DTSTART;TZID=America/Los_Angeles:20260113T180000
DTEND;TZID=America/Los_Angeles:20260113T190000
DTSTAMP:20260423T151059
CREATED:20251116T192954Z
LAST-MODIFIED:20251116T193042Z
UID:10007999-1768327200-1768330800@philomathnews.com
SUMMARY:Philomath Community Meal
DESCRIPTION:Free meal and fellowship — everyone welcome! Live music\, prayer room\, delicious meal. Sponsored by Philomath Area Churches.
URL:https://philomathnews.com/event/philomath-community-meal/2026-01-13/
LOCATION:College United Methodist Church\, 1123 Main St.\, Philomath\, OR\, 97370
CATEGORIES:Community
ATTACH;FMTTYPE=image/jpeg:https://philomathnews.com/wp-content/uploads/2024/11/112424-community-dinner-sign_256.jpg
ORGANIZER;CN="College United Methodist Church":MAILTO:collegeumc@gmail.com
END:VEVENT
BEGIN:VEVENT
DTSTART;TZID=America/Los_Angeles:20260113T180000
DTEND;TZID=America/Los_Angeles:20260113T190000
DTSTAMP:20260423T151059
CREATED:20251216T154159Z
LAST-MODIFIED:20251216T154159Z
UID:10010979-1768327200-1768330800@philomathnews.com
SUMMARY:Yoga at the Grange
DESCRIPTION:Instructor Laura Coen leads Yoga at the Grange Tuesdays from Dec. 2-March 17. \nNo Registration Required. For more information\, send email to: lauraploeg@yahoo.com \nLaura has been teaching yoga to adults\, children and families since 2014. She believes individuals can experience a mindful connection to themselves and the world through the practice of yoga. With a mindful connection to self\, both adults and children can feel better\, have more self-control and more self-awareness. A strong sense of self allows for more stable connections with others. Laura hopes to help yoga students find stability in themselves\, and therefore become more productive\, helpful and healthy members of their community.
URL:https://philomathnews.com/event/yoga-at-the-grange-2/2026-01-13/
LOCATION:Marys River Grange Hall\, 24707 Grange Hall Road\, Philomath\, OR\, 97370
CATEGORIES:Exercise
ATTACH;FMTTYPE=image/jpeg:https://philomathnews.com/wp-content/uploads/2025/03/030725-yoga-artwork.jpg
ORGANIZER;CN="Laura Coen":MAILTO:lauraploeg@yahoo.com
END:VEVENT
BEGIN:VEVENT
DTSTART;TZID=America/Los_Angeles:20260113T190000
DTEND;TZID=America/Los_Angeles:20260113T190000
DTSTAMP:20260423T151059
CREATED:20251226T181240Z
LAST-MODIFIED:20251226T181240Z
UID:10011462-1768330800-1768330800@philomathnews.com
SUMMARY:PHS Boys Basketball vs. Gladstone
DESCRIPTION:Philomath High’s boys basketball team is scheduled to host Gladstone at 7 p.m. Tuesday\, Jan. 13.
URL:https://philomathnews.com/event/phs-boys-basketball-vs-gladstone/
LOCATION:Philomath High School\, 2054 Applegate St.\, Philomath\, OR\, 97370
CATEGORIES:Athletics
ATTACH;FMTTYPE=image/jpeg:https://philomathnews.com/wp-content/uploads/2025/12/121125-bbb-Nuno-03.jpg
END:VEVENT
BEGIN:VEVENT
DTSTART;TZID=America/Los_Angeles:20260114T090000
DTEND;TZID=America/Los_Angeles:20260114T120000
DTSTAMP:20260423T151059
CREATED:20251230T162231Z
LAST-MODIFIED:20260106T155015Z
UID:10008261-1768381200-1768392000@philomathnews.com
SUMMARY:Quilts From Caring Hands
DESCRIPTION:The primary purpose of Quilts From Caring Hands is to bring the feeling of loving comfort to at-risk children in Oregon’s Benton\, Linn and Marion counties. These include those who are homeless\, drug addicted\, visually impaired\, or abused\, and those in foster care. Our quilts are distributed through designated social service agencies. \nEach quilt we make for a child is unique. In addition to crib- and twin-sized quilts\, we also assemble tactile quilts and “cuddlers” for visually impaired children.  The finished quilts and cuddlers are given away once each quarter. \nQCH is grateful to our sponsors for their support over the years. Quilts from Caring Hands is a volunteer-powered 501(c)(3) nonprofit organization.  All donations are tax deductible.
URL:https://philomathnews.com/event/quilts-from-caring-hands-2/2026-01-14/
LOCATION:Philomath Scout Lodge\, 660 Clemens Mill Road\, Philomath\, OR\, 97370
CATEGORIES:Clubs and Organizations
ATTACH;FMTTYPE=image/jpeg:https://philomathnews.com/wp-content/uploads/2022/08/081122-quilters-workroom_6836-scaled.jpeg
ORGANIZER;CN="Quilts From Caring Hands":MAILTO:qch@peak.org
END:VEVENT
BEGIN:VEVENT
DTSTART;TZID=America/Los_Angeles:20260114T103000
DTEND;TZID=America/Los_Angeles:20260114T110000
DTSTAMP:20260423T151059
CREATED:20251116T194546Z
LAST-MODIFIED:20251116T194634Z
UID:10008522-1768386600-1768388400@philomathnews.com
SUMMARY:Philomath Storytime at the Library
DESCRIPTION:Children of all ages and their families are invited to join us for an interactive storytime full of books\, songs\, and music.
URL:https://philomathnews.com/event/philomath-storytime-at-the-library/2026-01-14/
LOCATION:Philomath Community Library\, 1050 Applegate\, Philomath\, OR\, 97370
CATEGORIES:Library
ATTACH;FMTTYPE=image/jpeg:https://philomathnews.com/wp-content/uploads/2024/07/Calendar-Philomath-Community-Library.jpg
END:VEVENT
BEGIN:VEVENT
DTSTART;TZID=America/Los_Angeles:20260114T110000
DTEND;TZID=America/Los_Angeles:20260114T120000
DTSTAMP:20260423T151059
CREATED:20251116T214126Z
LAST-MODIFIED:20251116T214126Z
UID:10009583-1768388400-1768392000@philomathnews.com
SUMMARY:Squishtivities at the Library
DESCRIPTION:Squishtivities by Strengthening Rural Families welcomes children and their families. Squishtivities is an adventure in play created especially for adults and their children using arts and crafts and “messy” play to promote problem-solving\, fine motor skills\, caregiver/child relationships\, and creativity.
URL:https://philomathnews.com/event/squishtivities-at-the-library/2026-01-14/
LOCATION:Philomath Community Library\, 1050 Applegate\, Philomath\, OR\, 97370
CATEGORIES:Library
ATTACH;FMTTYPE=image/jpeg:https://philomathnews.com/wp-content/uploads/2022/08/081522-library-file_7767-scaled.jpeg
END:VEVENT
BEGIN:VEVENT
DTSTART;TZID=America/Los_Angeles:20260114T161500
DTEND;TZID=America/Los_Angeles:20260114T161500
DTSTAMP:20260423T151059
CREATED:20251226T191531Z
LAST-MODIFIED:20251226T191531Z
UID:10011484-1768407300-1768407300@philomathnews.com
SUMMARY:PHS Swimming vs. Blanchet Catholic\, Stayton
DESCRIPTION:Philomath High’s boys and girls swim teams will host a tri-meet against Blanchet Catholic and Stayton at 4:15 p.m. Wednesday\, Jan. 14 at Clemens Community Pool. \n 
URL:https://philomathnews.com/event/phs-swimming-vs-blanchet-catholic-stayton/
LOCATION:Clemens Community Pool\, 2054 Applegate St.\, Philomath\, OR\, 97370
CATEGORIES:Athletics
ATTACH;FMTTYPE=image/jpeg:https://philomathnews.com/wp-content/uploads/2025/12/121025-swm-barton-50-free_9373-scaled.jpg
END:VEVENT
BEGIN:VEVENT
DTSTART;TZID=America/Los_Angeles:20260114T190000
DTEND;TZID=America/Los_Angeles:20260114T190000
DTSTAMP:20260423T151059
CREATED:20251116T214634Z
LAST-MODIFIED:20251116T214634Z
UID:10009643-1768417200-1768417200@philomathnews.com
SUMMARY:Wren Community Club Board Meeting
DESCRIPTION:Board meetings are scheduled monthly — currently\, on the 2nd Wednesday of the month — at the Wren Community Hall. All meetings are open and welcome to the public.
URL:https://philomathnews.com/event/wren-community-club-board-meeting/2026-01-14/
LOCATION:Wren Community Hall\, 35515 Kings Valley Hwy\, Philomath\, OR\, 97370
CATEGORIES:Clubs and Organizations
ATTACH;FMTTYPE=image/jpeg:https://philomathnews.com/wp-content/uploads/2022/05/051022-wren-community-hall-file_5985.jpeg
ORGANIZER;CN="Wren Community Club":MAILTO:LavenderDreams15@peak.org
END:VEVENT
BEGIN:VEVENT
DTSTART;TZID=America/Los_Angeles:20260114T190000
DTEND;TZID=America/Los_Angeles:20260114T190000
DTSTAMP:20260423T151059
CREATED:20251116T215226Z
LAST-MODIFIED:20251116T215226Z
UID:10009703-1768417200-1768417200@philomathnews.com
SUMMARY:Bluegrass Workshop and Jam
DESCRIPTION:The Philomath Bluegrass Workshop and Jam takes place the second Wednesday of the month at Marys River Grange Hall. The workshop starts at 7 p.m.\, and jamming kicks off at 7:30 p.m. \nAdmission is $7 adults/$5 youth; listeners donate as desired
URL:https://philomathnews.com/event/bluegrass-workshop-and-jam/2026-01-14/
LOCATION:Marys River Grange Hall\, 24707 Grange Hall Road\, Philomath\, OR\, 97370
CATEGORIES:Arts and Entertainment
ATTACH;FMTTYPE=image/jpeg:https://philomathnews.com/wp-content/uploads/2024/09/090724-banjo-strings.jpg
ORGANIZER;CN="Yvonne McMillan":MAILTO:mt_girl_yvonne@yahoo.com
END:VEVENT
BEGIN:VEVENT
DTSTART;TZID=America/Los_Angeles:20260115T114500
DTEND;TZID=America/Los_Angeles:20260115T130000
DTSTAMP:20260423T151059
CREATED:20251126T232702Z
LAST-MODIFIED:20251126T232702Z
UID:10010519-1768477500-1768482000@philomathnews.com
SUMMARY:Philomath Area Chamber of Commerce Luncheon
DESCRIPTION:Price\n$15.00 to $20.00—Chamber members – $15/person; Non-members – $20/person\n\n\n\nDescription\n\n\nCHAMBER LUNCHEON: Jan. 15 – Mayor McMorran and Chris Workman – State of the City of Philomath. Catered by: Forks and Corks \nRSVP required. Save $5.00  \n$15/person when preregistered.\n$20/person at the door with out an RSVP \nChamber Forum Luncheons are held the third Thursday of each month from 11:45 a.m. to 1:00 p.m. at Peace Lutheran Church at 2540 Applegate Street in Philomath. \nThese luncheons bring the general membership and guests together for networking\, in addition to inviting speakers who give topical presentations of interest to businesses.
URL:https://philomathnews.com/event/philomath-area-chamber-of-commerce-luncheon-2/
LOCATION:Peace Lutheran Church\, 2540 Applegate St.\, Philomath\, OR\, 97370
CATEGORIES:Business,Clubs and Organizations
ATTACH;FMTTYPE=image/jpeg:https://philomathnews.com/wp-content/uploads/2025/03/011625-chamber-logo-file_0576-scaled.jpg
ORGANIZER;CN="Philomath Area Chamber of Commerce":MAILTO:director@philomathchamber.org
END:VEVENT
BEGIN:VEVENT
DTSTART;TZID=America/Los_Angeles:20260115T190000
DTEND;TZID=America/Los_Angeles:20260115T203000
DTSTAMP:20260423T151059
CREATED:20251226T171625Z
LAST-MODIFIED:20251226T171625Z
UID:10011447-1768503600-1768509000@philomathnews.com
SUMMARY:Philomath Community Vision 2050 Kickoff Celebration
DESCRIPTION:The city of Philomath will host its Philomath Community Vision 2050 Kickoff Celebration from 7-8:30 p.m. Thursday\, Jan. 15 at Philomath Scout Lodge.
URL:https://philomathnews.com/event/philomath-community-vision-2050-kickoff-celebration/
LOCATION:Philomath Scout Lodge\, 660 Clemens Mill Road\, Philomath\, OR\, 97370
CATEGORIES:Government
ATTACH;FMTTYPE=image/jpeg:https://philomathnews.com/wp-content/uploads/2022/07/072622-scout-lodge_7495-scaled.jpeg
END:VEVENT
BEGIN:VEVENT
DTSTART;VALUE=DATE:20260116
DTEND;VALUE=DATE:20260117
DTSTAMP:20260423T151059
CREATED:20251226T185027Z
LAST-MODIFIED:20251226T185027Z
UID:10011477-1768521600-1768607999@philomathnews.com
SUMMARY:PHS Wrestling at Oregon Wrestling Classic
DESCRIPTION:Philomath High’s wrestling team is scheduled to compete on Friday-Saturday\, Jan. 16-17\, at the Oregon Wrestling Classic in Redmond.
URL:https://philomathnews.com/event/phs-wrestling-at-oregon-wrestling-classic/
LOCATION:Deschutes County Fairgrounds\, 3800 County Fairgrounds\, Redmond\, OR\, 97756
CATEGORIES:Athletics
ATTACH;FMTTYPE=image/jpeg:https://philomathnews.com/wp-content/uploads/2025/12/121225-wr-kohn_0346-scaled.jpg
ORGANIZER;CN="Oregon Wrestling Classic":MAILTO:oregonwrestlingclassic@gmail.com
END:VEVENT
BEGIN:VEVENT
DTSTART;VALUE=DATE:20260117
DTEND;VALUE=DATE:20260118
DTSTAMP:20260423T151059
CREATED:20251226T185120Z
LAST-MODIFIED:20251226T185120Z
UID:10011478-1768608000-1768694399@philomathnews.com
SUMMARY:PHS Wrestling at Oregon Wrestling Classic
DESCRIPTION:Philomath High’s wrestling team is scheduled to compete on Friday-Saturday\, Jan. 16-17\, at the Oregon Wrestling Classic in Redmond.
URL:https://philomathnews.com/event/phs-wrestling-at-oregon-wrestling-classic-2/
LOCATION:Deschutes County Fairgrounds\, 3800 County Fairgrounds\, Redmond\, OR\, 97756
CATEGORIES:Athletics
ATTACH;FMTTYPE=image/jpeg:https://philomathnews.com/wp-content/uploads/2025/12/121225-wr-kohn_0346-scaled.jpg
ORGANIZER;CN="Oregon Wrestling Classic":MAILTO:oregonwrestlingclassic@gmail.com
END:VEVENT
BEGIN:VEVENT
DTSTART;TZID=America/Los_Angeles:20260117T090000
DTEND;TZID=America/Los_Angeles:20260117T130000
DTSTAMP:20260423T151059
CREATED:20251226T194733Z
LAST-MODIFIED:20260319T050414Z
UID:10011489-1768640400-1768654800@philomathnews.com
SUMMARY:Corvallis Indoor Winter Market
DESCRIPTION:The 2026 winter market season begins Jan. 10\, 2026. \nThe winter market again will be matching SNAP with Double Up Food Bucks up to $20 per market . This is the same program offered at other farmers’ markets during the regular season. \nOutdoor markets in Corvallis and Albany are run by Corvallis-Albany Farmers’ Markets. Please visit their page\, www.locallygrown.org\, for information about regular season markets. \nMarket hours are 9 a.m. to 1 p.m. every Saturday in Guerber Hall at the Benton County Fairgrounds.
URL:https://philomathnews.com/event/corvallis-indoor-winter-market/2026-01-17/
LOCATION:Benton County Fairgrounds\, 110 SW 53rd St.\, Corvallis\, OR\, 97333
CATEGORIES:Clubs and Organizations
ATTACH;FMTTYPE=image/jpeg:https://philomathnews.com/wp-content/uploads/2023/02/020523-fresh-veggies-philo-photos_9833.jpg
ORGANIZER;CN="Corvallis-Albany Farmers' Markets":MAILTO:cafm@locallygrown.org
END:VEVENT
BEGIN:VEVENT
DTSTART;TZID=America/Los_Angeles:20260117T110000
DTEND;TZID=America/Los_Angeles:20260117T120000
DTSTAMP:20260423T151059
CREATED:20251226T173053Z
LAST-MODIFIED:20251226T173053Z
UID:10011451-1768647600-1768651200@philomathnews.com
SUMMARY:Lego Saturday at the Library
DESCRIPTION:Children and their families are invited to an hour of free play building and creating with LEGOs and Duplos.
URL:https://philomathnews.com/event/lego-saturday-at-the-library-2/
LOCATION:Philomath Community Library\, 1050 Applegate\, Philomath\, OR\, 97370
CATEGORIES:Library
ATTACH;FMTTYPE=image/jpeg:https://philomathnews.com/wp-content/uploads/2022/08/071822-library-file-2022_7292-scaled.jpeg
END:VEVENT
BEGIN:VEVENT
DTSTART;TZID=America/Los_Angeles:20260117T150000
DTEND;TZID=America/Los_Angeles:20260117T150000
DTSTAMP:20260423T151059
CREATED:20260116T154731Z
LAST-MODIFIED:20260116T154731Z
UID:10011644-1768662000-1768662000@philomathnews.com
SUMMARY:PHS Girls Basketball vs. Silverton
DESCRIPTION:Philomath High’s girls basketball team is scheduled to host Silverton at 3 p.m. Saturday\, Jan. 17.
URL:https://philomathnews.com/event/phs-girls-basketball-vs-silverton-2/
LOCATION:Philomath High School\, 2054 Applegate St.\, Philomath\, OR\, 97370
CATEGORIES:Athletics
ATTACH;FMTTYPE=image/jpeg:https://philomathnews.com/wp-content/uploads/2026/01/011326-gbb-cannon_1344-scaled.jpg
END:VEVENT
BEGIN:VEVENT
DTSTART;TZID=America/Los_Angeles:20260117T173000
DTEND;TZID=America/Los_Angeles:20260117T173000
DTSTAMP:20260423T151059
CREATED:20251226T172045Z
LAST-MODIFIED:20251226T172045Z
UID:10011448-1768671000-1768671000@philomathnews.com
SUMMARY:Philomath Frolic and Rodeo Court Coronation
DESCRIPTION:The Philomath Frolic and Rodeo Court Coronation is scheduled for Jan. 17 at Philomath Scout Lodge. Doors open at 5:30\, dinner at 6:30 p.m.\, no-host bar. Activities include dessert dash\, rodeo king competition and silent/live auctions.
URL:https://philomathnews.com/event/philomath-frolic-and-rodeo-court-coronation/
LOCATION:Philomath Scout Lodge\, 660 Clemens Mill Road\, Philomath\, OR\, 97370
CATEGORIES:Clubs and Organizations
ATTACH;FMTTYPE=image/jpeg:https://philomathnews.com/wp-content/uploads/2025/07/072125-frolic-queen-princess_4214-scaled.jpeg
ORGANIZER;CN="Philomath Frolic and Rodeo":MAILTO:pfr.secretary@gmail.com
END:VEVENT
END:VCALENDAR