BEGIN:VCALENDAR
VERSION:2.0
PRODID:-//Philomath News - ECPv6.15.20//NONSGML v1.0//EN
CALSCALE:GREGORIAN
METHOD:PUBLISH
X-ORIGINAL-URL:https://philomathnews.com
X-WR-CALDESC:Events for Philomath News
REFRESH-INTERVAL;VALUE=DURATION:PT1H
X-Robots-Tag:noindex
X-PUBLISHED-TTL:PT1H
BEGIN:VTIMEZONE
TZID:America/Los_Angeles
BEGIN:DAYLIGHT
TZOFFSETFROM:-0800
TZOFFSETTO:-0700
TZNAME:PDT
DTSTART:20290311T100000
END:DAYLIGHT
BEGIN:STANDARD
TZOFFSETFROM:-0700
TZOFFSETTO:-0800
TZNAME:PST
DTSTART:20291104T090000
END:STANDARD
BEGIN:DAYLIGHT
TZOFFSETFROM:-0800
TZOFFSETTO:-0700
TZNAME:PDT
DTSTART:20300310T100000
END:DAYLIGHT
BEGIN:STANDARD
TZOFFSETFROM:-0700
TZOFFSETTO:-0800
TZNAME:PST
DTSTART:20301103T090000
END:STANDARD
BEGIN:DAYLIGHT
TZOFFSETFROM:-0800
TZOFFSETTO:-0700
TZNAME:PDT
DTSTART:20310309T100000
END:DAYLIGHT
BEGIN:STANDARD
TZOFFSETFROM:-0700
TZOFFSETTO:-0800
TZNAME:PST
DTSTART:20311102T090000
END:STANDARD
END:VTIMEZONE
BEGIN:VEVENT
DTSTART;TZID=America/Los_Angeles:20300515T120000
DTEND;TZID=America/Los_Angeles:20300515T130000
DTSTAMP:20260420T023601
CREATED:20251116T222809Z
LAST-MODIFIED:20251116T222809Z
UID:10010004-1905076800-1905080400@philomathnews.com
SUMMARY:Wednesday Noon Book Club
DESCRIPTION:The Philomath Noon Book Club meets on the third Wednesday of the month at the Philomath Community Library. Copies of book club books are available each month at the library; please ask at the front desk.
URL:https://philomathnews.com/event/wednesday-noon-book-club/2030-05-15/
LOCATION:Philomath Community Library\, 1050 Applegate\, Philomath\, OR\, 97370
CATEGORIES:Library
ATTACH;FMTTYPE=image/jpeg:https://philomathnews.com/wp-content/uploads/2024/07/Calendar-Philomath-Community-Library.jpg
END:VEVENT
BEGIN:VEVENT
DTSTART;TZID=America/Los_Angeles:20300619T120000
DTEND;TZID=America/Los_Angeles:20300619T130000
DTSTAMP:20260420T023601
CREATED:20251116T222809Z
LAST-MODIFIED:20251116T222809Z
UID:10010005-1908100800-1908104400@philomathnews.com
SUMMARY:Wednesday Noon Book Club
DESCRIPTION:The Philomath Noon Book Club meets on the third Wednesday of the month at the Philomath Community Library. Copies of book club books are available each month at the library; please ask at the front desk.
URL:https://philomathnews.com/event/wednesday-noon-book-club/2030-06-19/
LOCATION:Philomath Community Library\, 1050 Applegate\, Philomath\, OR\, 97370
CATEGORIES:Library
ATTACH;FMTTYPE=image/jpeg:https://philomathnews.com/wp-content/uploads/2024/07/Calendar-Philomath-Community-Library.jpg
END:VEVENT
BEGIN:VEVENT
DTSTART;TZID=America/Los_Angeles:20300717T120000
DTEND;TZID=America/Los_Angeles:20300717T130000
DTSTAMP:20260420T023601
CREATED:20251116T222809Z
LAST-MODIFIED:20251116T222809Z
UID:10010006-1910520000-1910523600@philomathnews.com
SUMMARY:Wednesday Noon Book Club
DESCRIPTION:The Philomath Noon Book Club meets on the third Wednesday of the month at the Philomath Community Library. Copies of book club books are available each month at the library; please ask at the front desk.
URL:https://philomathnews.com/event/wednesday-noon-book-club/2030-07-17/
LOCATION:Philomath Community Library\, 1050 Applegate\, Philomath\, OR\, 97370
CATEGORIES:Library
ATTACH;FMTTYPE=image/jpeg:https://philomathnews.com/wp-content/uploads/2024/07/Calendar-Philomath-Community-Library.jpg
END:VEVENT
BEGIN:VEVENT
DTSTART;TZID=America/Los_Angeles:20300821T120000
DTEND;TZID=America/Los_Angeles:20300821T130000
DTSTAMP:20260420T023601
CREATED:20251116T222809Z
LAST-MODIFIED:20251116T222809Z
UID:10010007-1913544000-1913547600@philomathnews.com
SUMMARY:Wednesday Noon Book Club
DESCRIPTION:The Philomath Noon Book Club meets on the third Wednesday of the month at the Philomath Community Library. Copies of book club books are available each month at the library; please ask at the front desk.
URL:https://philomathnews.com/event/wednesday-noon-book-club/2030-08-21/
LOCATION:Philomath Community Library\, 1050 Applegate\, Philomath\, OR\, 97370
CATEGORIES:Library
ATTACH;FMTTYPE=image/jpeg:https://philomathnews.com/wp-content/uploads/2024/07/Calendar-Philomath-Community-Library.jpg
END:VEVENT
BEGIN:VEVENT
DTSTART;TZID=America/Los_Angeles:20300918T120000
DTEND;TZID=America/Los_Angeles:20300918T130000
DTSTAMP:20260420T023601
CREATED:20251116T222809Z
LAST-MODIFIED:20251116T222809Z
UID:10010008-1915963200-1915966800@philomathnews.com
SUMMARY:Wednesday Noon Book Club
DESCRIPTION:The Philomath Noon Book Club meets on the third Wednesday of the month at the Philomath Community Library. Copies of book club books are available each month at the library; please ask at the front desk.
URL:https://philomathnews.com/event/wednesday-noon-book-club/2030-09-18/
LOCATION:Philomath Community Library\, 1050 Applegate\, Philomath\, OR\, 97370
CATEGORIES:Library
ATTACH;FMTTYPE=image/jpeg:https://philomathnews.com/wp-content/uploads/2024/07/Calendar-Philomath-Community-Library.jpg
END:VEVENT
BEGIN:VEVENT
DTSTART;TZID=America/Los_Angeles:20301016T120000
DTEND;TZID=America/Los_Angeles:20301016T130000
DTSTAMP:20260420T023601
CREATED:20251116T222809Z
LAST-MODIFIED:20251116T222809Z
UID:10010009-1918382400-1918386000@philomathnews.com
SUMMARY:Wednesday Noon Book Club
DESCRIPTION:The Philomath Noon Book Club meets on the third Wednesday of the month at the Philomath Community Library. Copies of book club books are available each month at the library; please ask at the front desk.
URL:https://philomathnews.com/event/wednesday-noon-book-club/2030-10-16/
LOCATION:Philomath Community Library\, 1050 Applegate\, Philomath\, OR\, 97370
CATEGORIES:Library
ATTACH;FMTTYPE=image/jpeg:https://philomathnews.com/wp-content/uploads/2024/07/Calendar-Philomath-Community-Library.jpg
END:VEVENT
END:VCALENDAR