BEGIN:VCALENDAR
VERSION:2.0
PRODID:-//Philomath News - ECPv6.15.20//NONSGML v1.0//EN
CALSCALE:GREGORIAN
METHOD:PUBLISH
X-ORIGINAL-URL:https://philomathnews.com
X-WR-CALDESC:Events for Philomath News
REFRESH-INTERVAL;VALUE=DURATION:PT1H
X-Robots-Tag:noindex
X-PUBLISHED-TTL:PT1H
BEGIN:VTIMEZONE
TZID:America/Los_Angeles
BEGIN:DAYLIGHT
TZOFFSETFROM:-0800
TZOFFSETTO:-0700
TZNAME:PDT
DTSTART:20280312T100000
END:DAYLIGHT
BEGIN:STANDARD
TZOFFSETFROM:-0700
TZOFFSETTO:-0800
TZNAME:PST
DTSTART:20281105T090000
END:STANDARD
BEGIN:DAYLIGHT
TZOFFSETFROM:-0800
TZOFFSETTO:-0700
TZNAME:PDT
DTSTART:20290311T100000
END:DAYLIGHT
BEGIN:STANDARD
TZOFFSETFROM:-0700
TZOFFSETTO:-0800
TZNAME:PST
DTSTART:20291104T090000
END:STANDARD
BEGIN:DAYLIGHT
TZOFFSETFROM:-0800
TZOFFSETTO:-0700
TZNAME:PDT
DTSTART:20300310T100000
END:DAYLIGHT
BEGIN:STANDARD
TZOFFSETFROM:-0700
TZOFFSETTO:-0800
TZNAME:PST
DTSTART:20301103T090000
END:STANDARD
BEGIN:DAYLIGHT
TZOFFSETFROM:-0800
TZOFFSETTO:-0700
TZNAME:PDT
DTSTART:20310309T100000
END:DAYLIGHT
BEGIN:STANDARD
TZOFFSETFROM:-0700
TZOFFSETTO:-0800
TZNAME:PST
DTSTART:20311102T090000
END:STANDARD
END:VTIMEZONE
BEGIN:VEVENT
DTSTART;TZID=America/Los_Angeles:20290516T120000
DTEND;TZID=America/Los_Angeles:20290516T130000
DTSTAMP:20260420T022036
CREATED:20251116T222809Z
LAST-MODIFIED:20251116T222809Z
UID:10009992-1873627200-1873630800@philomathnews.com
SUMMARY:Wednesday Noon Book Club
DESCRIPTION:The Philomath Noon Book Club meets on the third Wednesday of the month at the Philomath Community Library. Copies of book club books are available each month at the library; please ask at the front desk.
URL:https://philomathnews.com/event/wednesday-noon-book-club/2029-05-16/
LOCATION:Philomath Community Library\, 1050 Applegate\, Philomath\, OR\, 97370
CATEGORIES:Library
ATTACH;FMTTYPE=image/jpeg:https://philomathnews.com/wp-content/uploads/2024/07/Calendar-Philomath-Community-Library.jpg
END:VEVENT
BEGIN:VEVENT
DTSTART;TZID=America/Los_Angeles:20290620T120000
DTEND;TZID=America/Los_Angeles:20290620T130000
DTSTAMP:20260420T022036
CREATED:20251116T222809Z
LAST-MODIFIED:20251116T222809Z
UID:10009993-1876651200-1876654800@philomathnews.com
SUMMARY:Wednesday Noon Book Club
DESCRIPTION:The Philomath Noon Book Club meets on the third Wednesday of the month at the Philomath Community Library. Copies of book club books are available each month at the library; please ask at the front desk.
URL:https://philomathnews.com/event/wednesday-noon-book-club/2029-06-20/
LOCATION:Philomath Community Library\, 1050 Applegate\, Philomath\, OR\, 97370
CATEGORIES:Library
ATTACH;FMTTYPE=image/jpeg:https://philomathnews.com/wp-content/uploads/2024/07/Calendar-Philomath-Community-Library.jpg
END:VEVENT
BEGIN:VEVENT
DTSTART;TZID=America/Los_Angeles:20290718T120000
DTEND;TZID=America/Los_Angeles:20290718T130000
DTSTAMP:20260420T022036
CREATED:20251116T222809Z
LAST-MODIFIED:20251116T222809Z
UID:10009994-1879070400-1879074000@philomathnews.com
SUMMARY:Wednesday Noon Book Club
DESCRIPTION:The Philomath Noon Book Club meets on the third Wednesday of the month at the Philomath Community Library. Copies of book club books are available each month at the library; please ask at the front desk.
URL:https://philomathnews.com/event/wednesday-noon-book-club/2029-07-18/
LOCATION:Philomath Community Library\, 1050 Applegate\, Philomath\, OR\, 97370
CATEGORIES:Library
ATTACH;FMTTYPE=image/jpeg:https://philomathnews.com/wp-content/uploads/2024/07/Calendar-Philomath-Community-Library.jpg
END:VEVENT
BEGIN:VEVENT
DTSTART;TZID=America/Los_Angeles:20290815T120000
DTEND;TZID=America/Los_Angeles:20290815T130000
DTSTAMP:20260420T022036
CREATED:20251116T222809Z
LAST-MODIFIED:20251116T222809Z
UID:10009995-1881489600-1881493200@philomathnews.com
SUMMARY:Wednesday Noon Book Club
DESCRIPTION:The Philomath Noon Book Club meets on the third Wednesday of the month at the Philomath Community Library. Copies of book club books are available each month at the library; please ask at the front desk.
URL:https://philomathnews.com/event/wednesday-noon-book-club/2029-08-15/
LOCATION:Philomath Community Library\, 1050 Applegate\, Philomath\, OR\, 97370
CATEGORIES:Library
ATTACH;FMTTYPE=image/jpeg:https://philomathnews.com/wp-content/uploads/2024/07/Calendar-Philomath-Community-Library.jpg
END:VEVENT
BEGIN:VEVENT
DTSTART;TZID=America/Los_Angeles:20290919T120000
DTEND;TZID=America/Los_Angeles:20290919T130000
DTSTAMP:20260420T022036
CREATED:20251116T222809Z
LAST-MODIFIED:20251116T222809Z
UID:10009996-1884513600-1884517200@philomathnews.com
SUMMARY:Wednesday Noon Book Club
DESCRIPTION:The Philomath Noon Book Club meets on the third Wednesday of the month at the Philomath Community Library. Copies of book club books are available each month at the library; please ask at the front desk.
URL:https://philomathnews.com/event/wednesday-noon-book-club/2029-09-19/
LOCATION:Philomath Community Library\, 1050 Applegate\, Philomath\, OR\, 97370
CATEGORIES:Library
ATTACH;FMTTYPE=image/jpeg:https://philomathnews.com/wp-content/uploads/2024/07/Calendar-Philomath-Community-Library.jpg
END:VEVENT
BEGIN:VEVENT
DTSTART;TZID=America/Los_Angeles:20291017T120000
DTEND;TZID=America/Los_Angeles:20291017T130000
DTSTAMP:20260420T022036
CREATED:20251116T222809Z
LAST-MODIFIED:20251116T222809Z
UID:10009997-1886932800-1886936400@philomathnews.com
SUMMARY:Wednesday Noon Book Club
DESCRIPTION:The Philomath Noon Book Club meets on the third Wednesday of the month at the Philomath Community Library. Copies of book club books are available each month at the library; please ask at the front desk.
URL:https://philomathnews.com/event/wednesday-noon-book-club/2029-10-17/
LOCATION:Philomath Community Library\, 1050 Applegate\, Philomath\, OR\, 97370
CATEGORIES:Library
ATTACH;FMTTYPE=image/jpeg:https://philomathnews.com/wp-content/uploads/2024/07/Calendar-Philomath-Community-Library.jpg
END:VEVENT
BEGIN:VEVENT
DTSTART;TZID=America/Los_Angeles:20291121T120000
DTEND;TZID=America/Los_Angeles:20291121T130000
DTSTAMP:20260420T022036
CREATED:20251116T222809Z
LAST-MODIFIED:20251116T222809Z
UID:10009998-1889956800-1889960400@philomathnews.com
SUMMARY:Wednesday Noon Book Club
DESCRIPTION:The Philomath Noon Book Club meets on the third Wednesday of the month at the Philomath Community Library. Copies of book club books are available each month at the library; please ask at the front desk.
URL:https://philomathnews.com/event/wednesday-noon-book-club/2029-11-21/
LOCATION:Philomath Community Library\, 1050 Applegate\, Philomath\, OR\, 97370
CATEGORIES:Library
ATTACH;FMTTYPE=image/jpeg:https://philomathnews.com/wp-content/uploads/2024/07/Calendar-Philomath-Community-Library.jpg
END:VEVENT
BEGIN:VEVENT
DTSTART;TZID=America/Los_Angeles:20291219T120000
DTEND;TZID=America/Los_Angeles:20291219T130000
DTSTAMP:20260420T022036
CREATED:20251116T222809Z
LAST-MODIFIED:20251116T222809Z
UID:10009999-1892376000-1892379600@philomathnews.com
SUMMARY:Wednesday Noon Book Club
DESCRIPTION:The Philomath Noon Book Club meets on the third Wednesday of the month at the Philomath Community Library. Copies of book club books are available each month at the library; please ask at the front desk.
URL:https://philomathnews.com/event/wednesday-noon-book-club/2029-12-19/
LOCATION:Philomath Community Library\, 1050 Applegate\, Philomath\, OR\, 97370
CATEGORIES:Library
ATTACH;FMTTYPE=image/jpeg:https://philomathnews.com/wp-content/uploads/2024/07/Calendar-Philomath-Community-Library.jpg
END:VEVENT
BEGIN:VEVENT
DTSTART;TZID=America/Los_Angeles:20300116T120000
DTEND;TZID=America/Los_Angeles:20300116T130000
DTSTAMP:20260420T022036
CREATED:20251116T222809Z
LAST-MODIFIED:20251116T222809Z
UID:10010000-1894795200-1894798800@philomathnews.com
SUMMARY:Wednesday Noon Book Club
DESCRIPTION:The Philomath Noon Book Club meets on the third Wednesday of the month at the Philomath Community Library. Copies of book club books are available each month at the library; please ask at the front desk.
URL:https://philomathnews.com/event/wednesday-noon-book-club/2030-01-16/
LOCATION:Philomath Community Library\, 1050 Applegate\, Philomath\, OR\, 97370
CATEGORIES:Library
ATTACH;FMTTYPE=image/jpeg:https://philomathnews.com/wp-content/uploads/2024/07/Calendar-Philomath-Community-Library.jpg
END:VEVENT
BEGIN:VEVENT
DTSTART;TZID=America/Los_Angeles:20300220T120000
DTEND;TZID=America/Los_Angeles:20300220T130000
DTSTAMP:20260420T022036
CREATED:20251116T222809Z
LAST-MODIFIED:20251116T222809Z
UID:10010001-1897819200-1897822800@philomathnews.com
SUMMARY:Wednesday Noon Book Club
DESCRIPTION:The Philomath Noon Book Club meets on the third Wednesday of the month at the Philomath Community Library. Copies of book club books are available each month at the library; please ask at the front desk.
URL:https://philomathnews.com/event/wednesday-noon-book-club/2030-02-20/
LOCATION:Philomath Community Library\, 1050 Applegate\, Philomath\, OR\, 97370
CATEGORIES:Library
ATTACH;FMTTYPE=image/jpeg:https://philomathnews.com/wp-content/uploads/2024/07/Calendar-Philomath-Community-Library.jpg
END:VEVENT
BEGIN:VEVENT
DTSTART;TZID=America/Los_Angeles:20300320T120000
DTEND;TZID=America/Los_Angeles:20300320T130000
DTSTAMP:20260420T022036
CREATED:20251116T222809Z
LAST-MODIFIED:20251116T222809Z
UID:10010002-1900238400-1900242000@philomathnews.com
SUMMARY:Wednesday Noon Book Club
DESCRIPTION:The Philomath Noon Book Club meets on the third Wednesday of the month at the Philomath Community Library. Copies of book club books are available each month at the library; please ask at the front desk.
URL:https://philomathnews.com/event/wednesday-noon-book-club/2030-03-20/
LOCATION:Philomath Community Library\, 1050 Applegate\, Philomath\, OR\, 97370
CATEGORIES:Library
ATTACH;FMTTYPE=image/jpeg:https://philomathnews.com/wp-content/uploads/2024/07/Calendar-Philomath-Community-Library.jpg
END:VEVENT
BEGIN:VEVENT
DTSTART;TZID=America/Los_Angeles:20300417T120000
DTEND;TZID=America/Los_Angeles:20300417T130000
DTSTAMP:20260420T022036
CREATED:20251116T222809Z
LAST-MODIFIED:20251116T222809Z
UID:10010003-1902657600-1902661200@philomathnews.com
SUMMARY:Wednesday Noon Book Club
DESCRIPTION:The Philomath Noon Book Club meets on the third Wednesday of the month at the Philomath Community Library. Copies of book club books are available each month at the library; please ask at the front desk.
URL:https://philomathnews.com/event/wednesday-noon-book-club/2030-04-17/
LOCATION:Philomath Community Library\, 1050 Applegate\, Philomath\, OR\, 97370
CATEGORIES:Library
ATTACH;FMTTYPE=image/jpeg:https://philomathnews.com/wp-content/uploads/2024/07/Calendar-Philomath-Community-Library.jpg
END:VEVENT
BEGIN:VEVENT
DTSTART;TZID=America/Los_Angeles:20300515T120000
DTEND;TZID=America/Los_Angeles:20300515T130000
DTSTAMP:20260420T022036
CREATED:20251116T222809Z
LAST-MODIFIED:20251116T222809Z
UID:10010004-1905076800-1905080400@philomathnews.com
SUMMARY:Wednesday Noon Book Club
DESCRIPTION:The Philomath Noon Book Club meets on the third Wednesday of the month at the Philomath Community Library. Copies of book club books are available each month at the library; please ask at the front desk.
URL:https://philomathnews.com/event/wednesday-noon-book-club/2030-05-15/
LOCATION:Philomath Community Library\, 1050 Applegate\, Philomath\, OR\, 97370
CATEGORIES:Library
ATTACH;FMTTYPE=image/jpeg:https://philomathnews.com/wp-content/uploads/2024/07/Calendar-Philomath-Community-Library.jpg
END:VEVENT
BEGIN:VEVENT
DTSTART;TZID=America/Los_Angeles:20300619T120000
DTEND;TZID=America/Los_Angeles:20300619T130000
DTSTAMP:20260420T022036
CREATED:20251116T222809Z
LAST-MODIFIED:20251116T222809Z
UID:10010005-1908100800-1908104400@philomathnews.com
SUMMARY:Wednesday Noon Book Club
DESCRIPTION:The Philomath Noon Book Club meets on the third Wednesday of the month at the Philomath Community Library. Copies of book club books are available each month at the library; please ask at the front desk.
URL:https://philomathnews.com/event/wednesday-noon-book-club/2030-06-19/
LOCATION:Philomath Community Library\, 1050 Applegate\, Philomath\, OR\, 97370
CATEGORIES:Library
ATTACH;FMTTYPE=image/jpeg:https://philomathnews.com/wp-content/uploads/2024/07/Calendar-Philomath-Community-Library.jpg
END:VEVENT
BEGIN:VEVENT
DTSTART;TZID=America/Los_Angeles:20300717T120000
DTEND;TZID=America/Los_Angeles:20300717T130000
DTSTAMP:20260420T022036
CREATED:20251116T222809Z
LAST-MODIFIED:20251116T222809Z
UID:10010006-1910520000-1910523600@philomathnews.com
SUMMARY:Wednesday Noon Book Club
DESCRIPTION:The Philomath Noon Book Club meets on the third Wednesday of the month at the Philomath Community Library. Copies of book club books are available each month at the library; please ask at the front desk.
URL:https://philomathnews.com/event/wednesday-noon-book-club/2030-07-17/
LOCATION:Philomath Community Library\, 1050 Applegate\, Philomath\, OR\, 97370
CATEGORIES:Library
ATTACH;FMTTYPE=image/jpeg:https://philomathnews.com/wp-content/uploads/2024/07/Calendar-Philomath-Community-Library.jpg
END:VEVENT
BEGIN:VEVENT
DTSTART;TZID=America/Los_Angeles:20300821T120000
DTEND;TZID=America/Los_Angeles:20300821T130000
DTSTAMP:20260420T022036
CREATED:20251116T222809Z
LAST-MODIFIED:20251116T222809Z
UID:10010007-1913544000-1913547600@philomathnews.com
SUMMARY:Wednesday Noon Book Club
DESCRIPTION:The Philomath Noon Book Club meets on the third Wednesday of the month at the Philomath Community Library. Copies of book club books are available each month at the library; please ask at the front desk.
URL:https://philomathnews.com/event/wednesday-noon-book-club/2030-08-21/
LOCATION:Philomath Community Library\, 1050 Applegate\, Philomath\, OR\, 97370
CATEGORIES:Library
ATTACH;FMTTYPE=image/jpeg:https://philomathnews.com/wp-content/uploads/2024/07/Calendar-Philomath-Community-Library.jpg
END:VEVENT
BEGIN:VEVENT
DTSTART;TZID=America/Los_Angeles:20300918T120000
DTEND;TZID=America/Los_Angeles:20300918T130000
DTSTAMP:20260420T022036
CREATED:20251116T222809Z
LAST-MODIFIED:20251116T222809Z
UID:10010008-1915963200-1915966800@philomathnews.com
SUMMARY:Wednesday Noon Book Club
DESCRIPTION:The Philomath Noon Book Club meets on the third Wednesday of the month at the Philomath Community Library. Copies of book club books are available each month at the library; please ask at the front desk.
URL:https://philomathnews.com/event/wednesday-noon-book-club/2030-09-18/
LOCATION:Philomath Community Library\, 1050 Applegate\, Philomath\, OR\, 97370
CATEGORIES:Library
ATTACH;FMTTYPE=image/jpeg:https://philomathnews.com/wp-content/uploads/2024/07/Calendar-Philomath-Community-Library.jpg
END:VEVENT
BEGIN:VEVENT
DTSTART;TZID=America/Los_Angeles:20301016T120000
DTEND;TZID=America/Los_Angeles:20301016T130000
DTSTAMP:20260420T022036
CREATED:20251116T222809Z
LAST-MODIFIED:20251116T222809Z
UID:10010009-1918382400-1918386000@philomathnews.com
SUMMARY:Wednesday Noon Book Club
DESCRIPTION:The Philomath Noon Book Club meets on the third Wednesday of the month at the Philomath Community Library. Copies of book club books are available each month at the library; please ask at the front desk.
URL:https://philomathnews.com/event/wednesday-noon-book-club/2030-10-16/
LOCATION:Philomath Community Library\, 1050 Applegate\, Philomath\, OR\, 97370
CATEGORIES:Library
ATTACH;FMTTYPE=image/jpeg:https://philomathnews.com/wp-content/uploads/2024/07/Calendar-Philomath-Community-Library.jpg
END:VEVENT
END:VCALENDAR