BEGIN:VCALENDAR
VERSION:2.0
PRODID:-//Philomath News - ECPv6.15.20//NONSGML v1.0//EN
CALSCALE:GREGORIAN
METHOD:PUBLISH
X-ORIGINAL-URL:https://philomathnews.com
X-WR-CALDESC:Events for Philomath News
REFRESH-INTERVAL;VALUE=DURATION:PT1H
X-Robots-Tag:noindex
X-PUBLISHED-TTL:PT1H
BEGIN:VTIMEZONE
TZID:America/Los_Angeles
BEGIN:DAYLIGHT
TZOFFSETFROM:-0800
TZOFFSETTO:-0700
TZNAME:PDT
DTSTART:20250309T100000
END:DAYLIGHT
BEGIN:STANDARD
TZOFFSETFROM:-0700
TZOFFSETTO:-0800
TZNAME:PST
DTSTART:20251102T090000
END:STANDARD
BEGIN:DAYLIGHT
TZOFFSETFROM:-0800
TZOFFSETTO:-0700
TZNAME:PDT
DTSTART:20260308T100000
END:DAYLIGHT
BEGIN:STANDARD
TZOFFSETFROM:-0700
TZOFFSETTO:-0800
TZNAME:PST
DTSTART:20261101T090000
END:STANDARD
BEGIN:DAYLIGHT
TZOFFSETFROM:-0800
TZOFFSETTO:-0700
TZNAME:PDT
DTSTART:20270314T100000
END:DAYLIGHT
BEGIN:STANDARD
TZOFFSETFROM:-0700
TZOFFSETTO:-0800
TZNAME:PST
DTSTART:20271107T090000
END:STANDARD
END:VTIMEZONE
BEGIN:VEVENT
DTSTART;TZID=America/Los_Angeles:20260225T153000
DTEND;TZID=America/Los_Angeles:20260225T170000
DTSTAMP:20260424T090243
CREATED:20260224T051044Z
LAST-MODIFIED:20260224T051044Z
UID:10011752-1772033400-1772038800@philomathnews.com
SUMMARY:Sensory Friendly Swim at Clemens Community Pool
DESCRIPTION:Come and enjoy a calmer and dimmer time to swim. We ask that you do not bring in any little ones that are likely to scream or cry loudly in the water. This time is intended for our community that is easily overwhelmed by too many people or too loud of noises. We are hoping to provide a much needed calm time to swim. This time is available for fun and for lap swimming. We also ask for limited speaking on the pool deck during this event. February 25th at 3:30pm to 5:00pm in the afternoon. \nSee details at this link.
URL:https://philomathnews.com/event/sensory-friendly-swim-at-clemens-community-pool/
LOCATION:Clemens Community Pool\, 2054 Applegate St.\, Philomath\, OR\, 97370
CATEGORIES:Community
ATTACH;FMTTYPE=image/jpeg:https://philomathnews.com/wp-content/uploads/2021/03/Clemens-Community-Pool4-2021-WP.jpg
END:VEVENT
END:VCALENDAR