BEGIN:VCALENDAR
VERSION:2.0
PRODID:-//Philomath News - ECPv6.15.20//NONSGML v1.0//EN
CALSCALE:GREGORIAN
METHOD:PUBLISH
X-WR-CALNAME:Philomath News
X-ORIGINAL-URL:https://philomathnews.com
X-WR-CALDESC:Events for Philomath News
REFRESH-INTERVAL;VALUE=DURATION:PT1H
X-Robots-Tag:noindex
X-PUBLISHED-TTL:PT1H
BEGIN:VTIMEZONE
TZID:America/Los_Angeles
BEGIN:DAYLIGHT
TZOFFSETFROM:-0800
TZOFFSETTO:-0700
TZNAME:PDT
DTSTART:20250309T100000
END:DAYLIGHT
BEGIN:STANDARD
TZOFFSETFROM:-0700
TZOFFSETTO:-0800
TZNAME:PST
DTSTART:20251102T090000
END:STANDARD
BEGIN:DAYLIGHT
TZOFFSETFROM:-0800
TZOFFSETTO:-0700
TZNAME:PDT
DTSTART:20260308T100000
END:DAYLIGHT
BEGIN:STANDARD
TZOFFSETFROM:-0700
TZOFFSETTO:-0800
TZNAME:PST
DTSTART:20261101T090000
END:STANDARD
BEGIN:DAYLIGHT
TZOFFSETFROM:-0800
TZOFFSETTO:-0700
TZNAME:PDT
DTSTART:20270314T100000
END:DAYLIGHT
BEGIN:STANDARD
TZOFFSETFROM:-0700
TZOFFSETTO:-0800
TZNAME:PST
DTSTART:20271107T090000
END:STANDARD
END:VTIMEZONE
BEGIN:VEVENT
DTSTART;TZID=America/Los_Angeles:20260317T120000
DTEND;TZID=America/Los_Angeles:20260317T120000
DTSTAMP:20260424T181126
CREATED:20260310T023140Z
LAST-MODIFIED:20260310T023140Z
UID:10011794-1773748800-1773748800@philomathnews.com
SUMMARY:Philomath Rotary Club Meeting
DESCRIPTION:Please come to the Philomath Rotary Club meeting event on March 17th at noon in the fellowship hall of Peace Lutheran Church. All Rotarians and community members are welcome. \nThis meeting event will include the Philomath Middle School “Student of the Month” award presentation. \nThe main meeting presentation will be “Help Us\, Help You” by Chancy Ferguson\, Fire Chief. The presentation is to inform residents on wildlife preparedness and answer questions about the upcoming levy. Attendees to have a better understanding of wildlife risks\, ways to prepare\, and ways you can help keep yourself out of harm’s way. \nWe hope you can come & please remember lunch will be provided. Please RSVP to Fred Shaub. 541-602-0279\, if you will be attending so we can plan the number of meals.
URL:https://philomathnews.com/event/philomath-rotary-club-meeting-8/
LOCATION:Peace Lutheran Church\, 2540 Applegate St.\, Philomath\, OR\, 97370
CATEGORIES:Clubs and Organizations
ATTACH;FMTTYPE=image/jpeg:https://philomathnews.com/wp-content/uploads/2025/07/062725-rotary-file_7524-scaled.jpg
END:VEVENT
END:VCALENDAR