BEGIN:VCALENDAR
VERSION:2.0
PRODID:-//Philomath News - ECPv6.15.20//NONSGML v1.0//EN
CALSCALE:GREGORIAN
METHOD:PUBLISH
X-WR-CALNAME:Philomath News
X-ORIGINAL-URL:https://philomathnews.com
X-WR-CALDESC:Events for Philomath News
REFRESH-INTERVAL;VALUE=DURATION:PT1H
X-Robots-Tag:noindex
X-PUBLISHED-TTL:PT1H
BEGIN:VTIMEZONE
TZID:America/Los_Angeles
BEGIN:DAYLIGHT
TZOFFSETFROM:-0800
TZOFFSETTO:-0700
TZNAME:PDT
DTSTART:20250309T100000
END:DAYLIGHT
BEGIN:STANDARD
TZOFFSETFROM:-0700
TZOFFSETTO:-0800
TZNAME:PST
DTSTART:20251102T090000
END:STANDARD
BEGIN:DAYLIGHT
TZOFFSETFROM:-0800
TZOFFSETTO:-0700
TZNAME:PDT
DTSTART:20260308T100000
END:DAYLIGHT
BEGIN:STANDARD
TZOFFSETFROM:-0700
TZOFFSETTO:-0800
TZNAME:PST
DTSTART:20261101T090000
END:STANDARD
BEGIN:DAYLIGHT
TZOFFSETFROM:-0800
TZOFFSETTO:-0700
TZNAME:PDT
DTSTART:20270314T100000
END:DAYLIGHT
BEGIN:STANDARD
TZOFFSETFROM:-0700
TZOFFSETTO:-0800
TZNAME:PST
DTSTART:20271107T090000
END:STANDARD
END:VTIMEZONE
BEGIN:VEVENT
DTSTART;TZID=America/Los_Angeles:20260411T110000
DTEND;TZID=America/Los_Angeles:20260411T120000
DTSTAMP:20260425T180734
CREATED:20260326T195609Z
LAST-MODIFIED:20260326T195609Z
UID:10011946-1775905200-1775908800@philomathnews.com
SUMMARY:Benton County Genealogical Society Program at Philomath Museum
DESCRIPTION:In 2014\, Bob Taylor volunteered as a family history consultant at the new Sandy Granite Family History Center. He noticed that many guests to the center asked the same questions\, so he created a website to answer those questions. Using his background in instructional design\, he built a learning framework into the website: Projects\, Goals\, Choices\, and Steps. \nHe and Bob Ives\, the Technology Coordinator for the Sandy Granite Family History Center\, soon formed an LLC company to promote the website. This later became a 501(c)(3) non-profit charitable organization\, The Family History Guide Association\, which opened the door to tax-deductible contributions. The Family History Guide website remains free to use and free of advertisements. \nSince then\, the website has grown and improved dramatically. Some notable milestones include \n\nLaunch of the website in 2015\nCreation of a Board of Directors and Management Team\nApproval by FamilySearch as an official training partner\nInclusion of Learning Paths on the website for Ancestry\, MyHeritage\, and Findmypast\nWelcoming visitors to the website from over 150 countries
URL:https://philomathnews.com/event/benton-county-genealogical-society-program-at-philomath-museum-4/
LOCATION:Philomath Museum\, 1101 Main St.\, Philomath\, OR\, 97370
CATEGORIES:Clubs and Organizations
ATTACH;FMTTYPE=image/jpeg:https://philomathnews.com/wp-content/uploads/2025/10/101125-philomath-museum-file_4063-scaled.jpg
ORGANIZER;CN="Benton County Genealogical Society":MAILTO:bcgsor@gmail.com
END:VEVENT
END:VCALENDAR