BEGIN:VCALENDAR
VERSION:2.0
PRODID:-//Philomath News - ECPv6.15.20//NONSGML v1.0//EN
CALSCALE:GREGORIAN
METHOD:PUBLISH
X-ORIGINAL-URL:https://philomathnews.com
X-WR-CALDESC:Events for Philomath News
REFRESH-INTERVAL;VALUE=DURATION:PT1H
X-Robots-Tag:noindex
X-PUBLISHED-TTL:PT1H
BEGIN:VTIMEZONE
TZID:America/Los_Angeles
BEGIN:DAYLIGHT
TZOFFSETFROM:-0800
TZOFFSETTO:-0700
TZNAME:PDT
DTSTART:20250309T100000
END:DAYLIGHT
BEGIN:STANDARD
TZOFFSETFROM:-0700
TZOFFSETTO:-0800
TZNAME:PST
DTSTART:20251102T090000
END:STANDARD
BEGIN:DAYLIGHT
TZOFFSETFROM:-0800
TZOFFSETTO:-0700
TZNAME:PDT
DTSTART:20260308T100000
END:DAYLIGHT
BEGIN:STANDARD
TZOFFSETFROM:-0700
TZOFFSETTO:-0800
TZNAME:PST
DTSTART:20261101T090000
END:STANDARD
BEGIN:DAYLIGHT
TZOFFSETFROM:-0800
TZOFFSETTO:-0700
TZNAME:PDT
DTSTART:20270314T100000
END:DAYLIGHT
BEGIN:STANDARD
TZOFFSETFROM:-0700
TZOFFSETTO:-0800
TZNAME:PST
DTSTART:20271107T090000
END:STANDARD
END:VTIMEZONE
BEGIN:VEVENT
DTSTART;TZID=America/Los_Angeles:20260429T180000
DTEND;TZID=America/Los_Angeles:20260429T180000
DTSTAMP:20260423T074017
CREATED:20260411T225037Z
LAST-MODIFIED:20260411T225037Z
UID:10012021-1777485600-1777485600@philomathnews.com
SUMMARY:Braver Angels Debate at Philomath Museum
DESCRIPTION:Braver Angels Debate \nWednesday\, April 29\, 6 p.m. \nJoin us for a friendly and intellectually engaging experience you won’t find anywhere else! Listen to speeches for or against the resolution—and then share your own\, if you feel so moved. (And there’s no pressure\, but we hope you will!) \nHere’s the night’s topic: \nResolved: Voters should be required to present valid identification when casting a ballot. \nNote: This resolution does not represent Braver Angels’ stance on the issue. We will alternate between speeches in support of and against the resolution. \nPlease RSVP if you are interested in attending this free community event! Tickets are free\, but donations help. Use promo code BRAVER during registration to get a free ticket. Donations support Braver Angels\, 501(c)3. \nThis event happens at the Philomath Museum.
URL:https://philomathnews.com/event/braver-angels-debate-at-philomath-museum/
LOCATION:Philomath Museum\, 1101 Main St.\, Philomath\, OR\, 97370
CATEGORIES:Clubs and Organizations,Community
ATTACH;FMTTYPE=image/jpeg:https://philomathnews.com/wp-content/uploads/2026/01/010726-philomath-museum_2080-scaled.jpg
END:VEVENT
END:VCALENDAR