BEGIN:VCALENDAR
VERSION:2.0
PRODID:-//Philomath News - ECPv6.15.20//NONSGML v1.0//EN
CALSCALE:GREGORIAN
METHOD:PUBLISH
X-WR-CALNAME:Philomath News
X-ORIGINAL-URL:https://philomathnews.com
X-WR-CALDESC:Events for Philomath News
REFRESH-INTERVAL;VALUE=DURATION:PT1H
X-Robots-Tag:noindex
X-PUBLISHED-TTL:PT1H
BEGIN:VTIMEZONE
TZID:America/Los_Angeles
BEGIN:DAYLIGHT
TZOFFSETFROM:-0800
TZOFFSETTO:-0700
TZNAME:PDT
DTSTART:20250309T100000
END:DAYLIGHT
BEGIN:STANDARD
TZOFFSETFROM:-0700
TZOFFSETTO:-0800
TZNAME:PST
DTSTART:20251102T090000
END:STANDARD
BEGIN:DAYLIGHT
TZOFFSETFROM:-0800
TZOFFSETTO:-0700
TZNAME:PDT
DTSTART:20260308T100000
END:DAYLIGHT
BEGIN:STANDARD
TZOFFSETFROM:-0700
TZOFFSETTO:-0800
TZNAME:PST
DTSTART:20261101T090000
END:STANDARD
BEGIN:DAYLIGHT
TZOFFSETFROM:-0800
TZOFFSETTO:-0700
TZNAME:PDT
DTSTART:20270314T100000
END:DAYLIGHT
BEGIN:STANDARD
TZOFFSETFROM:-0700
TZOFFSETTO:-0800
TZNAME:PST
DTSTART:20271107T090000
END:STANDARD
END:VTIMEZONE
BEGIN:VEVENT
DTSTART;TZID=America/Los_Angeles:20260106T184500
DTEND;TZID=America/Los_Angeles:20260106T184500
DTSTAMP:20260421T054516
CREATED:20251226T181939Z
LAST-MODIFIED:20251226T181939Z
UID:10011465-1767725100-1767725100@philomathnews.com
SUMMARY:PHS Girls Basketball at Crater
DESCRIPTION:Philomath High’s girls basketball team is scheduled to play at Crater at 6:45 p.m. Tuesday\, Jan. 6.
URL:https://philomathnews.com/event/phs-girls-basketball-at-crater/
LOCATION:Crater High School\, 655 N 3rd St.\, Central Point\, OR\, 97502
CATEGORIES:Athletics
ATTACH;FMTTYPE=image/jpeg:https://philomathnews.com/wp-content/uploads/2025/12/122325-gbb-Nuno-02.jpg
END:VEVENT
BEGIN:VEVENT
DTSTART;TZID=America/Los_Angeles:20260113T173000
DTEND;TZID=America/Los_Angeles:20260113T173000
DTSTAMP:20260421T054516
CREATED:20251226T182346Z
LAST-MODIFIED:20251226T182346Z
UID:10011467-1768325400-1768325400@philomathnews.com
SUMMARY:PHS Girls Basketball vs. Sutherlin
DESCRIPTION:Philomath High’s girls basketball team is scheduled to host Sutherlin at 5:30 p.m. Tuesday\, Jan. 13.
URL:https://philomathnews.com/event/phs-girls-basketball-vs-sutherlin/
LOCATION:Philomath High School\, 2054 Applegate St.\, Philomath\, OR\, 97370
CATEGORIES:Athletics
ATTACH;FMTTYPE=image/jpeg:https://philomathnews.com/wp-content/uploads/2025/12/121625-gbb-Heiken-06.jpg
END:VEVENT
BEGIN:VEVENT
DTSTART;TZID=America/Los_Angeles:20260117T150000
DTEND;TZID=America/Los_Angeles:20260117T150000
DTSTAMP:20260421T054516
CREATED:20260116T154731Z
LAST-MODIFIED:20260116T154731Z
UID:10011644-1768662000-1768662000@philomathnews.com
SUMMARY:PHS Girls Basketball vs. Silverton
DESCRIPTION:Philomath High’s girls basketball team is scheduled to host Silverton at 3 p.m. Saturday\, Jan. 17.
URL:https://philomathnews.com/event/phs-girls-basketball-vs-silverton-2/
LOCATION:Philomath High School\, 2054 Applegate St.\, Philomath\, OR\, 97370
CATEGORIES:Athletics
ATTACH;FMTTYPE=image/jpeg:https://philomathnews.com/wp-content/uploads/2026/01/011326-gbb-cannon_1344-scaled.jpg
END:VEVENT
BEGIN:VEVENT
DTSTART;TZID=America/Los_Angeles:20260120T190000
DTEND;TZID=America/Los_Angeles:20260120T190000
DTSTAMP:20260421T054516
CREATED:20251226T182545Z
LAST-MODIFIED:20251226T182545Z
UID:10011468-1768935600-1768935600@philomathnews.com
SUMMARY:PHS Girls Basketball vs. Sweet Home
DESCRIPTION:Philomath High’s girls basketball team is scheduled to host Sweet Home at 7 p.m. Tuesday\, Jan. 20.
URL:https://philomathnews.com/event/phs-girls-basketball-vs-sweet-home/
LOCATION:Philomath High School\, 2054 Applegate St.\, Philomath\, OR\, 97370
CATEGORIES:Athletics
ATTACH;FMTTYPE=image/jpeg:https://philomathnews.com/wp-content/uploads/2025/12/121625-gbb-Brown-06.jpg
END:VEVENT
BEGIN:VEVENT
DTSTART;TZID=America/Los_Angeles:20260124T130000
DTEND;TZID=America/Los_Angeles:20260124T130000
DTSTAMP:20260421T054516
CREATED:20260124T154121Z
LAST-MODIFIED:20260124T154121Z
UID:10011717-1769259600-1769259600@philomathnews.com
SUMMARY:PHS Girls Basketball vs. Astoria
DESCRIPTION:Philomath High’s girls basketball team is scheduled to host Astoria at 1 p.m. Saturday\, Jan. 24.
URL:https://philomathnews.com/event/phs-girls-basketball-vs-astoria/
LOCATION:Philomath High School\, 2054 Applegate St.\, Philomath\, OR\, 97370
CATEGORIES:Athletics
ATTACH;FMTTYPE=image/jpeg:https://philomathnews.com/wp-content/uploads/2025/12/120925-gbb-Hood-03.jpg
END:VEVENT
BEGIN:VEVENT
DTSTART;TZID=America/Los_Angeles:20260127T190000
DTEND;TZID=America/Los_Angeles:20260127T190000
DTSTAMP:20260421T054516
CREATED:20251226T183023Z
LAST-MODIFIED:20251226T183023Z
UID:10011470-1769540400-1769540400@philomathnews.com
SUMMARY:PHS Girls Basketball vs. Cascade
DESCRIPTION:Philomath High’s girls basketball team is scheduled to host Cascade at 7 p.m. Tuesday\, Jan. 27.
URL:https://philomathnews.com/event/phs-girls-basketball-vs-cascade/
LOCATION:Philomath High School\, 2054 Applegate St.\, Philomath\, OR\, 97370
CATEGORIES:Athletics
ATTACH;FMTTYPE=image/jpeg:https://philomathnews.com/wp-content/uploads/2025/12/121625-gbb-Cannon-01.jpg
END:VEVENT
BEGIN:VEVENT
DTSTART;TZID=America/Los_Angeles:20260130T190000
DTEND;TZID=America/Los_Angeles:20260130T190000
DTSTAMP:20260421T054516
CREATED:20251226T182150Z
LAST-MODIFIED:20251226T182150Z
UID:10011466-1769799600-1769799600@philomathnews.com
SUMMARY:PHS Girls Basketball at Stayton
DESCRIPTION:Philomath High’s girls basketball team is scheduled to play at Stayton at 7 p.m. Friday\, Jan. 30.
URL:https://philomathnews.com/event/phs-girls-basketball-at-stayton/
LOCATION:Stayton High School\, 757 W. Locust St.\, Stayton\, OR\, 97383
CATEGORIES:Athletics
ATTACH;FMTTYPE=image/jpeg:https://philomathnews.com/wp-content/uploads/2025/12/122325-gbb-Maxey-01.jpg
END:VEVENT
END:VCALENDAR