BEGIN:VCALENDAR
VERSION:2.0
PRODID:-//Philomath News - ECPv6.15.20//NONSGML v1.0//EN
CALSCALE:GREGORIAN
METHOD:PUBLISH
X-ORIGINAL-URL:https://philomathnews.com
X-WR-CALDESC:Events for Philomath News
REFRESH-INTERVAL;VALUE=DURATION:PT1H
X-Robots-Tag:noindex
X-PUBLISHED-TTL:PT1H
BEGIN:VTIMEZONE
TZID:America/Los_Angeles
BEGIN:DAYLIGHT
TZOFFSETFROM:-0800
TZOFFSETTO:-0700
TZNAME:PDT
DTSTART:20250309T100000
END:DAYLIGHT
BEGIN:STANDARD
TZOFFSETFROM:-0700
TZOFFSETTO:-0800
TZNAME:PST
DTSTART:20251102T090000
END:STANDARD
BEGIN:DAYLIGHT
TZOFFSETFROM:-0800
TZOFFSETTO:-0700
TZNAME:PDT
DTSTART:20260308T100000
END:DAYLIGHT
BEGIN:STANDARD
TZOFFSETFROM:-0700
TZOFFSETTO:-0800
TZNAME:PST
DTSTART:20261101T090000
END:STANDARD
BEGIN:DAYLIGHT
TZOFFSETFROM:-0800
TZOFFSETTO:-0700
TZNAME:PDT
DTSTART:20270314T100000
END:DAYLIGHT
BEGIN:STANDARD
TZOFFSETFROM:-0700
TZOFFSETTO:-0800
TZNAME:PST
DTSTART:20271107T090000
END:STANDARD
END:VTIMEZONE
BEGIN:VEVENT
DTSTART;VALUE=DATE:20260207
DTEND;VALUE=DATE:20260208
DTSTAMP:20260425T094253
CREATED:20260119T195630Z
LAST-MODIFIED:20260119T195630Z
UID:10011691-1770422400-1770508799@philomathnews.com
SUMMARY:PHS at Last Chance Cheer Competition at Tualatin
DESCRIPTION:Philomath High School’s cheer team is scheduled to compete on Saturday\, Feb. 7 at the Last Chance Cheer Competition at Tualatin High School.
URL:https://philomathnews.com/event/phs-at-last-chance-cheer-competition-at-tualatin/
LOCATION:Tualatin High School\, 22300 SW Boones Ferry Rd\, Tualatin\, OR\, 97062
CATEGORIES:Athletics
ATTACH;FMTTYPE=image/jpeg:https://philomathnews.com/wp-content/uploads/2025/03/030725-gbb-Cheer-01.jpg
ORGANIZER;CN="Tualatin High School":MAILTO:tualatinhighmainoffice@ttsd.k12.or.us
END:VEVENT
BEGIN:VEVENT
DTSTART;TZID=America/Los_Angeles:20260213T163000
DTEND;TZID=America/Los_Angeles:20260213T163000
DTSTAMP:20260425T094253
CREATED:20260211T163152Z
LAST-MODIFIED:20260211T163152Z
UID:10011731-1771000200-1771000200@philomathnews.com
SUMMARY:PHS at State Cheerleading Championships
DESCRIPTION:Philomath High School’s cheer team is scheduled to compete on Friday\, Feb. 13 at the OSAA State Cheerleading Championships at Oregon City High School. The Warriors are scheduled to compete in the Game Day category at 5:05 p.m. See the full schedule here.
URL:https://philomathnews.com/event/phs-at-state-cheerleading-championships/
LOCATION:Oregon City High School\, 19761 S. Beavercreek Rd\, Oregon City\, OR\, 97208
CATEGORIES:Athletics
ATTACH;FMTTYPE=image/jpeg:https://philomathnews.com/wp-content/uploads/2025/03/030725-gbb-Cheer-01.jpg
ORGANIZER;CN="Oregon School Activities Association":MAILTO:info@osaa.org
END:VEVENT
END:VCALENDAR