BEGIN:VCALENDAR
VERSION:2.0
PRODID:-//Philomath News - ECPv6.15.20//NONSGML v1.0//EN
CALSCALE:GREGORIAN
METHOD:PUBLISH
X-ORIGINAL-URL:https://philomathnews.com
X-WR-CALDESC:Events for Philomath News
REFRESH-INTERVAL;VALUE=DURATION:PT1H
X-Robots-Tag:noindex
X-PUBLISHED-TTL:PT1H
BEGIN:VTIMEZONE
TZID:America/Los_Angeles
BEGIN:DAYLIGHT
TZOFFSETFROM:-0800
TZOFFSETTO:-0700
TZNAME:PDT
DTSTART:20250309T100000
END:DAYLIGHT
BEGIN:STANDARD
TZOFFSETFROM:-0700
TZOFFSETTO:-0800
TZNAME:PST
DTSTART:20251102T090000
END:STANDARD
BEGIN:DAYLIGHT
TZOFFSETFROM:-0800
TZOFFSETTO:-0700
TZNAME:PDT
DTSTART:20260308T100000
END:DAYLIGHT
BEGIN:STANDARD
TZOFFSETFROM:-0700
TZOFFSETTO:-0800
TZNAME:PST
DTSTART:20261101T090000
END:STANDARD
BEGIN:DAYLIGHT
TZOFFSETFROM:-0800
TZOFFSETTO:-0700
TZNAME:PDT
DTSTART:20270314T100000
END:DAYLIGHT
BEGIN:STANDARD
TZOFFSETFROM:-0700
TZOFFSETTO:-0800
TZNAME:PST
DTSTART:20271107T090000
END:STANDARD
END:VTIMEZONE
BEGIN:VEVENT
DTSTART;TZID=America/Los_Angeles:20260416T114500
DTEND;TZID=America/Los_Angeles:20260416T130000
DTSTAMP:20260424T043326
CREATED:20260327T183024Z
LAST-MODIFIED:20260327T183113Z
UID:10011949-1776339900-1776344400@philomathnews.com
SUMMARY:Philomath Area Chamber of Commerce Luncheon
DESCRIPTION:CHAMBER LUNCHEON: Philomath Fire and Rescue Catered by: Eats and Treats\, Thursday\, April 18\, 11:45 a.m.-1 p.m. \nRSVP required. Save $5.00  \n$15/person when preregistered.\n$20/person at the door with out an RSVP \nChamber Forum Luncheons are held the third Thursday of each month from 11:45 a.m. to 1:00 p.m. at Peace Lutheran Church at 2540 Applegate Street in Philomath. \nThese luncheons bring the general membership and guests together for networking\, in addition to inviting speakers who give topical presentations of interest.
URL:https://philomathnews.com/event/philomath-area-chamber-of-commerce-luncheon-4/
LOCATION:Peace Lutheran Church\, 2540 Applegate St.\, Philomath\, OR\, 97370
CATEGORIES:Business,Clubs and Organizations
ATTACH;FMTTYPE=image/jpeg:https://philomathnews.com/wp-content/uploads/2025/03/011625-chamber-logo-file_0576-scaled.jpg
ORGANIZER;CN="Philomath Area Chamber of Commerce":MAILTO:director@philomathchamber.org
END:VEVENT
END:VCALENDAR