BEGIN:VCALENDAR
VERSION:2.0
PRODID:-//Philomath News - ECPv6.15.20//NONSGML v1.0//EN
CALSCALE:GREGORIAN
METHOD:PUBLISH
X-WR-CALNAME:Philomath News
X-ORIGINAL-URL:https://philomathnews.com
X-WR-CALDESC:Events for Philomath News
REFRESH-INTERVAL;VALUE=DURATION:PT1H
X-Robots-Tag:noindex
X-PUBLISHED-TTL:PT1H
BEGIN:VTIMEZONE
TZID:America/Los_Angeles
BEGIN:DAYLIGHT
TZOFFSETFROM:-0800
TZOFFSETTO:-0700
TZNAME:PDT
DTSTART:20250309T100000
END:DAYLIGHT
BEGIN:STANDARD
TZOFFSETFROM:-0700
TZOFFSETTO:-0800
TZNAME:PST
DTSTART:20251102T090000
END:STANDARD
BEGIN:DAYLIGHT
TZOFFSETFROM:-0800
TZOFFSETTO:-0700
TZNAME:PDT
DTSTART:20260308T100000
END:DAYLIGHT
BEGIN:STANDARD
TZOFFSETFROM:-0700
TZOFFSETTO:-0800
TZNAME:PST
DTSTART:20261101T090000
END:STANDARD
BEGIN:DAYLIGHT
TZOFFSETFROM:-0800
TZOFFSETTO:-0700
TZNAME:PDT
DTSTART:20270314T100000
END:DAYLIGHT
BEGIN:STANDARD
TZOFFSETFROM:-0700
TZOFFSETTO:-0800
TZNAME:PST
DTSTART:20271107T090000
END:STANDARD
END:VTIMEZONE
BEGIN:VEVENT
DTSTART;TZID=America/Los_Angeles:20260427T180000
DTEND;TZID=America/Los_Angeles:20260427T180000
DTSTAMP:20260425T193159
CREATED:20260402T193334Z
LAST-MODIFIED:20260402T193334Z
UID:10011985-1777312800-1777312800@philomathnews.com
SUMMARY:PHS Boys Volleyball vs. Western Christian
DESCRIPTION:The Philomath High boys volleyball team is scheduled to play at 6 p.m. Monday\, April 27 at home vs. Western Christian.
URL:https://philomathnews.com/event/phs-boys-volleyball-vs-western-christian/
LOCATION:Philomath High School\, 2054 Applegate St.\, Philomath\, OR\, 97370
CATEGORIES:Athletics
ATTACH;FMTTYPE=image/jpeg:https://philomathnews.com/wp-content/uploads/2026/04/033126-bvb-martinez_5901-scaled.jpg
END:VEVENT
BEGIN:VEVENT
DTSTART;TZID=America/Los_Angeles:20260429T180000
DTEND;TZID=America/Los_Angeles:20260429T180000
DTSTAMP:20260425T193159
CREATED:20260403T155316Z
LAST-MODIFIED:20260403T155316Z
UID:10011991-1777485600-1777485600@philomathnews.com
SUMMARY:PHS Boys Volleyball at Cascade
DESCRIPTION:The Philomath High boys volleyball team is scheduled to play at 6 p.m. Wednesday\, April 29\, at Cascade.
URL:https://philomathnews.com/event/phs-boys-volleyball-at-cascade/
LOCATION:Cascade High School\, 10226 Marion Rd SE\, Turner\, OR\, 97392
CATEGORIES:Athletics
ATTACH;FMTTYPE=image/jpeg:https://philomathnews.com/wp-content/uploads/2026/04/033126-bvb-carrasco_5893-scaled.jpg
END:VEVENT
END:VCALENDAR