BEGIN:VCALENDAR
VERSION:2.0
PRODID:-//Philomath News - ECPv6.15.20//NONSGML v1.0//EN
CALSCALE:GREGORIAN
METHOD:PUBLISH
X-ORIGINAL-URL:https://philomathnews.com
X-WR-CALDESC:Events for Philomath News
REFRESH-INTERVAL;VALUE=DURATION:PT1H
X-Robots-Tag:noindex
X-PUBLISHED-TTL:PT1H
BEGIN:VTIMEZONE
TZID:America/Los_Angeles
BEGIN:DAYLIGHT
TZOFFSETFROM:-0800
TZOFFSETTO:-0700
TZNAME:PDT
DTSTART:20250309T100000
END:DAYLIGHT
BEGIN:STANDARD
TZOFFSETFROM:-0700
TZOFFSETTO:-0800
TZNAME:PST
DTSTART:20251102T090000
END:STANDARD
BEGIN:DAYLIGHT
TZOFFSETFROM:-0800
TZOFFSETTO:-0700
TZNAME:PDT
DTSTART:20260308T100000
END:DAYLIGHT
BEGIN:STANDARD
TZOFFSETFROM:-0700
TZOFFSETTO:-0800
TZNAME:PST
DTSTART:20261101T090000
END:STANDARD
BEGIN:DAYLIGHT
TZOFFSETFROM:-0800
TZOFFSETTO:-0700
TZNAME:PDT
DTSTART:20270314T100000
END:DAYLIGHT
BEGIN:STANDARD
TZOFFSETFROM:-0700
TZOFFSETTO:-0800
TZNAME:PST
DTSTART:20271107T090000
END:STANDARD
END:VTIMEZONE
BEGIN:VEVENT
DTSTART;TZID=America/Los_Angeles:20260331T160000
DTEND;TZID=America/Los_Angeles:20260331T160000
DTSTAMP:20260424T033132
CREATED:20260323T161819Z
LAST-MODIFIED:20260323T161951Z
UID:10011841-1774972800-1774972800@philomathnews.com
SUMMARY:PHS Boys Tennis vs. Valley Catholic
DESCRIPTION:The Philomath High School boys tennis team is scheduled to play at home vs. Valley Catholic at 4 p.m. Tuesday\, March 31.
URL:https://philomathnews.com/event/phs-boys-tennis-vs-valley-catholic/
LOCATION:Philomath High School\, 2054 Applegate St.\, Philomath\, OR\, 97370
CATEGORIES:Athletics
ATTACH;FMTTYPE=image/jpeg:https://philomathnews.com/wp-content/uploads/2026/03/031926-bten-reynolds_5448.jpg
END:VEVENT
BEGIN:VEVENT
DTSTART;TZID=America/Los_Angeles:20260403T120000
DTEND;TZID=America/Los_Angeles:20260403T120000
DTSTAMP:20260424T033132
CREATED:20260323T220613Z
LAST-MODIFIED:20260323T220613Z
UID:10011851-1775217600-1775217600@philomathnews.com
SUMMARY:PHS Boys Tennis at Marshfield
DESCRIPTION:The Philomath High School boys tennis team is scheduled to play Marshfield at the Boys and Girls Club of Southwest Oregon at noon Friday\, April 3.
URL:https://philomathnews.com/event/phs-boys-tennis-at-marshfield/
LOCATION:Boys and Girls Club of Southwestern Oregon\, 3333 Walnut Ave.\, Coos Bay\, OR\, 97420
CATEGORIES:Athletics
ATTACH;FMTTYPE=image/jpeg:https://philomathnews.com/wp-content/uploads/2026/03/031926-bten-schell_5427-scaled.jpg
END:VEVENT
BEGIN:VEVENT
DTSTART;TZID=America/Los_Angeles:20260403T150000
DTEND;TZID=America/Los_Angeles:20260403T150000
DTSTAMP:20260424T033132
CREATED:20260323T220752Z
LAST-MODIFIED:20260323T220752Z
UID:10011852-1775228400-1775228400@philomathnews.com
SUMMARY:PHS Boys Tennis at North Bend
DESCRIPTION:The Philomath High School boys tennis team is scheduled to play at North Bend at 3 p.m. Friday\, April 3.
URL:https://philomathnews.com/event/phs-boys-tennis-at-north-bend/
LOCATION:North Bend High School\, 2323 Pacific St.\, North Bend\, OR\, 97459
CATEGORIES:Athletics
ATTACH;FMTTYPE=image/jpeg:https://philomathnews.com/wp-content/uploads/2026/03/031926-bten-holroyd-s_5436-scaled.jpg
END:VEVENT
END:VCALENDAR