BEGIN:VCALENDAR
VERSION:2.0
PRODID:-//Philomath News - ECPv6.15.20//NONSGML v1.0//EN
CALSCALE:GREGORIAN
METHOD:PUBLISH
X-ORIGINAL-URL:https://philomathnews.com
X-WR-CALDESC:Events for Philomath News
REFRESH-INTERVAL;VALUE=DURATION:PT1H
X-Robots-Tag:noindex
X-PUBLISHED-TTL:PT1H
BEGIN:VTIMEZONE
TZID:America/Los_Angeles
BEGIN:DAYLIGHT
TZOFFSETFROM:-0800
TZOFFSETTO:-0700
TZNAME:PDT
DTSTART:20250309T100000
END:DAYLIGHT
BEGIN:STANDARD
TZOFFSETFROM:-0700
TZOFFSETTO:-0800
TZNAME:PST
DTSTART:20251102T090000
END:STANDARD
BEGIN:DAYLIGHT
TZOFFSETFROM:-0800
TZOFFSETTO:-0700
TZNAME:PDT
DTSTART:20260308T100000
END:DAYLIGHT
BEGIN:STANDARD
TZOFFSETFROM:-0700
TZOFFSETTO:-0800
TZNAME:PST
DTSTART:20261101T090000
END:STANDARD
BEGIN:DAYLIGHT
TZOFFSETFROM:-0800
TZOFFSETTO:-0700
TZNAME:PDT
DTSTART:20270314T100000
END:DAYLIGHT
BEGIN:STANDARD
TZOFFSETFROM:-0700
TZOFFSETTO:-0800
TZNAME:PST
DTSTART:20271107T090000
END:STANDARD
END:VTIMEZONE
BEGIN:VEVENT
DTSTART;TZID=America/Los_Angeles:20260102T100000
DTEND;TZID=America/Los_Angeles:20260102T100000
DTSTAMP:20260423T140151
CREATED:20251226T183353Z
LAST-MODIFIED:20251226T183353Z
UID:10011471-1767348000-1767348000@philomathnews.com
SUMMARY:PHS Girls Wrestling at Phil Smith Memorial Invitational
DESCRIPTION:Philomath High’s girls wrestling team is scheduled to compete at 10 a.m. Friday\, Jan. 2 at the Phil Smith Memorial Invitational at Junction City High School.
URL:https://philomathnews.com/event/phs-girls-wrestling-at-phil-smith-memorial-invitational/
LOCATION:Junction City High School\, 1135 W. Sixth Ave.\, Junction City\, OR\, 97448
CATEGORIES:Athletics
ATTACH;FMTTYPE=image/jpeg:https://philomathnews.com/wp-content/uploads/2025/12/121225-wr-ellinyson_0111-scaled.jpg
END:VEVENT
BEGIN:VEVENT
DTSTART;TZID=America/Los_Angeles:20260102T170000
DTEND;TZID=America/Los_Angeles:20260102T190000
DTSTAMP:20260423T140151
CREATED:20251116T211625Z
LAST-MODIFIED:20251116T211823Z
UID:10009401-1767373200-1767380400@philomathnews.com
SUMMARY:Omelet Dinner at College United Methodist Church
DESCRIPTION:Held the first Friday of each month (excluding July and August)\, the dinner began in 1987 as a means of funding parsonage property taxes. Dinners are open to the public. The meal consists of an omelet (made while you watch) with your choice of fillings (ham\, green onion\, green peppers\, mushrooms\, cheddar and/or Jack cheese)\, homemade scones\, fresh fruit and a beverage. If you are real hungry\, sausage gravy and scones are available for purchase. Homemade desserts can be enjoyed for a donation. \nIn April\, omelets are replaced with our annual Spaghetti Dinner. The meal includes spaghetti\, bread\, salad and a beverage. Delicious\, homemade desserts will be available for a donation. (Same time\, same place — Social Hall from 5-7 PM)
URL:https://philomathnews.com/event/omelet-dinner-at-college-united-methodist-church/2026-01-02/
LOCATION:College United Methodist Church\, 1123 Main St.\, Philomath\, OR\, 97370
CATEGORIES:Community
ATTACH;FMTTYPE=image/jpeg:https://philomathnews.com/wp-content/uploads/2020/11/College-United-Methodist-Church3-2020.jpg
ORGANIZER;CN="College United Methodist Church":MAILTO:collegeumc@gmail.com
END:VEVENT
BEGIN:VEVENT
DTSTART;VALUE=DATE:20260103
DTEND;VALUE=DATE:20260104
DTSTAMP:20260423T140151
CREATED:20251226T175416Z
LAST-MODIFIED:20251226T175416Z
UID:10011454-1767398400-1767484799@philomathnews.com
SUMMARY:PHS Cheer at Tigard Takeover Competition
DESCRIPTION:Philomath High School’s cheer team is scheduled to compete on Saturday\, Jan. 3 at the Tigard Takeover Competition.
URL:https://philomathnews.com/event/phs-cheer-at-tigard-takeover-competition/
LOCATION:Tigard High School\, 9000 SW Durham Rd\, Tigard\, OR\, 97224
CATEGORIES:Athletics
ATTACH;FMTTYPE=image/jpeg:https://philomathnews.com/wp-content/uploads/2025/03/030725-gbb-Cheer-01.jpg
END:VEVENT
BEGIN:VEVENT
DTSTART;TZID=America/Los_Angeles:20260105T090000
DTEND;TZID=America/Los_Angeles:20260105T090000
DTSTAMP:20260423T140151
CREATED:20251116T054312Z
LAST-MODIFIED:20251116T054312Z
UID:10007214-1767603600-1767603600@philomathnews.com
SUMMARY:Philomath TOPS Meeting
DESCRIPTION:The Philomath chapter of TOPS (Take Off Pounds Sensibly) meets at 9 a.m. Mondays at Peace Lutheran Church with weigh-in preceding the meeting from 8:30-9 a.m.
URL:https://philomathnews.com/event/philomath-tops-meeting/2026-01-05/
LOCATION:Peace Lutheran Church\, 2540 Applegate St.\, Philomath\, OR\, 97370
CATEGORIES:Clubs and Organizations
ATTACH;FMTTYPE=image/jpeg:https://philomathnews.com/wp-content/uploads/2023/02/Peace-Lutheran-Church1-2020-scaled.jpg
END:VEVENT
BEGIN:VEVENT
DTSTART;TZID=America/Los_Angeles:20260105T100000
DTEND;TZID=America/Los_Angeles:20260105T100000
DTSTAMP:20260423T140151
CREATED:20251116T185922Z
LAST-MODIFIED:20251116T185922Z
UID:10007475-1767607200-1767607200@philomathnews.com
SUMMARY:Dementia Warriors Coffee Connections
DESCRIPTION:Dementia Warriors Coffee Connections meets at 10 a.m. Mondays at Timber Towne Coffee in Philomath. From the organizer: “Come savor this casual opportunity to connect and laugh with people with dementia/Alzheimer’s and caregivers.”
URL:https://philomathnews.com/event/dementia-warriors-coffee-connections/2026-01-05/
LOCATION:Timber Towne Coffee\, 1427 Main St.\, Philomath\, OR\, 97370
CATEGORIES:Clubs and Organizations
ATTACH;FMTTYPE=image/jpeg:https://philomathnews.com/wp-content/uploads/2025/01/020422-Douglas-The-Truck-At-Timber-Townejpg.jpg
ORGANIZER;CN="Dementia Warriors":MAILTO:dementiaadvocacy16@gmail.com
END:VEVENT
BEGIN:VEVENT
DTSTART;TZID=America/Los_Angeles:20260105T183000
DTEND;TZID=America/Los_Angeles:20260105T223000
DTSTAMP:20260423T140151
CREATED:20251116T192605Z
LAST-MODIFIED:20251116T192605Z
UID:10007737-1767637800-1767652200@philomathnews.com
SUMMARY:Moonlight Country Mixer at the Grange
DESCRIPTION:Jamie Lee Dancing presents Moonlight Country Mixer. Every Monday 6:30-10:30 p.m. at Marys River Grange\, 24707 Grange Hall Rd.\, Philomath. Cost: $5. All ages welcome. Parking limited to Grange Hall lot. Country swing and line dance lessons from 6:30-7:30.
URL:https://philomathnews.com/event/moonlight-country-mixer-at-the-grange/2026-01-05/
LOCATION:Marys River Grange Hall\, 24707 Grange Hall Road\, Philomath\, OR\, 97370
CATEGORIES:Arts and Entertainment
ATTACH;FMTTYPE=image/jpeg:https://philomathnews.com/wp-content/uploads/2025/09/081325-mrg-sign_8863-scaled.jpg
ORGANIZER;CN="Jamie Lee Dancing":MAILTO:Jamieleedancing@gmail.com
END:VEVENT
BEGIN:VEVENT
DTSTART;TZID=America/Los_Angeles:20260106T090000
DTEND;TZID=America/Los_Angeles:20260106T090000
DTSTAMP:20260423T140151
CREATED:20251116T195508Z
LAST-MODIFIED:20251116T200243Z
UID:10008777-1767690000-1767690000@philomathnews.com
SUMMARY:Benton County Board of Commissioners Meeting
DESCRIPTION:The Benton County Board of Commissioners typically meet for regular meetings at 9 a.m. on the first and third Tuesdays each month at the Kalapuya Building. Holidays and special events occasionally forces the board to move a regular meeting to another date.
URL:https://philomathnews.com/event/benton-county-board-of-commissioners-meeting/2026-01-06/
LOCATION:Kalapuya Building\, 4500 SW Research Way\, Corvallis\, OR\, 97333
CATEGORIES:Government
ATTACH;FMTTYPE=image/jpeg:https://philomathnews.com/wp-content/uploads/2022/02/020822-kalapuya-bldg_2625-scaled.jpeg
END:VEVENT
BEGIN:VEVENT
DTSTART;TZID=America/Los_Angeles:20260106T120000
DTEND;TZID=America/Los_Angeles:20260106T120000
DTSTAMP:20260423T140151
CREATED:20260102T203311Z
LAST-MODIFIED:20260102T203311Z
UID:10011503-1767700800-1767700800@philomathnews.com
SUMMARY:Philomath Rotary Club Meeting
DESCRIPTION:Please come to the Philomath Rotary Club meeting on January 6 at noon in the fellowship hall of Peace Lutheran Church.  All Rotarians and community members are welcome.\nDiscussions will be Philomath Rotary Club upcoming community service goals:\n\n\nContinued discussions on community service projects and goals such as Peace Pole installations at 5 school grounds.\n\n\nDiscussion on preparation for the 24th annual Salmon & Jazz fun-raiser event on April 18th \, 2026.\n\n\nThe main discussion will be on the City of Philomath Community Vision 2050\n\n\nKickoff Celebration January 15th at 7:00 Pm at the Philomath Scout lodge\n\n\nStakeholder input January 19-30:  Rotary Club of Philomath stakeholder committee representatives (limit)2 per organization) discussion.  The discussion our club goals with a 15 minute interview video recording.\n\n\nWe hope you can come and please remember lunch will be provided.  Please RSVP to rotaryfred@hotmail.com if you will be attending so we can plan the number of meals.  There will be a board meeting following the meeting at 1 PM
URL:https://philomathnews.com/event/philomath-rotary-club-meeting-3/
LOCATION:Peace Lutheran Church\, 2540 Applegate St.\, Philomath\, OR\, 97370
CATEGORIES:Clubs and Organizations
ATTACH;FMTTYPE=image/jpeg:https://philomathnews.com/wp-content/uploads/2025/07/062725-rotary-file_7524-scaled.jpg
END:VEVENT
BEGIN:VEVENT
DTSTART;TZID=America/Los_Angeles:20260106T180000
DTEND;TZID=America/Los_Angeles:20260106T190000
DTSTAMP:20260423T140151
CREATED:20251116T192954Z
LAST-MODIFIED:20251116T193042Z
UID:10007998-1767722400-1767726000@philomathnews.com
SUMMARY:Philomath Community Meal
DESCRIPTION:Free meal and fellowship — everyone welcome! Live music\, prayer room\, delicious meal. Sponsored by Philomath Area Churches.
URL:https://philomathnews.com/event/philomath-community-meal/2026-01-06/
LOCATION:College United Methodist Church\, 1123 Main St.\, Philomath\, OR\, 97370
CATEGORIES:Community
ATTACH;FMTTYPE=image/jpeg:https://philomathnews.com/wp-content/uploads/2024/11/112424-community-dinner-sign_256.jpg
ORGANIZER;CN="College United Methodist Church":MAILTO:collegeumc@gmail.com
END:VEVENT
BEGIN:VEVENT
DTSTART;TZID=America/Los_Angeles:20260106T180000
DTEND;TZID=America/Los_Angeles:20260106T190000
DTSTAMP:20260423T140151
CREATED:20251216T154159Z
LAST-MODIFIED:20251216T154159Z
UID:10010978-1767722400-1767726000@philomathnews.com
SUMMARY:Yoga at the Grange
DESCRIPTION:Instructor Laura Coen leads Yoga at the Grange Tuesdays from Dec. 2-March 17. \nNo Registration Required. For more information\, send email to: lauraploeg@yahoo.com \nLaura has been teaching yoga to adults\, children and families since 2014. She believes individuals can experience a mindful connection to themselves and the world through the practice of yoga. With a mindful connection to self\, both adults and children can feel better\, have more self-control and more self-awareness. A strong sense of self allows for more stable connections with others. Laura hopes to help yoga students find stability in themselves\, and therefore become more productive\, helpful and healthy members of their community.
URL:https://philomathnews.com/event/yoga-at-the-grange-2/2026-01-06/
LOCATION:Marys River Grange Hall\, 24707 Grange Hall Road\, Philomath\, OR\, 97370
CATEGORIES:Exercise
ATTACH;FMTTYPE=image/jpeg:https://philomathnews.com/wp-content/uploads/2025/03/030725-yoga-artwork.jpg
ORGANIZER;CN="Laura Coen":MAILTO:lauraploeg@yahoo.com
END:VEVENT
BEGIN:VEVENT
DTSTART;TZID=America/Los_Angeles:20260106T183000
DTEND;TZID=America/Los_Angeles:20260106T193000
DTSTAMP:20260423T140151
CREATED:20251116T202150Z
LAST-MODIFIED:20251116T202150Z
UID:10008959-1767724200-1767727800@philomathnews.com
SUMMARY:Philomath Evening Book Club
DESCRIPTION:The Philomath Evening Book Club meets at the Philomath Community Library on the first Tuesday of each month (unless noted). Copies of book club books are available monthly at the library; please ask at the front desk.
URL:https://philomathnews.com/event/philomath-evening-book-club/2026-01-06/
LOCATION:Philomath Community Library\, 1050 Applegate\, Philomath\, OR\, 97370
CATEGORIES:Library
ATTACH;FMTTYPE=image/jpeg:https://philomathnews.com/wp-content/uploads/2022/08/081522-library-file_7767-scaled.jpeg
END:VEVENT
BEGIN:VEVENT
DTSTART;TZID=America/Los_Angeles:20260106T184500
DTEND;TZID=America/Los_Angeles:20260106T184500
DTSTAMP:20260423T140151
CREATED:20251226T181939Z
LAST-MODIFIED:20251226T181939Z
UID:10011465-1767725100-1767725100@philomathnews.com
SUMMARY:PHS Girls Basketball at Crater
DESCRIPTION:Philomath High’s girls basketball team is scheduled to play at Crater at 6:45 p.m. Tuesday\, Jan. 6.
URL:https://philomathnews.com/event/phs-girls-basketball-at-crater/
LOCATION:Crater High School\, 655 N 3rd St.\, Central Point\, OR\, 97502
CATEGORIES:Athletics
ATTACH;FMTTYPE=image/jpeg:https://philomathnews.com/wp-content/uploads/2025/12/122325-gbb-Nuno-02.jpg
END:VEVENT
BEGIN:VEVENT
DTSTART;TZID=America/Los_Angeles:20260107T083000
DTEND;TZID=America/Los_Angeles:20260107T093000
DTSTAMP:20260423T140151
CREATED:20251226T164955Z
LAST-MODIFIED:20251226T165027Z
UID:10011440-1767774600-1767778200@philomathnews.com
SUMMARY:Philomath Area Chamber of Commerce Greeters
DESCRIPTION:Join us for Greeters for complimentary coffee\, treats\, prizes and networking. 8:30-9:30 am Wednesday\, Jan. 7 at Vinwood Tap House \nGreeters gatherings are typically held the first Wednesday of each month from 8:30 – 9:30 am at various Chamber member host locations throughout Philomath. \nCome network in a fun and relaxed atmosphere! It’s a great opportunity to visit Philomath Chamber members and show support for our business community. This program gives business owners an opportunity to promote their operations to a core group of actively involved business people in the community. Lively and uplifting\, there’s no better way to make connections and build professional relationships. Greeters is a networking program available to all Philomath Area Chamber of Commerce members (and their employees)
URL:https://philomathnews.com/event/philomath-area-chamber-of-commerce-greeters-2/
LOCATION:Vinwood Taphouse\, 1736 Main St.\, Philomath\, OR\, 97370
CATEGORIES:Business,Clubs and Organizations
ATTACH;FMTTYPE=image/jpeg:https://philomathnews.com/wp-content/uploads/2025/03/011625-chamber-logo-file_0576-scaled.jpg
ORGANIZER;CN="Philomath Area Chamber of Commerce":MAILTO:director@philomathchamber.org
END:VEVENT
BEGIN:VEVENT
DTSTART;TZID=America/Los_Angeles:20260107T090000
DTEND;TZID=America/Los_Angeles:20260107T120000
DTSTAMP:20260423T140151
CREATED:20251230T162231Z
LAST-MODIFIED:20260106T155015Z
UID:10011514-1767776400-1767787200@philomathnews.com
SUMMARY:Quilts From Caring Hands
DESCRIPTION:The primary purpose of Quilts From Caring Hands is to bring the feeling of loving comfort to at-risk children in Oregon’s Benton\, Linn and Marion counties. These include those who are homeless\, drug addicted\, visually impaired\, or abused\, and those in foster care. Our quilts are distributed through designated social service agencies. \nEach quilt we make for a child is unique. In addition to crib- and twin-sized quilts\, we also assemble tactile quilts and “cuddlers” for visually impaired children.  The finished quilts and cuddlers are given away once each quarter. \nQCH is grateful to our sponsors for their support over the years. Quilts from Caring Hands is a volunteer-powered 501(c)(3) nonprofit organization.  All donations are tax deductible.
URL:https://philomathnews.com/event/quilts-from-caring-hands-2/2026-01-07/
LOCATION:Philomath Scout Lodge\, 660 Clemens Mill Road\, Philomath\, OR\, 97370
CATEGORIES:Clubs and Organizations
ATTACH;FMTTYPE=image/jpeg:https://philomathnews.com/wp-content/uploads/2022/08/081122-quilters-workroom_6836-scaled.jpeg
ORGANIZER;CN="Quilts From Caring Hands":MAILTO:qch@peak.org
END:VEVENT
BEGIN:VEVENT
DTSTART;TZID=America/Los_Angeles:20260107T103000
DTEND;TZID=America/Los_Angeles:20260107T110000
DTSTAMP:20260423T140151
CREATED:20251116T194546Z
LAST-MODIFIED:20251116T194634Z
UID:10008521-1767781800-1767783600@philomathnews.com
SUMMARY:Philomath Storytime at the Library
DESCRIPTION:Children of all ages and their families are invited to join us for an interactive storytime full of books\, songs\, and music.
URL:https://philomathnews.com/event/philomath-storytime-at-the-library/2026-01-07/
LOCATION:Philomath Community Library\, 1050 Applegate\, Philomath\, OR\, 97370
CATEGORIES:Library
ATTACH;FMTTYPE=image/jpeg:https://philomathnews.com/wp-content/uploads/2024/07/Calendar-Philomath-Community-Library.jpg
END:VEVENT
BEGIN:VEVENT
DTSTART;TZID=America/Los_Angeles:20260107T120000
DTEND;TZID=America/Los_Angeles:20260107T120000
DTSTAMP:20260423T140151
CREATED:20251116T222511Z
LAST-MODIFIED:20251116T222511Z
UID:10009891-1767787200-1767787200@philomathnews.com
SUMMARY:Philomath Lions Club Meeting
DESCRIPTION:The Philomath Lions Club meets on the first and third Wednesdays of the month at noon at Philomath Fire and Rescue’s Station 201.
URL:https://philomathnews.com/event/philomath-lions-club-meeting-2/2026-01-07/
LOCATION:Philomath Fire and Rescue\, 1035 Main St.\, Philomath\, OR\, 97370
CATEGORIES:Clubs and Organizations
ATTACH;FMTTYPE=image/jpeg:https://philomathnews.com/wp-content/uploads/2025/04/040925-lions-club-artwork_2509-scaled.jpeg
END:VEVENT
BEGIN:VEVENT
DTSTART;TZID=America/Los_Angeles:20260107T143000
DTEND;TZID=America/Los_Angeles:20260107T160000
DTSTAMP:20260423T140151
CREATED:20251116T224328Z
LAST-MODIFIED:20251116T224328Z
UID:10010071-1767796200-1767801600@philomathnews.com
SUMMARY:Dementia Warriors Support Group Meeting
DESCRIPTION:Improving our journey together. \nJoin us from 2:30-4 p.m. on the first and third Wednesday of each month at Peace Lutheran Church in Philomath\, Oregon. \nLoss of cognitive skills and/or memory loss can begin at any age\, and this is greatly worsened by social isolation. Dementia and Alzheimer’s disease are NOT “old-person’s diseases!” Statistics show that many people live with dementia\, on average\, about 10 years before seeking a diagnosis. Early detection gives you time to start self-care and stave off the onset. Knowledge is power! \nWe welcome differences and work together to be creative in enjoying life while navigating dementia. We offer support and connection to those with dementia and their families with twice-monthly support group meetings\, social outings\, easy walks\, coffee chats and a private Facebook group. Most importantly\, we offer hope and a renewed sense of purpose. \nPlease join your strengths with ours to make a better life. Togetherness is our greatest strength. \nWant to learn more? Contact Kim McAlexander at mcalexak@gmail.com.
URL:https://philomathnews.com/event/dementia-warriors-support-group-meeting-2/2026-01-07/
LOCATION:Peace Lutheran Church\, 2540 Applegate St.\, Philomath\, OR\, 97370
CATEGORIES:Clubs and Organizations
ATTACH;FMTTYPE=image/jpeg:https://philomathnews.com/wp-content/uploads/2023/02/Peace-Lutheran-Church1-2020-scaled.jpg
ORGANIZER;CN="Dementia Warriors":MAILTO:dementiaadvocacy16@gmail.com
END:VEVENT
BEGIN:VEVENT
DTSTART;TZID=America/Los_Angeles:20260107T153000
DTEND;TZID=America/Los_Angeles:20260107T163000
DTSTAMP:20260423T140151
CREATED:20251226T172910Z
LAST-MODIFIED:20251226T173125Z
UID:10011450-1767799800-1767803400@philomathnews.com
SUMMARY:BUILD IT Day at Library
DESCRIPTION:Patrons of all ages are invited to play with a variety of building toys. Each week a new engineering challenge will be issued for patrons to attempt. Can you build the highest tower? Can you build the strongest bridge?
URL:https://philomathnews.com/event/build-it-day-at-library-2/
LOCATION:Philomath Community Library\, 1050 Applegate\, Philomath\, OR\, 97370
CATEGORIES:Library
ATTACH;FMTTYPE=image/jpeg:https://philomathnews.com/wp-content/uploads/2024/07/Calendar-Philomath-Community-Library.jpg
END:VEVENT
BEGIN:VEVENT
DTSTART;TZID=America/Los_Angeles:20260107T183000
DTEND;TZID=America/Los_Angeles:20260107T203000
DTSTAMP:20260423T140151
CREATED:20251116T204619Z
LAST-MODIFIED:20251116T204619Z
UID:10009341-1767810600-1767817800@philomathnews.com
SUMMARY:Marys River Grange No. 685 Meeting
DESCRIPTION:Potluck and Social: 6:30 \nPresentation: 7:00 \nBusiness Meeting: 7:30-8:30
URL:https://philomathnews.com/event/marys-river-grange-no-685-meeting/2026-01-07/
LOCATION:Marys River Grange Hall\, 24707 Grange Hall Road\, Philomath\, OR\, 97370
CATEGORIES:Clubs and Organizations
ATTACH;FMTTYPE=image/jpeg:https://philomathnews.com/wp-content/uploads/2025/09/081325-mrg-sign_8863-scaled.jpg
ORGANIZER;CN="Marys River Grange No. 685":MAILTO:marysrivergrange@gmail.com
END:VEVENT
BEGIN:VEVENT
DTSTART;TZID=America/Los_Angeles:20260107T190000
DTEND;TZID=America/Los_Angeles:20260107T190000
DTSTAMP:20260423T140151
CREATED:20251126T232213Z
LAST-MODIFIED:20251126T232213Z
UID:10010518-1767812400-1767812400@philomathnews.com
SUMMARY:State of the City Address with the Mayor
DESCRIPTION:Mayor Christopher McMorran plans to deliver a State of the City address at 7 p.m. Wednesday\, Jan. 7\, at Philomath Museum. The doors open at 6:30 p.m. Light refreshments will be served.
URL:https://philomathnews.com/event/state-of-the-city-address-with-the-mayor/
LOCATION:Philomath Museum\, 1101 Main St.\, Philomath\, OR\, 97370
CATEGORIES:Government
ATTACH;FMTTYPE=image/jpeg:https://philomathnews.com/wp-content/uploads/2025/10/101125-philomath-museum-file_4063-scaled.jpg
END:VEVENT
BEGIN:VEVENT
DTSTART;TZID=America/Los_Angeles:20260108T153000
DTEND;TZID=America/Los_Angeles:20260108T153000
DTSTAMP:20260423T140151
CREATED:20260108T152916Z
LAST-MODIFIED:20260108T152916Z
UID:10011519-1767886200-1767886200@philomathnews.com
SUMMARY:PHS Wrestling at Benton County Championships
DESCRIPTION:Philomath High’s wrestling team is scheduled to host the Benton County Championships at 3:30 p.m. Thursday\, Jan. 8.
URL:https://philomathnews.com/event/phs-wrestling-at-benton-county-championships-2/
LOCATION:Philomath High School\, 2054 Applegate St.\, Philomath\, OR\, 97370
CATEGORIES:Athletics
ATTACH;FMTTYPE=image/jpeg:https://philomathnews.com/wp-content/uploads/2025/12/121225-wr-mulberry_0324-scaled.jpg
END:VEVENT
BEGIN:VEVENT
DTSTART;TZID=America/Los_Angeles:20260108T190000
DTEND;TZID=America/Los_Angeles:20260108T190000
DTSTAMP:20260423T140151
CREATED:20251116T215618Z
LAST-MODIFIED:20251126T230444Z
UID:10009709-1767898800-1767898800@philomathnews.com
SUMMARY:Philomath School Board Meeting
DESCRIPTION:Philomath School Board meetings are currently held on the second Thursday each month at the Philomath High School Community Conference Room at 2054 Applegate St\, unless otherwise noted. Meetings typically begin at 7 p.m. \nAll meetings are open to the public except for executive sessions\, as authorized by law. Time is set aside at the business meeting for public comments.
URL:https://philomathnews.com/event/philomath-school-board-meeting/
LOCATION:Philomath High School\, 2054 Applegate St.\, Philomath\, OR\, 97370
CATEGORIES:Government,Schools
ATTACH;FMTTYPE=image/jpeg:https://philomathnews.com/wp-content/uploads/2021/11/080818-pe-nws-phs-file.jpg
END:VEVENT
BEGIN:VEVENT
DTSTART;TZID=America/Los_Angeles:20260109T171500
DTEND;TZID=America/Los_Angeles:20260109T171500
DTSTAMP:20260423T140151
CREATED:20251226T191129Z
LAST-MODIFIED:20251226T191129Z
UID:10011482-1767978900-1767978900@philomathnews.com
SUMMARY:PHS Swimming at Newport Tri-Meet
DESCRIPTION:Philomath High’s boys and girls swim teams are scheduled to compete at 5:15 p.m. Friday\, Jan. 9\, at a Newport tri-meet.
URL:https://philomathnews.com/event/phs-swimming-at-newport-tri-meet/
LOCATION:Newport Aquatic Center\, 225 SE Avery St.\, Newport\, OR\, 97365
CATEGORIES:Athletics
ATTACH;FMTTYPE=image/jpeg:https://philomathnews.com/wp-content/uploads/2025/12/121025-swm-mclennan-100-back_9747-scaled.jpg
END:VEVENT
BEGIN:VEVENT
DTSTART;TZID=America/Los_Angeles:20260109T180000
DTEND;TZID=America/Los_Angeles:20260109T203000
DTSTAMP:20260423T140151
CREATED:20251116T215927Z
LAST-MODIFIED:20251116T215927Z
UID:10009769-1767981600-1767990600@philomathnews.com
SUMMARY:Bingo at the Grange
DESCRIPTION:Marys River Grange No. 685 hosts bingo on the second Friday each month from 6-8:30 p.m. at Marys River Grange Hall.
URL:https://philomathnews.com/event/bingo-at-the-grange/2026-01-09/
LOCATION:Marys River Grange Hall\, 24707 Grange Hall Road\, Philomath\, OR\, 97370
CATEGORIES:Clubs and Organizations,Community
ATTACH;FMTTYPE=image/jpeg:https://philomathnews.com/wp-content/uploads/2025/08/081325-mrg-sign_8863-scaled.jpg
ORGANIZER;CN="Marys River Grange No. 685":MAILTO:marysrivergrange@gmail.com
END:VEVENT
BEGIN:VEVENT
DTSTART;VALUE=DATE:20260110
DTEND;VALUE=DATE:20260111
DTSTAMP:20260423T140151
CREATED:20251226T175554Z
LAST-MODIFIED:20251226T175554Z
UID:10011455-1768003200-1768089599@philomathnews.com
SUMMARY:PHS Cheer at Colt Cheer Challenge
DESCRIPTION:Philomath High School’s cheer team is scheduled to compete on Saturday\, Jan. 10 at the Colt Cheer Challenge at Thurston High School.
URL:https://philomathnews.com/event/phs-cheer-at-colt-cheer-challenge/
LOCATION:Thurston High School\, 333 58th St.\, Springfield\, OR\, 97478
CATEGORIES:Athletics
ATTACH;FMTTYPE=image/jpeg:https://philomathnews.com/wp-content/uploads/2025/03/030725-gbb-Cheer-01.jpg
END:VEVENT
BEGIN:VEVENT
DTSTART;VALUE=DATE:20260110
DTEND;VALUE=DATE:20260111
DTSTAMP:20260423T140151
CREATED:20251226T183854Z
LAST-MODIFIED:20260109T101015Z
UID:10011474-1768003200-1768089599@philomathnews.com
SUMMARY:PHS Girls Wrestling at Lady Dragon Dual Tournament
DESCRIPTION:Philomath High’s girls wrestling team is scheduled to compete at Saturday\, Jan. 10 at the Lady Dragon Dual Tournament at Dallas.
URL:https://philomathnews.com/event/phs-girls-wrestling-at-lady-dragon-dual-tournament-2/
LOCATION:Dallas High School\, 1250 SE Holman Ave.\, Dallas\, OR\, 97338
CATEGORIES:Athletics
ATTACH;FMTTYPE=image/jpeg:https://philomathnews.com/wp-content/uploads/2025/12/121225-wr-pettit-juvenl_0278-scaled.jpg
END:VEVENT
BEGIN:VEVENT
DTSTART;TZID=America/Los_Angeles:20260110T100000
DTEND;TZID=America/Los_Angeles:20260110T100000
DTSTAMP:20260423T140151
CREATED:20251226T191333Z
LAST-MODIFIED:20251226T191333Z
UID:10011483-1768039200-1768039200@philomathnews.com
SUMMARY:PHS Swimming at District Sprint Meet
DESCRIPTION:Philomath High’s boys and girls swim teams are scheduled to compete at 10 a.m. in the District Sprint Meet at South Albany High School.
URL:https://philomathnews.com/event/phs-swimming-at-district-sprint-meet/
LOCATION:South Albany High School\, 3705 Columbus St.\, Albany\, OR\, 97322
CATEGORIES:Athletics
ATTACH;FMTTYPE=image/jpeg:https://philomathnews.com/wp-content/uploads/2025/12/121025-swm-avery-100-breast_9787.jpg
END:VEVENT
BEGIN:VEVENT
DTSTART;TZID=America/Los_Angeles:20260110T110000
DTEND;TZID=America/Los_Angeles:20260110T120000
DTSTAMP:20260423T140151
CREATED:20251212T212250Z
LAST-MODIFIED:20251212T212250Z
UID:10010902-1768042800-1768046400@philomathnews.com
SUMMARY:Benton County Genealogical Society Program at Philomath Museum
DESCRIPTION:Come and learn about some Benton County history.\nThis presentation is about Letitia Carson\, one of Oregon’s first Black pioneers. Born into slavery in Kentucky\, Letitia made the 2\,100+ mile Oregon trail journey in 1845 with her Irish husband\, David Carson\, giving birth along the way. They settled in the Soap Creek Valley in spring 1846\, but she was forced off the land in 1852. Letitia was a farmer\, mother\, midwife\, entrepreneur\, and likely the first Black woman in the country to receive a homestead patent under the 1862 Homestead Act. We will tell Letitia Carson’s amazing story and also share the origins\, partners\, and goals of the Letitia Carson Legacy Project.
URL:https://philomathnews.com/event/benton-county-genealogical-society-program-at-philomath-museum/
LOCATION:Philomath Museum\, 1101 Main St.\, Philomath\, OR\, 97370
CATEGORIES:Clubs and Organizations
ATTACH;FMTTYPE=image/jpeg:https://philomathnews.com/wp-content/uploads/2025/10/101125-philomath-museum-file_4063-scaled.jpg
ORGANIZER;CN="Benton County Genealogical Society":MAILTO:bcgsor@gmail.com
END:VEVENT
BEGIN:VEVENT
DTSTART;TZID=America/Los_Angeles:20260110T170000
DTEND;TZID=America/Los_Angeles:20260110T170000
DTSTAMP:20260423T140151
CREATED:20251226T180658Z
LAST-MODIFIED:20251226T180658Z
UID:10011459-1768064400-1768064400@philomathnews.com
SUMMARY:PHS Boys Basketball at Astoria
DESCRIPTION:Philomath High’s boys basketball team is scheduled to play at Astoria at 5 p.m. Saturday\, Jan. 10.
URL:https://philomathnews.com/event/phs-boys-basketball-at-astoria/
LOCATION:Astoria High School\, 1001 W Marine Dr.\, Astoria\, OR\, 97103
CATEGORIES:Athletics
ATTACH;FMTTYPE=image/jpeg:https://philomathnews.com/wp-content/uploads/2025/12/122325-bbb-Peters-Ja-01.jpg
END:VEVENT
BEGIN:VEVENT
DTSTART;TZID=America/Los_Angeles:20260111T103000
DTEND;TZID=America/Los_Angeles:20260111T103000
DTSTAMP:20260423T140151
CREATED:20251226T165759Z
LAST-MODIFIED:20251226T165900Z
UID:10011441-1768127400-1768127400@philomathnews.com
SUMMARY:Fruit Tree Spraying Class at Shonnard's
DESCRIPTION:Fruit Tree Spraying Class\nSunday\, January 11th at 10:30am\nFREE CLASS \nLearn the proper techniques\, timing\, and products for fruit tree spraying. Proper care in the dormant season can alleviate disease and insect problems during the growing season.
URL:https://philomathnews.com/event/fruit-tree-spraying-class-at-shonnards/
LOCATION:Shonnard’s Nursery\, 6600 Philomath Blvd\, Corvallis\, OR\, 97333
CATEGORIES:Classes and Workshops
ATTACH;FMTTYPE=image/jpeg:https://philomathnews.com/wp-content/uploads/2025/12/011126-shonnards-class-artwork.jpg
END:VEVENT
END:VCALENDAR