BEGIN:VCALENDAR
VERSION:2.0
PRODID:-//Philomath News - ECPv6.15.20//NONSGML v1.0//EN
CALSCALE:GREGORIAN
METHOD:PUBLISH
X-WR-CALNAME:Philomath News
X-ORIGINAL-URL:https://philomathnews.com
X-WR-CALDESC:Events for Philomath News
REFRESH-INTERVAL;VALUE=DURATION:PT1H
X-Robots-Tag:noindex
X-PUBLISHED-TTL:PT1H
BEGIN:VTIMEZONE
TZID:America/Los_Angeles
BEGIN:DAYLIGHT
TZOFFSETFROM:-0800
TZOFFSETTO:-0700
TZNAME:PDT
DTSTART:20250309T100000
END:DAYLIGHT
BEGIN:STANDARD
TZOFFSETFROM:-0700
TZOFFSETTO:-0800
TZNAME:PST
DTSTART:20251102T090000
END:STANDARD
BEGIN:DAYLIGHT
TZOFFSETFROM:-0800
TZOFFSETTO:-0700
TZNAME:PDT
DTSTART:20260308T100000
END:DAYLIGHT
BEGIN:STANDARD
TZOFFSETFROM:-0700
TZOFFSETTO:-0800
TZNAME:PST
DTSTART:20261101T090000
END:STANDARD
BEGIN:DAYLIGHT
TZOFFSETFROM:-0800
TZOFFSETTO:-0700
TZNAME:PDT
DTSTART:20270314T100000
END:DAYLIGHT
BEGIN:STANDARD
TZOFFSETFROM:-0700
TZOFFSETTO:-0800
TZNAME:PST
DTSTART:20271107T090000
END:STANDARD
END:VTIMEZONE
BEGIN:VEVENT
DTSTART;TZID=America/Los_Angeles:20260715T173000
DTEND;TZID=America/Los_Angeles:20260715T203000
DTSTAMP:20260423T153546
CREATED:20251116T224717Z
LAST-MODIFIED:20260107T171418Z
UID:10010138-1784136600-1784147400@philomathnews.com
SUMMARY:Craft Night and Spoon Jam at the Grange
DESCRIPTION:Spoon (and other greenwood) carving.5:30-8:30 \nNo fee. Bring tools and green wood or any unfinished craft \nPlease RSVP to kiko@handprintpress.com\, or text 541-740-7243.
URL:https://philomathnews.com/event/craft-night-and-spoon-jam-at-the-grange/2026-07-15/
LOCATION:Marys River Grange Hall\, 24707 Grange Hall Road\, Philomath\, OR\, 97370
CATEGORIES:Classes and Workshops
ATTACH;FMTTYPE=image/jpeg:https://philomathnews.com/wp-content/uploads/2025/09/081325-mrg-sign_8863-scaled.jpg
ORGANIZER;CN="Kiko Denzer":MAILTO:kiko@handprintpress.com
END:VEVENT
BEGIN:VEVENT
DTSTART;TZID=America/Los_Angeles:20260716T190000
DTEND;TZID=America/Los_Angeles:20260716T190000
DTSTAMP:20260423T153546
CREATED:20260115T163050Z
LAST-MODIFIED:20260311T011741Z
UID:10011586-1784228400-1784228400@philomathnews.com
SUMMARY:Philomath School Board Meeting
DESCRIPTION:Philomath School Board meetings are typically held on the third Thursday each month at the Philomath High School Community Conference Room at 2054 Applegate St\, unless otherwise noted. Regular meetings usually begin at 7 p.m. \nAll meetings are open to the public except for executive sessions\, as authorized by law. Time is set aside for public comments.
URL:https://philomathnews.com/event/124911/2026-07-16/
LOCATION:Philomath High School\, 2054 Applegate St.\, Philomath\, OR\, 97370
CATEGORIES:Government,Schools
ATTACH;FMTTYPE=image/jpeg:https://philomathnews.com/wp-content/uploads/2020/12/Philomath-High-School3-2020.jpg
END:VEVENT
BEGIN:VEVENT
DTSTART;TZID=America/Los_Angeles:20260720T090000
DTEND;TZID=America/Los_Angeles:20260720T090000
DTSTAMP:20260423T153546
CREATED:20251116T054312Z
LAST-MODIFIED:20251116T054312Z
UID:10007242-1784538000-1784538000@philomathnews.com
SUMMARY:Philomath TOPS Meeting
DESCRIPTION:The Philomath chapter of TOPS (Take Off Pounds Sensibly) meets at 9 a.m. Mondays at Peace Lutheran Church with weigh-in preceding the meeting from 8:30-9 a.m.
URL:https://philomathnews.com/event/philomath-tops-meeting/2026-07-20/
LOCATION:Peace Lutheran Church\, 2540 Applegate St.\, Philomath\, OR\, 97370
CATEGORIES:Clubs and Organizations
ATTACH;FMTTYPE=image/jpeg:https://philomathnews.com/wp-content/uploads/2023/02/Peace-Lutheran-Church1-2020-scaled.jpg
END:VEVENT
BEGIN:VEVENT
DTSTART;TZID=America/Los_Angeles:20260720T100000
DTEND;TZID=America/Los_Angeles:20260720T100000
DTSTAMP:20260423T153546
CREATED:20251116T185922Z
LAST-MODIFIED:20251116T185922Z
UID:10007503-1784541600-1784541600@philomathnews.com
SUMMARY:Dementia Warriors Coffee Connections
DESCRIPTION:Dementia Warriors Coffee Connections meets at 10 a.m. Mondays at Timber Towne Coffee in Philomath. From the organizer: “Come savor this casual opportunity to connect and laugh with people with dementia/Alzheimer’s and caregivers.”
URL:https://philomathnews.com/event/dementia-warriors-coffee-connections/2026-07-20/
LOCATION:Timber Towne Coffee\, 1427 Main St.\, Philomath\, OR\, 97370
CATEGORIES:Clubs and Organizations
ATTACH;FMTTYPE=image/jpeg:https://philomathnews.com/wp-content/uploads/2025/01/020422-Douglas-The-Truck-At-Timber-Townejpg.jpg
ORGANIZER;CN="Dementia Warriors":MAILTO:dementiaadvocacy16@gmail.com
END:VEVENT
BEGIN:VEVENT
DTSTART;TZID=America/Los_Angeles:20260720T183000
DTEND;TZID=America/Los_Angeles:20260720T223000
DTSTAMP:20260423T153546
CREATED:20251116T192605Z
LAST-MODIFIED:20251116T192605Z
UID:10007765-1784572200-1784586600@philomathnews.com
SUMMARY:Moonlight Country Mixer at the Grange
DESCRIPTION:Jamie Lee Dancing presents Moonlight Country Mixer. Every Monday 6:30-10:30 p.m. at Marys River Grange\, 24707 Grange Hall Rd.\, Philomath. Cost: $5. All ages welcome. Parking limited to Grange Hall lot. Country swing and line dance lessons from 6:30-7:30.
URL:https://philomathnews.com/event/moonlight-country-mixer-at-the-grange/2026-07-20/
LOCATION:Marys River Grange Hall\, 24707 Grange Hall Road\, Philomath\, OR\, 97370
CATEGORIES:Arts and Entertainment
ATTACH;FMTTYPE=image/jpeg:https://philomathnews.com/wp-content/uploads/2025/09/081325-mrg-sign_8863-scaled.jpg
ORGANIZER;CN="Jamie Lee Dancing":MAILTO:Jamieleedancing@gmail.com
END:VEVENT
BEGIN:VEVENT
DTSTART;TZID=America/Los_Angeles:20260721T090000
DTEND;TZID=America/Los_Angeles:20260721T090000
DTSTAMP:20260423T153546
CREATED:20251116T200607Z
LAST-MODIFIED:20251116T200607Z
UID:10008845-1784624400-1784624400@philomathnews.com
SUMMARY:Benton County Board of Commissioners Meeting
DESCRIPTION:The Benton County Board of Commissioners typically meet for regular meetings at 9 a.m. on the first and third Tuesdays each month at the Kalapuya Building. Holidays and special events occasionally forces the board to move a regular meeting to another date.
URL:https://philomathnews.com/event/benton-county-board-of-commissioners-meeting-3/2026-07-21/
LOCATION:Kalapuya Building\, 4500 SW Research Way\, Corvallis\, OR\, 97333
CATEGORIES:Government
ATTACH;FMTTYPE=image/jpeg:https://philomathnews.com/wp-content/uploads/2022/02/020822-kalapuya-bldg_2625-scaled.jpeg
END:VEVENT
BEGIN:VEVENT
DTSTART;TZID=America/Los_Angeles:20260721T153000
DTEND;TZID=America/Los_Angeles:20260721T163000
DTSTAMP:20260423T153546
CREATED:20251116T221714Z
LAST-MODIFIED:20251116T221714Z
UID:10009838-1784647800-1784651400@philomathnews.com
SUMMARY:READ Dogs at the Library
DESCRIPTION:Beginning readers are invited to practice reading in any language to a trained therapy Reading Education Assistance Dogs (READ Dogs) on the third Tuesday of the month. A permission form is required for children to participate and may be filled out on-site by parents/guardians. Limited spots are available on a first-come\, first-served basis.
URL:https://philomathnews.com/event/read-dogs-at-the-library/2026-07-21/
LOCATION:Philomath Community Library\, 1050 Applegate\, Philomath\, OR\, 97370
CATEGORIES:Library
ATTACH;FMTTYPE=image/jpeg:https://philomathnews.com/wp-content/uploads/2024/12/122724-READ-dogs_9187-scaled.jpg
END:VEVENT
BEGIN:VEVENT
DTSTART;TZID=America/Los_Angeles:20260721T180000
DTEND;TZID=America/Los_Angeles:20260721T190000
DTSTAMP:20260423T153546
CREATED:20251116T192954Z
LAST-MODIFIED:20251116T193042Z
UID:10008026-1784656800-1784660400@philomathnews.com
SUMMARY:Philomath Community Meal
DESCRIPTION:Free meal and fellowship — everyone welcome! Live music\, prayer room\, delicious meal. Sponsored by Philomath Area Churches.
URL:https://philomathnews.com/event/philomath-community-meal/2026-07-21/
LOCATION:College United Methodist Church\, 1123 Main St.\, Philomath\, OR\, 97370
CATEGORIES:Community
ATTACH;FMTTYPE=image/jpeg:https://philomathnews.com/wp-content/uploads/2024/11/112424-community-dinner-sign_256.jpg
ORGANIZER;CN="College United Methodist Church":MAILTO:collegeumc@gmail.com
END:VEVENT
BEGIN:VEVENT
DTSTART;TZID=America/Los_Angeles:20260722T090000
DTEND;TZID=America/Los_Angeles:20260722T120000
DTSTAMP:20260423T153546
CREATED:20251230T162231Z
LAST-MODIFIED:20260106T155015Z
UID:10008288-1784710800-1784721600@philomathnews.com
SUMMARY:Quilts From Caring Hands
DESCRIPTION:The primary purpose of Quilts From Caring Hands is to bring the feeling of loving comfort to at-risk children in Oregon’s Benton\, Linn and Marion counties. These include those who are homeless\, drug addicted\, visually impaired\, or abused\, and those in foster care. Our quilts are distributed through designated social service agencies. \nEach quilt we make for a child is unique. In addition to crib- and twin-sized quilts\, we also assemble tactile quilts and “cuddlers” for visually impaired children.  The finished quilts and cuddlers are given away once each quarter. \nQCH is grateful to our sponsors for their support over the years. Quilts from Caring Hands is a volunteer-powered 501(c)(3) nonprofit organization.  All donations are tax deductible.
URL:https://philomathnews.com/event/quilts-from-caring-hands-2/2026-07-22/
LOCATION:Philomath Scout Lodge\, 660 Clemens Mill Road\, Philomath\, OR\, 97370
CATEGORIES:Clubs and Organizations
ATTACH;FMTTYPE=image/jpeg:https://philomathnews.com/wp-content/uploads/2022/08/081122-quilters-workroom_6836-scaled.jpeg
ORGANIZER;CN="Quilts From Caring Hands":MAILTO:qch@peak.org
END:VEVENT
BEGIN:VEVENT
DTSTART;TZID=America/Los_Angeles:20260722T103000
DTEND;TZID=America/Los_Angeles:20260722T110000
DTSTAMP:20260423T153546
CREATED:20251116T194546Z
LAST-MODIFIED:20251116T194634Z
UID:10008549-1784716200-1784718000@philomathnews.com
SUMMARY:Philomath Storytime at the Library
DESCRIPTION:Children of all ages and their families are invited to join us for an interactive storytime full of books\, songs\, and music.
URL:https://philomathnews.com/event/philomath-storytime-at-the-library/2026-07-22/
LOCATION:Philomath Community Library\, 1050 Applegate\, Philomath\, OR\, 97370
CATEGORIES:Library
ATTACH;FMTTYPE=image/jpeg:https://philomathnews.com/wp-content/uploads/2024/07/Calendar-Philomath-Community-Library.jpg
END:VEVENT
BEGIN:VEVENT
DTSTART;TZID=America/Los_Angeles:20260722T110000
DTEND;TZID=America/Los_Angeles:20260722T114500
DTSTAMP:20260423T153546
CREATED:20251116T230448Z
LAST-MODIFIED:20251224T225635Z
UID:10010317-1784718000-1784720700@philomathnews.com
SUMMARY:Playtime at the Library
DESCRIPTION:Children and their adults are invited to a playtime immediately following storytime on the fourth Wednesday of every month. Adults may visit with each other while children play with the provided toys.
URL:https://philomathnews.com/event/playtime-at-the-library/2026-07-22/
LOCATION:Philomath Community Library\, 1050 Applegate\, Philomath\, OR\, 97370
CATEGORIES:Library
ATTACH;FMTTYPE=image/jpeg:https://philomathnews.com/wp-content/uploads/2022/08/081522-library-file_7767-scaled.jpeg
END:VEVENT
BEGIN:VEVENT
DTSTART;TZID=America/Los_Angeles:20260722T183000
DTEND;TZID=America/Los_Angeles:20260722T200000
DTSTAMP:20260423T153546
CREATED:20251116T231039Z
LAST-MODIFIED:20251223T154520Z
UID:10010377-1784745000-1784750400@philomathnews.com
SUMMARY:Benton County Historic Resources Commission Meeting
DESCRIPTION:The Benton County Historic Resources Commission Meeting meets from 6:30-8 p.m. on the fourth Wednesday each month at the Kalapuya Building\, second-floor conference room outside Community Development.
URL:https://philomathnews.com/event/benton-county-historic-resources-commission-meeting/2026-07-22/
LOCATION:Kalapuya Building\, 4500 SW Research Way\, Corvallis\, OR\, 97333
CATEGORIES:Government
ATTACH;FMTTYPE=image/jpeg:https://philomathnews.com/wp-content/uploads/2022/02/020822-kalapuya-bldg_2625-scaled.jpeg
END:VEVENT
BEGIN:VEVENT
DTSTART;TZID=America/Los_Angeles:20260727T090000
DTEND;TZID=America/Los_Angeles:20260727T090000
DTSTAMP:20260423T153546
CREATED:20251116T054312Z
LAST-MODIFIED:20251116T054312Z
UID:10007243-1785142800-1785142800@philomathnews.com
SUMMARY:Philomath TOPS Meeting
DESCRIPTION:The Philomath chapter of TOPS (Take Off Pounds Sensibly) meets at 9 a.m. Mondays at Peace Lutheran Church with weigh-in preceding the meeting from 8:30-9 a.m.
URL:https://philomathnews.com/event/philomath-tops-meeting/2026-07-27/
LOCATION:Peace Lutheran Church\, 2540 Applegate St.\, Philomath\, OR\, 97370
CATEGORIES:Clubs and Organizations
ATTACH;FMTTYPE=image/jpeg:https://philomathnews.com/wp-content/uploads/2023/02/Peace-Lutheran-Church1-2020-scaled.jpg
END:VEVENT
BEGIN:VEVENT
DTSTART;TZID=America/Los_Angeles:20260727T100000
DTEND;TZID=America/Los_Angeles:20260727T100000
DTSTAMP:20260423T153546
CREATED:20251116T185922Z
LAST-MODIFIED:20251116T185922Z
UID:10007504-1785146400-1785146400@philomathnews.com
SUMMARY:Dementia Warriors Coffee Connections
DESCRIPTION:Dementia Warriors Coffee Connections meets at 10 a.m. Mondays at Timber Towne Coffee in Philomath. From the organizer: “Come savor this casual opportunity to connect and laugh with people with dementia/Alzheimer’s and caregivers.”
URL:https://philomathnews.com/event/dementia-warriors-coffee-connections/2026-07-27/
LOCATION:Timber Towne Coffee\, 1427 Main St.\, Philomath\, OR\, 97370
CATEGORIES:Clubs and Organizations
ATTACH;FMTTYPE=image/jpeg:https://philomathnews.com/wp-content/uploads/2025/01/020422-Douglas-The-Truck-At-Timber-Townejpg.jpg
ORGANIZER;CN="Dementia Warriors":MAILTO:dementiaadvocacy16@gmail.com
END:VEVENT
BEGIN:VEVENT
DTSTART;TZID=America/Los_Angeles:20260727T183000
DTEND;TZID=America/Los_Angeles:20260727T223000
DTSTAMP:20260423T153546
CREATED:20251116T192605Z
LAST-MODIFIED:20251116T192605Z
UID:10007766-1785177000-1785191400@philomathnews.com
SUMMARY:Moonlight Country Mixer at the Grange
DESCRIPTION:Jamie Lee Dancing presents Moonlight Country Mixer. Every Monday 6:30-10:30 p.m. at Marys River Grange\, 24707 Grange Hall Rd.\, Philomath. Cost: $5. All ages welcome. Parking limited to Grange Hall lot. Country swing and line dance lessons from 6:30-7:30.
URL:https://philomathnews.com/event/moonlight-country-mixer-at-the-grange/2026-07-27/
LOCATION:Marys River Grange Hall\, 24707 Grange Hall Road\, Philomath\, OR\, 97370
CATEGORIES:Arts and Entertainment
ATTACH;FMTTYPE=image/jpeg:https://philomathnews.com/wp-content/uploads/2025/09/081325-mrg-sign_8863-scaled.jpg
ORGANIZER;CN="Jamie Lee Dancing":MAILTO:Jamieleedancing@gmail.com
END:VEVENT
BEGIN:VEVENT
DTSTART;TZID=America/Los_Angeles:20260728T173000
DTEND;TZID=America/Los_Angeles:20260728T173000
DTSTAMP:20260423T153546
CREATED:20251116T225534Z
LAST-MODIFIED:20251116T225615Z
UID:10010197-1785259800-1785259800@philomathnews.com
SUMMARY:Philomath Inclusivity Committee Meeting
DESCRIPTION:Agenda packets are posted to the website by the Friday prior to the meeting. \nMeeting Access Information:  \nThis meeting is being held in-person at the City Hall Council Chambers\, and the public is invited to attend.  Public participation is also available electonically upon request. City meetings are live-streamed on the City’s YouTube channel at: City of Philomath – YouTube. This is a public page; no account or user fee is required. \nGiven two business days’ notice\, an interpreter can be provided for the hearing impaired or those with limited proficiency in English. Contact the City Manager’s Office to make interpreter or electronic participation arrangements. \nCity Manager’s Office: 541-929-6148; cityhall@philomathoregon.gov; PO Box 400\, Philomath\, OR 97370
URL:https://philomathnews.com/event/philomath-inclusivity-committee-meeting/2026-07-28/
LOCATION:Philomath City Hall\, 980 Applegate St.\, Philomath
CATEGORIES:Government
ATTACH;FMTTYPE=image/jpeg:https://philomathnews.com/wp-content/uploads/2025/01/011525-city-hall-file_1596-scaled.jpeg
END:VEVENT
BEGIN:VEVENT
DTSTART;TZID=America/Los_Angeles:20260728T174500
DTEND;TZID=America/Los_Angeles:20260728T194500
DTSTAMP:20260423T153546
CREATED:20251116T230026Z
LAST-MODIFIED:20251223T154053Z
UID:10011371-1785260700-1785267900@philomathnews.com
SUMMARY:Wren Book Club Meeting
DESCRIPTION:The Wren Book Club meets on the fourth Tuesday of the month from 5:45-7:45 p.m. at Wren Community Hall.
URL:https://philomathnews.com/event/wren-book-club-meeting/2026-07-28/
LOCATION:Wren Community Hall\, 35515 Kings Valley Hwy\, Philomath\, OR\, 97370
CATEGORIES:Clubs and Organizations
ATTACH;FMTTYPE=image/jpeg:https://philomathnews.com/wp-content/uploads/2022/05/052522-wren-community-hall-philo-photos_5994.jpeg
END:VEVENT
BEGIN:VEVENT
DTSTART;TZID=America/Los_Angeles:20260728T180000
DTEND;TZID=America/Los_Angeles:20260728T190000
DTSTAMP:20260423T153546
CREATED:20251116T192954Z
LAST-MODIFIED:20251116T193042Z
UID:10008027-1785261600-1785265200@philomathnews.com
SUMMARY:Philomath Community Meal
DESCRIPTION:Free meal and fellowship — everyone welcome! Live music\, prayer room\, delicious meal. Sponsored by Philomath Area Churches.
URL:https://philomathnews.com/event/philomath-community-meal/2026-07-28/
LOCATION:College United Methodist Church\, 1123 Main St.\, Philomath\, OR\, 97370
CATEGORIES:Community
ATTACH;FMTTYPE=image/jpeg:https://philomathnews.com/wp-content/uploads/2024/11/112424-community-dinner-sign_256.jpg
ORGANIZER;CN="College United Methodist Church":MAILTO:collegeumc@gmail.com
END:VEVENT
BEGIN:VEVENT
DTSTART;TZID=America/Los_Angeles:20260729T090000
DTEND;TZID=America/Los_Angeles:20260729T120000
DTSTAMP:20260423T153546
CREATED:20251230T162231Z
LAST-MODIFIED:20260106T155015Z
UID:10008289-1785315600-1785326400@philomathnews.com
SUMMARY:Quilts From Caring Hands
DESCRIPTION:The primary purpose of Quilts From Caring Hands is to bring the feeling of loving comfort to at-risk children in Oregon’s Benton\, Linn and Marion counties. These include those who are homeless\, drug addicted\, visually impaired\, or abused\, and those in foster care. Our quilts are distributed through designated social service agencies. \nEach quilt we make for a child is unique. In addition to crib- and twin-sized quilts\, we also assemble tactile quilts and “cuddlers” for visually impaired children.  The finished quilts and cuddlers are given away once each quarter. \nQCH is grateful to our sponsors for their support over the years. Quilts from Caring Hands is a volunteer-powered 501(c)(3) nonprofit organization.  All donations are tax deductible.
URL:https://philomathnews.com/event/quilts-from-caring-hands-2/2026-07-29/
LOCATION:Philomath Scout Lodge\, 660 Clemens Mill Road\, Philomath\, OR\, 97370
CATEGORIES:Clubs and Organizations
ATTACH;FMTTYPE=image/jpeg:https://philomathnews.com/wp-content/uploads/2022/08/081122-quilters-workroom_6836-scaled.jpeg
ORGANIZER;CN="Quilts From Caring Hands":MAILTO:qch@peak.org
END:VEVENT
BEGIN:VEVENT
DTSTART;TZID=America/Los_Angeles:20260729T103000
DTEND;TZID=America/Los_Angeles:20260729T110000
DTSTAMP:20260423T153546
CREATED:20251116T194546Z
LAST-MODIFIED:20251116T194634Z
UID:10008550-1785321000-1785322800@philomathnews.com
SUMMARY:Philomath Storytime at the Library
DESCRIPTION:Children of all ages and their families are invited to join us for an interactive storytime full of books\, songs\, and music.
URL:https://philomathnews.com/event/philomath-storytime-at-the-library/2026-07-29/
LOCATION:Philomath Community Library\, 1050 Applegate\, Philomath\, OR\, 97370
CATEGORIES:Library
ATTACH;FMTTYPE=image/jpeg:https://philomathnews.com/wp-content/uploads/2024/07/Calendar-Philomath-Community-Library.jpg
END:VEVENT
BEGIN:VEVENT
DTSTART;TZID=America/Los_Angeles:20260803T090000
DTEND;TZID=America/Los_Angeles:20260803T090000
DTSTAMP:20260423T153546
CREATED:20251116T054312Z
LAST-MODIFIED:20251116T054312Z
UID:10007244-1785747600-1785747600@philomathnews.com
SUMMARY:Philomath TOPS Meeting
DESCRIPTION:The Philomath chapter of TOPS (Take Off Pounds Sensibly) meets at 9 a.m. Mondays at Peace Lutheran Church with weigh-in preceding the meeting from 8:30-9 a.m.
URL:https://philomathnews.com/event/philomath-tops-meeting/2026-08-03/
LOCATION:Peace Lutheran Church\, 2540 Applegate St.\, Philomath\, OR\, 97370
CATEGORIES:Clubs and Organizations
ATTACH;FMTTYPE=image/jpeg:https://philomathnews.com/wp-content/uploads/2023/02/Peace-Lutheran-Church1-2020-scaled.jpg
END:VEVENT
BEGIN:VEVENT
DTSTART;TZID=America/Los_Angeles:20260803T100000
DTEND;TZID=America/Los_Angeles:20260803T100000
DTSTAMP:20260423T153546
CREATED:20251116T185922Z
LAST-MODIFIED:20251116T185922Z
UID:10007505-1785751200-1785751200@philomathnews.com
SUMMARY:Dementia Warriors Coffee Connections
DESCRIPTION:Dementia Warriors Coffee Connections meets at 10 a.m. Mondays at Timber Towne Coffee in Philomath. From the organizer: “Come savor this casual opportunity to connect and laugh with people with dementia/Alzheimer’s and caregivers.”
URL:https://philomathnews.com/event/dementia-warriors-coffee-connections/2026-08-03/
LOCATION:Timber Towne Coffee\, 1427 Main St.\, Philomath\, OR\, 97370
CATEGORIES:Clubs and Organizations
ATTACH;FMTTYPE=image/jpeg:https://philomathnews.com/wp-content/uploads/2025/01/020422-Douglas-The-Truck-At-Timber-Townejpg.jpg
ORGANIZER;CN="Dementia Warriors":MAILTO:dementiaadvocacy16@gmail.com
END:VEVENT
BEGIN:VEVENT
DTSTART;TZID=America/Los_Angeles:20260803T183000
DTEND;TZID=America/Los_Angeles:20260803T223000
DTSTAMP:20260423T153546
CREATED:20251116T192605Z
LAST-MODIFIED:20251116T192605Z
UID:10007767-1785781800-1785796200@philomathnews.com
SUMMARY:Moonlight Country Mixer at the Grange
DESCRIPTION:Jamie Lee Dancing presents Moonlight Country Mixer. Every Monday 6:30-10:30 p.m. at Marys River Grange\, 24707 Grange Hall Rd.\, Philomath. Cost: $5. All ages welcome. Parking limited to Grange Hall lot. Country swing and line dance lessons from 6:30-7:30.
URL:https://philomathnews.com/event/moonlight-country-mixer-at-the-grange/2026-08-03/
LOCATION:Marys River Grange Hall\, 24707 Grange Hall Road\, Philomath\, OR\, 97370
CATEGORIES:Arts and Entertainment
ATTACH;FMTTYPE=image/jpeg:https://philomathnews.com/wp-content/uploads/2025/09/081325-mrg-sign_8863-scaled.jpg
ORGANIZER;CN="Jamie Lee Dancing":MAILTO:Jamieleedancing@gmail.com
END:VEVENT
BEGIN:VEVENT
DTSTART;TZID=America/Los_Angeles:20260804T090000
DTEND;TZID=America/Los_Angeles:20260804T090000
DTSTAMP:20260423T153546
CREATED:20251116T195508Z
LAST-MODIFIED:20251116T200243Z
UID:10008784-1785834000-1785834000@philomathnews.com
SUMMARY:Benton County Board of Commissioners Meeting
DESCRIPTION:The Benton County Board of Commissioners typically meet for regular meetings at 9 a.m. on the first and third Tuesdays each month at the Kalapuya Building. Holidays and special events occasionally forces the board to move a regular meeting to another date.
URL:https://philomathnews.com/event/benton-county-board-of-commissioners-meeting/2026-08-04/
LOCATION:Kalapuya Building\, 4500 SW Research Way\, Corvallis\, OR\, 97333
CATEGORIES:Government
ATTACH;FMTTYPE=image/jpeg:https://philomathnews.com/wp-content/uploads/2022/02/020822-kalapuya-bldg_2625-scaled.jpeg
END:VEVENT
BEGIN:VEVENT
DTSTART;TZID=America/Los_Angeles:20260804T173000
DTEND;TZID=America/Los_Angeles:20260804T173000
DTSTAMP:20260423T153546
CREATED:20251116T201754Z
LAST-MODIFIED:20260103T155752Z
UID:10008906-1785864600-1785864600@philomathnews.com
SUMMARY:Philomath Park Advisory Board Meeting
DESCRIPTION:The Board meets on the first Tuesday of each month at 5:30 p.m. Access Park Advisory Board agenda packets here.
URL:https://philomathnews.com/event/philomath-park-advisory-board-meeting/2026-08-04/
LOCATION:Philomath City Hall\, 980 Applegate St.\, Philomath
CATEGORIES:Government
ATTACH;FMTTYPE=image/jpeg:https://philomathnews.com/wp-content/uploads/2025/01/011525-city-hall-file_1596-scaled.jpeg
END:VEVENT
BEGIN:VEVENT
DTSTART;TZID=America/Los_Angeles:20260804T180000
DTEND;TZID=America/Los_Angeles:20260804T190000
DTSTAMP:20260423T153546
CREATED:20251116T192954Z
LAST-MODIFIED:20251116T193042Z
UID:10008028-1785866400-1785870000@philomathnews.com
SUMMARY:Philomath Community Meal
DESCRIPTION:Free meal and fellowship — everyone welcome! Live music\, prayer room\, delicious meal. Sponsored by Philomath Area Churches.
URL:https://philomathnews.com/event/philomath-community-meal/2026-08-04/
LOCATION:College United Methodist Church\, 1123 Main St.\, Philomath\, OR\, 97370
CATEGORIES:Community
ATTACH;FMTTYPE=image/jpeg:https://philomathnews.com/wp-content/uploads/2024/11/112424-community-dinner-sign_256.jpg
ORGANIZER;CN="College United Methodist Church":MAILTO:collegeumc@gmail.com
END:VEVENT
BEGIN:VEVENT
DTSTART;TZID=America/Los_Angeles:20260804T183000
DTEND;TZID=America/Los_Angeles:20260804T193000
DTSTAMP:20260423T153546
CREATED:20251116T202150Z
LAST-MODIFIED:20251116T202150Z
UID:10008966-1785868200-1785871800@philomathnews.com
SUMMARY:Philomath Evening Book Club
DESCRIPTION:The Philomath Evening Book Club meets at the Philomath Community Library on the first Tuesday of each month (unless noted). Copies of book club books are available monthly at the library; please ask at the front desk.
URL:https://philomathnews.com/event/philomath-evening-book-club/2026-08-04/
LOCATION:Philomath Community Library\, 1050 Applegate\, Philomath\, OR\, 97370
CATEGORIES:Library
ATTACH;FMTTYPE=image/jpeg:https://philomathnews.com/wp-content/uploads/2022/08/081522-library-file_7767-scaled.jpeg
END:VEVENT
BEGIN:VEVENT
DTSTART;TZID=America/Los_Angeles:20260805T090000
DTEND;TZID=America/Los_Angeles:20260805T120000
DTSTAMP:20260423T153546
CREATED:20251230T162231Z
LAST-MODIFIED:20260106T155015Z
UID:10008290-1785920400-1785931200@philomathnews.com
SUMMARY:Quilts From Caring Hands
DESCRIPTION:The primary purpose of Quilts From Caring Hands is to bring the feeling of loving comfort to at-risk children in Oregon’s Benton\, Linn and Marion counties. These include those who are homeless\, drug addicted\, visually impaired\, or abused\, and those in foster care. Our quilts are distributed through designated social service agencies. \nEach quilt we make for a child is unique. In addition to crib- and twin-sized quilts\, we also assemble tactile quilts and “cuddlers” for visually impaired children.  The finished quilts and cuddlers are given away once each quarter. \nQCH is grateful to our sponsors for their support over the years. Quilts from Caring Hands is a volunteer-powered 501(c)(3) nonprofit organization.  All donations are tax deductible.
URL:https://philomathnews.com/event/quilts-from-caring-hands-2/2026-08-05/
LOCATION:Philomath Scout Lodge\, 660 Clemens Mill Road\, Philomath\, OR\, 97370
CATEGORIES:Clubs and Organizations
ATTACH;FMTTYPE=image/jpeg:https://philomathnews.com/wp-content/uploads/2022/08/081122-quilters-workroom_6836-scaled.jpeg
ORGANIZER;CN="Quilts From Caring Hands":MAILTO:qch@peak.org
END:VEVENT
BEGIN:VEVENT
DTSTART;TZID=America/Los_Angeles:20260805T103000
DTEND;TZID=America/Los_Angeles:20260805T110000
DTSTAMP:20260423T153546
CREATED:20251116T194546Z
LAST-MODIFIED:20251116T194634Z
UID:10008551-1785925800-1785927600@philomathnews.com
SUMMARY:Philomath Storytime at the Library
DESCRIPTION:Children of all ages and their families are invited to join us for an interactive storytime full of books\, songs\, and music.
URL:https://philomathnews.com/event/philomath-storytime-at-the-library/2026-08-05/
LOCATION:Philomath Community Library\, 1050 Applegate\, Philomath\, OR\, 97370
CATEGORIES:Library
ATTACH;FMTTYPE=image/jpeg:https://philomathnews.com/wp-content/uploads/2024/07/Calendar-Philomath-Community-Library.jpg
END:VEVENT
BEGIN:VEVENT
DTSTART;TZID=America/Los_Angeles:20260805T120000
DTEND;TZID=America/Los_Angeles:20260805T120000
DTSTAMP:20260423T153546
CREATED:20251116T222511Z
LAST-MODIFIED:20251116T222511Z
UID:10009898-1785931200-1785931200@philomathnews.com
SUMMARY:Philomath Lions Club Meeting
DESCRIPTION:The Philomath Lions Club meets on the first and third Wednesdays of the month at noon at Philomath Fire and Rescue’s Station 201.
URL:https://philomathnews.com/event/philomath-lions-club-meeting-2/2026-08-05/
LOCATION:Philomath Fire and Rescue\, 1035 Main St.\, Philomath\, OR\, 97370
CATEGORIES:Clubs and Organizations
ATTACH;FMTTYPE=image/jpeg:https://philomathnews.com/wp-content/uploads/2025/04/040925-lions-club-artwork_2509-scaled.jpeg
END:VEVENT
END:VCALENDAR