BEGIN:VCALENDAR
VERSION:2.0
PRODID:-//Philomath News - ECPv6.15.20//NONSGML v1.0//EN
CALSCALE:GREGORIAN
METHOD:PUBLISH
X-WR-CALNAME:Philomath News
X-ORIGINAL-URL:https://philomathnews.com
X-WR-CALDESC:Events for Philomath News
REFRESH-INTERVAL;VALUE=DURATION:PT1H
X-Robots-Tag:noindex
X-PUBLISHED-TTL:PT1H
BEGIN:VTIMEZONE
TZID:America/Los_Angeles
BEGIN:DAYLIGHT
TZOFFSETFROM:-0800
TZOFFSETTO:-0700
TZNAME:PDT
DTSTART:20240310T100000
END:DAYLIGHT
BEGIN:STANDARD
TZOFFSETFROM:-0700
TZOFFSETTO:-0800
TZNAME:PST
DTSTART:20241103T090000
END:STANDARD
BEGIN:DAYLIGHT
TZOFFSETFROM:-0800
TZOFFSETTO:-0700
TZNAME:PDT
DTSTART:20250309T100000
END:DAYLIGHT
BEGIN:STANDARD
TZOFFSETFROM:-0700
TZOFFSETTO:-0800
TZNAME:PST
DTSTART:20251102T090000
END:STANDARD
BEGIN:DAYLIGHT
TZOFFSETFROM:-0800
TZOFFSETTO:-0700
TZNAME:PDT
DTSTART:20260308T100000
END:DAYLIGHT
BEGIN:STANDARD
TZOFFSETFROM:-0700
TZOFFSETTO:-0800
TZNAME:PST
DTSTART:20261101T090000
END:STANDARD
END:VTIMEZONE
BEGIN:VEVENT
DTSTART;VALUE=DATE:20251229
DTEND;VALUE=DATE:20251230
DTSTAMP:20260424T000346
CREATED:20251218T160946Z
LAST-MODIFIED:20251224T225713Z
UID:10010996-1766966400-1767052799@philomathnews.com
SUMMARY:PHS girls basketball at Surf City Holiday Classic
DESCRIPTION:Philomath High School’s girls basketball team is scheduled to compete in the Surf City Holiday Classic at Huntington Beach\, California\, from Dec. 26-30. Marina\, Huntington Beach and Ocean View\, all high schools in Huntington Beach\, are hosting the tournament\, which will features 32 teams competing across multiple divisions.\nPhilomath will compete in Pool 1 with Bishop Alemany\, North HS and St. Anthony.\nPHS pool play schedule: Dec. 26\, 6 p.m. vs. St. Anthony (at Huntington Beach HS)\, Dec. 27\, 3 p.m. vs. Bishop Alemany (at Ocean View HS) and Dec. 29\, 6 p.m. vs. North HS (at Ocean View HS). Trophy-round games are scheduled for Dec. 30 at all three sites.\nHere is a link to the complete schedule: https://philomathnews.com/wp-content/uploads/2025/12/121825-surf-city-sked.pdf
URL:https://philomathnews.com/event/phs-girls-basketball-at-surf-city-holiday-classic-2/2025-12-29/
LOCATION:OR
CATEGORIES:Athletics
ATTACH;FMTTYPE=image/jpeg:https://philomathnews.com/wp-content/uploads/2025/12/120925-gbb-Ben-Silva-01.jpg
END:VEVENT
BEGIN:VEVENT
DTSTART;TZID=America/Los_Angeles:20251228T170000
DTEND;TZID=America/Los_Angeles:20251228T170000
DTSTAMP:20260424T000346
CREATED:20251224T175443Z
LAST-MODIFIED:20251224T175443Z
UID:10011431-1766941200-1766941200@philomathnews.com
SUMMARY:PHS Boys Basketball at Scappoose
DESCRIPTION:Philomath High’s boys basketball team is scheduled to play at Scappoose at 5 p.m. Sunday\, Dec. 28.
URL:https://philomathnews.com/event/phs-boys-basketball-at-scappoose/
LOCATION:Scappoose High School\, 33700 High School Way\, Scappoose\, OR\, 97056
CATEGORIES:Athletics
ATTACH;FMTTYPE=image/jpeg:https://philomathnews.com/wp-content/uploads/2025/12/122325-bbb-Howard-03.jpg
END:VEVENT
BEGIN:VEVENT
DTSTART;TZID=America/Los_Angeles:20251227T190000
DTEND;TZID=America/Los_Angeles:20251227T190000
DTSTAMP:20260424T000346
CREATED:20251224T175216Z
LAST-MODIFIED:20251224T175216Z
UID:10011430-1766862000-1766862000@philomathnews.com
SUMMARY:PHS Boys Basketball vs. Marshfield (at Scappoose HS)
DESCRIPTION:Philomath High’s boys basketball team is scheduled to play Marshfield at 7 p.m. Saturday\, Dec. 27 at a tournament in Scappoose.
URL:https://philomathnews.com/event/phs-boys-basketball-vs-marshfield-at-scappoose-hs/
LOCATION:Scappoose High School\, 33700 High School Way\, Scappoose\, OR\, 97056
CATEGORIES:Athletics
ATTACH;FMTTYPE=image/jpeg:https://philomathnews.com/wp-content/uploads/2024/10/110323-basketball-artwork.jpg
END:VEVENT
BEGIN:VEVENT
DTSTART;TZID=America/Los_Angeles:20251227T093000
DTEND;TZID=America/Los_Angeles:20251227T093000
DTSTAMP:20260424T000346
CREATED:20251226T190805Z
LAST-MODIFIED:20251226T190805Z
UID:10011481-1766827800-1766827800@philomathnews.com
SUMMARY:PHS Swimming at Stayton Invitational
DESCRIPTION:Philomath High’s boys and girls swim teams are scheduled to compete at 9:30 a.m. Saturday\, Dec. 27 at the Stayton Invitational.
URL:https://philomathnews.com/event/phs-swimming-at-stayton-invitational/
LOCATION:Stayton Family Memorial Pool\, 333 W. Burnett St.\, Stayton\, OR\, 97383
CATEGORIES:Athletics
ATTACH;FMTTYPE=image/jpeg:https://philomathnews.com/wp-content/uploads/2025/12/121025-swm-storch-50-free_9366-scaled.jpg
END:VEVENT
BEGIN:VEVENT
DTSTART;VALUE=DATE:20251227
DTEND;VALUE=DATE:20251228
DTSTAMP:20260424T000346
CREATED:20251218T160946Z
LAST-MODIFIED:20251224T225713Z
UID:10010994-1766793600-1766879999@philomathnews.com
SUMMARY:PHS girls basketball at Surf City Holiday Classic
DESCRIPTION:Philomath High School’s girls basketball team is scheduled to compete in the Surf City Holiday Classic at Huntington Beach\, California\, from Dec. 26-30. Marina\, Huntington Beach and Ocean View\, all high schools in Huntington Beach\, are hosting the tournament\, which will features 32 teams competing across multiple divisions.\nPhilomath will compete in Pool 1 with Bishop Alemany\, North HS and St. Anthony.\nPHS pool play schedule: Dec. 26\, 6 p.m. vs. St. Anthony (at Huntington Beach HS)\, Dec. 27\, 3 p.m. vs. Bishop Alemany (at Ocean View HS) and Dec. 29\, 6 p.m. vs. North HS (at Ocean View HS). Trophy-round games are scheduled for Dec. 30 at all three sites.\nHere is a link to the complete schedule: https://philomathnews.com/wp-content/uploads/2025/12/121825-surf-city-sked.pdf
URL:https://philomathnews.com/event/phs-girls-basketball-at-surf-city-holiday-classic-2/2025-12-27/
LOCATION:OR
CATEGORIES:Athletics
ATTACH;FMTTYPE=image/jpeg:https://philomathnews.com/wp-content/uploads/2025/12/120925-gbb-Ben-Silva-01.jpg
END:VEVENT
BEGIN:VEVENT
DTSTART;VALUE=DATE:20251226
DTEND;VALUE=DATE:20251227
DTSTAMP:20260424T000346
CREATED:20251218T160946Z
LAST-MODIFIED:20251224T225713Z
UID:10010993-1766707200-1766793599@philomathnews.com
SUMMARY:PHS girls basketball at Surf City Holiday Classic
DESCRIPTION:Philomath High School’s girls basketball team is scheduled to compete in the Surf City Holiday Classic at Huntington Beach\, California\, from Dec. 26-30. Marina\, Huntington Beach and Ocean View\, all high schools in Huntington Beach\, are hosting the tournament\, which will features 32 teams competing across multiple divisions.\nPhilomath will compete in Pool 1 with Bishop Alemany\, North HS and St. Anthony.\nPHS pool play schedule: Dec. 26\, 6 p.m. vs. St. Anthony (at Huntington Beach HS)\, Dec. 27\, 3 p.m. vs. Bishop Alemany (at Ocean View HS) and Dec. 29\, 6 p.m. vs. North HS (at Ocean View HS). Trophy-round games are scheduled for Dec. 30 at all three sites.\nHere is a link to the complete schedule: https://philomathnews.com/wp-content/uploads/2025/12/121825-surf-city-sked.pdf
URL:https://philomathnews.com/event/phs-girls-basketball-at-surf-city-holiday-classic-2/2025-12-26/
LOCATION:OR
CATEGORIES:Athletics
ATTACH;FMTTYPE=image/jpeg:https://philomathnews.com/wp-content/uploads/2025/12/120925-gbb-Ben-Silva-01.jpg
END:VEVENT
BEGIN:VEVENT
DTSTART;TZID=America/Los_Angeles:20251224T190000
DTEND;TZID=America/Los_Angeles:20251224T190000
DTSTAMP:20260424T000346
CREATED:20251125T235513Z
LAST-MODIFIED:20251125T235654Z
UID:10010513-1766602800-1766602800@philomathnews.com
SUMMARY:Christmas Eve Candlelight Service at College United Methodist Church
DESCRIPTION:The College United Methodist Church will host its Christmas Eve Candlelight Service at 7 p.m. Wednesday\, Dec. 24.
URL:https://philomathnews.com/event/christmas-eve-candlelight-service-at-college-united-methodist-church/
LOCATION:College United Methodist Church\, 1123 Main St.\, Philomath\, OR\, 97370
CATEGORIES:Churches
ATTACH;FMTTYPE=image/jpeg:https://philomathnews.com/wp-content/uploads/2023/04/College-United-Methodist-Church3-2020.jpg
ORGANIZER;CN="College United Methodist Church":MAILTO:collegeumc@gmail.com
END:VEVENT
BEGIN:VEVENT
DTSTART;TZID=America/Los_Angeles:20251224T110000
DTEND;TZID=America/Los_Angeles:20251224T114500
DTSTAMP:20260424T000346
CREATED:20251116T230448Z
LAST-MODIFIED:20251224T225635Z
UID:10010310-1766574000-1766576700@philomathnews.com
SUMMARY:Playtime at the Library
DESCRIPTION:Children and their adults are invited to a playtime immediately following storytime on the fourth Wednesday of every month. Adults may visit with each other while children play with the provided toys.
URL:https://philomathnews.com/event/playtime-at-the-library/2025-12-24/
LOCATION:Philomath Community Library\, 1050 Applegate\, Philomath\, OR\, 97370
CATEGORIES:Library
ATTACH;FMTTYPE=image/jpeg:https://philomathnews.com/wp-content/uploads/2022/08/081522-library-file_7767-scaled.jpeg
END:VEVENT
BEGIN:VEVENT
DTSTART;TZID=America/Los_Angeles:20251224T103000
DTEND;TZID=America/Los_Angeles:20251224T110000
DTSTAMP:20260424T000346
CREATED:20251116T194546Z
LAST-MODIFIED:20251116T194634Z
UID:10008519-1766572200-1766574000@philomathnews.com
SUMMARY:Philomath Storytime at the Library
DESCRIPTION:Children of all ages and their families are invited to join us for an interactive storytime full of books\, songs\, and music.
URL:https://philomathnews.com/event/philomath-storytime-at-the-library/2025-12-24/
LOCATION:Philomath Community Library\, 1050 Applegate\, Philomath\, OR\, 97370
CATEGORIES:Library
ATTACH;FMTTYPE=image/jpeg:https://philomathnews.com/wp-content/uploads/2024/07/Calendar-Philomath-Community-Library.jpg
END:VEVENT
BEGIN:VEVENT
DTSTART;TZID=America/Los_Angeles:20251223T190000
DTEND;TZID=America/Los_Angeles:20251223T190000
DTSTAMP:20260424T000346
CREATED:20251203T014005Z
LAST-MODIFIED:20251203T014005Z
UID:10010530-1766516400-1766516400@philomathnews.com
SUMMARY:PHS Boys Basketball at Junction City
DESCRIPTION:Philomath High’s boys basketball team is scheduled to play at Junction City at 7 p.m. Tuesday\, Dec. 23.
URL:https://philomathnews.com/event/phs-boys-basketball-at-junction-city-2/
LOCATION:Junction City High School\, 1135 W. Sixth Ave.\, Junction City\, OR\, 97448
CATEGORIES:Athletics
ATTACH;FMTTYPE=image/jpeg:https://philomathnews.com/wp-content/uploads/2024/02/021224-bbb-team_1060-scaled.jpg
END:VEVENT
BEGIN:VEVENT
DTSTART;TZID=America/Los_Angeles:20251223T180000
DTEND;TZID=America/Los_Angeles:20251223T190000
DTSTAMP:20260424T000346
CREATED:20251216T154159Z
LAST-MODIFIED:20251216T154159Z
UID:10010976-1766512800-1766516400@philomathnews.com
SUMMARY:Yoga at the Grange
DESCRIPTION:Instructor Laura Coen leads Yoga at the Grange Tuesdays from Dec. 2-March 17. \nNo Registration Required. For more information\, send email to: lauraploeg@yahoo.com \nLaura has been teaching yoga to adults\, children and families since 2014. She believes individuals can experience a mindful connection to themselves and the world through the practice of yoga. With a mindful connection to self\, both adults and children can feel better\, have more self-control and more self-awareness. A strong sense of self allows for more stable connections with others. Laura hopes to help yoga students find stability in themselves\, and therefore become more productive\, helpful and healthy members of their community.
URL:https://philomathnews.com/event/yoga-at-the-grange-2/2025-12-23/
LOCATION:Marys River Grange Hall\, 24707 Grange Hall Road\, Philomath\, OR\, 97370
CATEGORIES:Exercise
ATTACH;FMTTYPE=image/jpeg:https://philomathnews.com/wp-content/uploads/2025/03/030725-yoga-artwork.jpg
ORGANIZER;CN="Laura Coen":MAILTO:lauraploeg@yahoo.com
END:VEVENT
BEGIN:VEVENT
DTSTART;TZID=America/Los_Angeles:20251223T180000
DTEND;TZID=America/Los_Angeles:20251223T190000
DTSTAMP:20260424T000346
CREATED:20251116T192954Z
LAST-MODIFIED:20251116T193042Z
UID:10007996-1766512800-1766516400@philomathnews.com
SUMMARY:Philomath Community Meal
DESCRIPTION:Free meal and fellowship — everyone welcome! Live music\, prayer room\, delicious meal. Sponsored by Philomath Area Churches.
URL:https://philomathnews.com/event/philomath-community-meal/2025-12-23/
LOCATION:College United Methodist Church\, 1123 Main St.\, Philomath\, OR\, 97370
CATEGORIES:Community
ATTACH;FMTTYPE=image/jpeg:https://philomathnews.com/wp-content/uploads/2024/11/112424-community-dinner-sign_256.jpg
ORGANIZER;CN="College United Methodist Church":MAILTO:collegeumc@gmail.com
END:VEVENT
BEGIN:VEVENT
DTSTART;TZID=America/Los_Angeles:20251223T174500
DTEND;TZID=America/Los_Angeles:20251223T194500
DTSTAMP:20260424T000346
CREATED:20251116T230026Z
LAST-MODIFIED:20251223T154053Z
UID:10011364-1766511900-1766519100@philomathnews.com
SUMMARY:Wren Book Club Meeting
DESCRIPTION:The Wren Book Club meets on the fourth Tuesday of the month from 5:45-7:45 p.m. at Wren Community Hall.
URL:https://philomathnews.com/event/wren-book-club-meeting/2025-12-23/
LOCATION:Wren Community Hall\, 35515 Kings Valley Hwy\, Philomath\, OR\, 97370
CATEGORIES:Clubs and Organizations
ATTACH;FMTTYPE=image/jpeg:https://philomathnews.com/wp-content/uploads/2022/05/052522-wren-community-hall-philo-photos_5994.jpeg
END:VEVENT
BEGIN:VEVENT
DTSTART;TZID=America/Los_Angeles:20251223T173000
DTEND;TZID=America/Los_Angeles:20251223T173000
DTSTAMP:20260424T000346
CREATED:20251203T013844Z
LAST-MODIFIED:20251203T013844Z
UID:10010529-1766511000-1766511000@philomathnews.com
SUMMARY:PHS Girls Basketball at Junction City
DESCRIPTION:Philomath High’s girls basketball team is scheduled to play at Junction City at 5:30 p.m. Tuesday\, Dec. 23.
URL:https://philomathnews.com/event/phs-girls-basketball-at-junction-city-2/
LOCATION:Junction City High School\, 1135 W. Sixth Ave.\, Junction City\, OR\, 97448
CATEGORIES:Athletics
ATTACH;FMTTYPE=image/jpeg:https://philomathnews.com/wp-content/uploads/2024/12/120724-gbb-team-01.jpg
END:VEVENT
BEGIN:VEVENT
DTSTART;TZID=America/Los_Angeles:20251223T120000
DTEND;TZID=America/Los_Angeles:20251223T170000
DTSTAMP:20260424T000346
CREATED:20251117T190444Z
LAST-MODIFIED:20251117T190444Z
UID:10010475-1766491200-1766509200@philomathnews.com
SUMMARY:American Red Cross Blood Drive
DESCRIPTION:American Red Cross blood drive from noon-5 p.m. Tuesday\, Dec. 23 at Philomath Fire and Rescue. To schedule an appointment\, visit redcrossblood.org or call 1-800-733-2767.
URL:https://philomathnews.com/event/american-red-cross-blood-drive-3/
LOCATION:Philomath Fire and Rescue\, 1035 Main St.\, Philomath\, OR\, 97370
CATEGORIES:Community
ATTACH;FMTTYPE=image/jpeg:https://philomathnews.com/wp-content/uploads/2022/06/Philomath-Fire-Rescue1-2020-scaled.jpg
END:VEVENT
BEGIN:VEVENT
DTSTART;TZID=America/Los_Angeles:20251222T183000
DTEND;TZID=America/Los_Angeles:20251222T223000
DTSTAMP:20260424T000346
CREATED:20251116T192605Z
LAST-MODIFIED:20251116T192605Z
UID:10007735-1766428200-1766442600@philomathnews.com
SUMMARY:Moonlight Country Mixer at the Grange
DESCRIPTION:Jamie Lee Dancing presents Moonlight Country Mixer. Every Monday 6:30-10:30 p.m. at Marys River Grange\, 24707 Grange Hall Rd.\, Philomath. Cost: $5. All ages welcome. Parking limited to Grange Hall lot. Country swing and line dance lessons from 6:30-7:30.
URL:https://philomathnews.com/event/moonlight-country-mixer-at-the-grange/2025-12-22/
LOCATION:Marys River Grange Hall\, 24707 Grange Hall Road\, Philomath\, OR\, 97370
CATEGORIES:Arts and Entertainment
ATTACH;FMTTYPE=image/jpeg:https://philomathnews.com/wp-content/uploads/2025/09/081325-mrg-sign_8863-scaled.jpg
ORGANIZER;CN="Jamie Lee Dancing":MAILTO:Jamieleedancing@gmail.com
END:VEVENT
BEGIN:VEVENT
DTSTART;TZID=America/Los_Angeles:20251222T153000
DTEND;TZID=America/Los_Angeles:20251222T163000
DTSTAMP:20260424T000346
CREATED:20251216T155423Z
LAST-MODIFIED:20251216T155423Z
UID:10010990-1766417400-1766421000@philomathnews.com
SUMMARY:Cookie Decorating at the Library
DESCRIPTION:Philomath Community Library\nMonday\, December 22\, 2025\n3:30pm–4:30pm\nProgram Type: Arts & Crafts\nAge Group: Everyone\, Birth to 5\, Children\, Tweens\, Teens\, Adults\, Seniors\nEvent Details\nCome decorate cookies and enjoy gingerbread-themed crafts for children and families. All supplies provided.
URL:https://philomathnews.com/event/cookie-decorating-at-the-library/
LOCATION:Philomath Community Library\, 1050 Applegate\, Philomath\, OR\, 97370
CATEGORIES:Library
ATTACH;FMTTYPE=image/jpeg:https://philomathnews.com/wp-content/uploads/2024/07/Calendar-Philomath-Community-Library.jpg
END:VEVENT
BEGIN:VEVENT
DTSTART;TZID=America/Los_Angeles:20251222T100000
DTEND;TZID=America/Los_Angeles:20251222T100000
DTSTAMP:20260424T000346
CREATED:20251116T185922Z
LAST-MODIFIED:20251116T185922Z
UID:10007473-1766397600-1766397600@philomathnews.com
SUMMARY:Dementia Warriors Coffee Connections
DESCRIPTION:Dementia Warriors Coffee Connections meets at 10 a.m. Mondays at Timber Towne Coffee in Philomath. From the organizer: “Come savor this casual opportunity to connect and laugh with people with dementia/Alzheimer’s and caregivers.”
URL:https://philomathnews.com/event/dementia-warriors-coffee-connections/2025-12-22/
LOCATION:Timber Towne Coffee\, 1427 Main St.\, Philomath\, OR\, 97370
CATEGORIES:Clubs and Organizations
ATTACH;FMTTYPE=image/jpeg:https://philomathnews.com/wp-content/uploads/2025/01/020422-Douglas-The-Truck-At-Timber-Townejpg.jpg
ORGANIZER;CN="Dementia Warriors":MAILTO:dementiaadvocacy16@gmail.com
END:VEVENT
BEGIN:VEVENT
DTSTART;TZID=America/Los_Angeles:20251222T090000
DTEND;TZID=America/Los_Angeles:20251222T090000
DTSTAMP:20260424T000346
CREATED:20251116T054312Z
LAST-MODIFIED:20251116T054312Z
UID:10007212-1766394000-1766394000@philomathnews.com
SUMMARY:Philomath TOPS Meeting
DESCRIPTION:The Philomath chapter of TOPS (Take Off Pounds Sensibly) meets at 9 a.m. Mondays at Peace Lutheran Church with weigh-in preceding the meeting from 8:30-9 a.m.
URL:https://philomathnews.com/event/philomath-tops-meeting/2025-12-22/
LOCATION:Peace Lutheran Church\, 2540 Applegate St.\, Philomath\, OR\, 97370
CATEGORIES:Clubs and Organizations
ATTACH;FMTTYPE=image/jpeg:https://philomathnews.com/wp-content/uploads/2023/02/Peace-Lutheran-Church1-2020-scaled.jpg
END:VEVENT
BEGIN:VEVENT
DTSTART;VALUE=DATE:20251221
DTEND;VALUE=DATE:20251222
DTSTAMP:20260424T000346
CREATED:20251215T231719Z
LAST-MODIFIED:20251215T232006Z
UID:10010905-1766275200-1766361599@philomathnews.com
SUMMARY:PHS Girls Basketball at Spartan Holiday Showcase
DESCRIPTION:Philomath High’s girls basketball team is scheduled to play in the Spartan Holiday Showcase from Friday\, Dec. 19 through Sunday\, Dec. 21 at Corvallis High School. The team will open at 4:30 p.m. Friday against Eagle Point. If PHS advances to the semifinals\, the game would be played at 2 p.m. Saturday. The championship game is scheduled for 3:30 p.m. Sunday. Other teams competing include Corvallis\, Caldera\, Eagle Point\, Centennial\, Prairie\, Bend and Crater. See the full bracket here.
URL:https://philomathnews.com/event/phs-girls-basketball-at-spartan-holiday-showcase/2025-12-21/
LOCATION:Corvallis High School\, 1400 NW Buchanan Ave.\, Corvallis\, OR\, 97330
CATEGORIES:Athletics
ATTACH;FMTTYPE=image/jpeg:https://philomathnews.com/wp-content/uploads/2025/12/120925-gbb-Kramer-03.jpg
END:VEVENT
BEGIN:VEVENT
DTSTART;TZID=America/Los_Angeles:20251220T180000
DTEND;TZID=America/Los_Angeles:20251220T180000
DTSTAMP:20260424T000346
CREATED:20251117T190200Z
LAST-MODIFIED:20251117T190200Z
UID:10010474-1766253600-1766253600@philomathnews.com
SUMMARY:Parade of Lights
DESCRIPTION:The city of Philomath’s Parade of Lights is scheduled to start at 6 p.m. Saturday\, Dec. 20.
URL:https://philomathnews.com/event/parade-of-lights/
LOCATION:Philomath\, Philomath\, OR\, 97370
CATEGORIES:Community
ATTACH;FMTTYPE=image/jpeg:https://philomathnews.com/wp-content/uploads/2024/12/122124-Parade-of-Lights-23.jpg
END:VEVENT
BEGIN:VEVENT
DTSTART;TZID=America/Los_Angeles:20251220T110000
DTEND;TZID=America/Los_Angeles:20251220T120000
DTSTAMP:20260424T000346
CREATED:20251117T185828Z
LAST-MODIFIED:20251117T185828Z
UID:10010473-1766228400-1766232000@philomathnews.com
SUMMARY:Lego Saturday at the Library
DESCRIPTION:Children and their families are invited to an hour of free play building and creating with LEGOs and Duplos.
URL:https://philomathnews.com/event/lego-saturday-at-the-library/
LOCATION:Philomath Community Library\, 1050 Applegate\, Philomath\, OR\, 97370
CATEGORIES:Library
ATTACH;FMTTYPE=image/jpeg:https://philomathnews.com/wp-content/uploads/2022/08/071822-library-file-2022_7292-scaled.jpeg
END:VEVENT
BEGIN:VEVENT
DTSTART;TZID=America/Los_Angeles:20251220T110000
DTEND;TZID=America/Los_Angeles:20251220T110000
DTSTAMP:20260424T000346
CREATED:20251128T161509Z
LAST-MODIFIED:20251128T161538Z
UID:10010523-1766228400-1766228400@philomathnews.com
SUMMARY:PHS Wrestling at Grants Pass Winter Kickoff
DESCRIPTION:Philomath High’s wrestling team is scheduled to compete Friday-Saturday\, Dec. 19-20 at the Grants Pass Winter Kickoff.
URL:https://philomathnews.com/event/phs-wrestling-at-grants-pass-winter-kickoff/2025-12-20/
LOCATION:Grants Pass High School\, 830 NE Ninth St\, Grants Pass\, OR\, 97526
CATEGORIES:Athletics
ATTACH;FMTTYPE=image/jpeg:https://philomathnews.com/wp-content/uploads/2025/03/022525-wr-Barrett-11.jpg
END:VEVENT
BEGIN:VEVENT
DTSTART;VALUE=DATE:20251220
DTEND;VALUE=DATE:20251221
DTSTAMP:20260424T000346
CREATED:20251215T232625Z
LAST-MODIFIED:20251215T232625Z
UID:10010909-1766188800-1766275199@philomathnews.com
SUMMARY:PHS Boys Basketball at South Coast Les Schwab Tournament
DESCRIPTION:Philomath High’s boys basketball team is scheduled to play in the South Coast Les Schwab Tournament from Thursday\, Dec. 18 through Saturday\, Dec. 20 at Marshfield High School. The Warriors will open at 7 p.m. Thursday against Hidden Valley. If the Warriors win\, they would play in the semifinals at 5:15 p.m. Friday. If they lose\, they would play in the consolation semifinals at 8:30 a.m. Friday. The championship game is scheduled for 5:45 p.m. Saturday. Click here to see the tournament bracket.
URL:https://philomathnews.com/event/phs-boys-basketball-at-south-coast-les-schwab-tournament/2025-12-20/
LOCATION:Marshfield High School\, 972 Ingersoll St\, Coos Bay\, OR\, 97370
CATEGORIES:Athletics
ATTACH;FMTTYPE=image/jpeg:https://philomathnews.com/wp-content/uploads/2025/12/121125-bbb-Barron-04.jpg
END:VEVENT
BEGIN:VEVENT
DTSTART;VALUE=DATE:20251220
DTEND;VALUE=DATE:20251221
DTSTAMP:20260424T000346
CREATED:20251215T231719Z
LAST-MODIFIED:20251215T232006Z
UID:10010904-1766188800-1766275199@philomathnews.com
SUMMARY:PHS Girls Basketball at Spartan Holiday Showcase
DESCRIPTION:Philomath High’s girls basketball team is scheduled to play in the Spartan Holiday Showcase from Friday\, Dec. 19 through Sunday\, Dec. 21 at Corvallis High School. The team will open at 4:30 p.m. Friday against Eagle Point. If PHS advances to the semifinals\, the game would be played at 2 p.m. Saturday. The championship game is scheduled for 3:30 p.m. Sunday. Other teams competing include Corvallis\, Caldera\, Eagle Point\, Centennial\, Prairie\, Bend and Crater. See the full bracket here.
URL:https://philomathnews.com/event/phs-girls-basketball-at-spartan-holiday-showcase/2025-12-20/
LOCATION:Corvallis High School\, 1400 NW Buchanan Ave.\, Corvallis\, OR\, 97330
CATEGORIES:Athletics
ATTACH;FMTTYPE=image/jpeg:https://philomathnews.com/wp-content/uploads/2025/12/120925-gbb-Kramer-03.jpg
END:VEVENT
BEGIN:VEVENT
DTSTART;TZID=America/Los_Angeles:20251219T160000
DTEND;TZID=America/Los_Angeles:20251219T160000
DTSTAMP:20260424T000346
CREATED:20251117T185516Z
LAST-MODIFIED:20251117T185516Z
UID:10010472-1766160000-1766160000@philomathnews.com
SUMMARY:PHS Swimming at Sweet Home Invitational
DESCRIPTION:Philomath High’s boys and girls swim teams will compete at 4 p.m. Dec. 19 at the Sweet Home Invitational.
URL:https://philomathnews.com/event/phs-swimming-at-sweet-home-invitational/
LOCATION:Sweet Home High School\, 1641 Long St.\, Sweet Home\, OR\, 97386
CATEGORIES:Athletics
ATTACH;FMTTYPE=image/jpeg:https://philomathnews.com/wp-content/uploads/2024/12/120221-clemens-pool-file_0346-scaled.jpg
END:VEVENT
BEGIN:VEVENT
DTSTART;TZID=America/Los_Angeles:20251219T153000
DTEND;TZID=America/Los_Angeles:20251219T163000
DTSTAMP:20260424T000346
CREATED:20251216T155020Z
LAST-MODIFIED:20251216T155020Z
UID:10010989-1766158200-1766161800@philomathnews.com
SUMMARY:Red Yarn at the Library
DESCRIPTION:Philomath City Council Chambers\nFriday\, December 19\, 2025\n3:30pm–4:30pm\nProgram Type: Entertainment\nAge Group: Everyone\, Birth to 5\, Children\, Tweens\, Teens\, Adults\, Seniors\nEvent Details\nRed Yarn (aka Andy Furgeson) weaves roots music and puppetry into high-energy\, interactive shows for family audiences. With his Texas drawl\, his road-worn acoustic guitar & his suitcase full of animal puppets\, Red Yarn will have audiences singing\, dancing\, stomping\, clapping\, and celebrating the multicultural musical heritage of the USA. He performs a dynamic blend of traditional & original songs mixing folk\, rock’n’roll\, country and blues. As Red leads audiences through the landscapes of American folklore (depicted on beautiful quilted backdrops)\, he introduces his Critter friends along the way. These handmade animal puppets provide comic relief\, calm and tender moments\, and valuable social-emotional lessons.
URL:https://philomathnews.com/event/red-yarn-at-the-library/
LOCATION:Philomath City Hall\, 980 Applegate St.\, Philomath
CATEGORIES:Arts and Entertainment,Library
ATTACH;FMTTYPE=image/jpeg:https://philomathnews.com/wp-content/uploads/2025/12/121625-Red-Yarn-the-Critters-by-Jason-Q-scaled.jpg
END:VEVENT
BEGIN:VEVENT
DTSTART;TZID=America/Los_Angeles:20251219T120000
DTEND;TZID=America/Los_Angeles:20251219T170000
DTSTAMP:20260424T000346
CREATED:20251117T185253Z
LAST-MODIFIED:20251117T185253Z
UID:10010471-1766145600-1766163600@philomathnews.com
SUMMARY:American Red Cross Blood Drive
DESCRIPTION:American Red Cross blood drive from noon-5 p.m. Friday\, Dec. 19\, at Peace Lutheran Church. To schedule an appointment\, visit redcrossblood.org or call 1-800-733-2767.
URL:https://philomathnews.com/event/american-red-cross-blood-drive-2/
LOCATION:Peace Lutheran Church\, 2540 Applegate St.\, Philomath\, OR\, 97370
CATEGORIES:Community
ATTACH;FMTTYPE=image/jpeg:https://philomathnews.com/wp-content/uploads/2025/02/021825-redcross-bloodmobile-philo-photos_4705.jpg
END:VEVENT
BEGIN:VEVENT
DTSTART;TZID=America/Los_Angeles:20251219T110000
DTEND;TZID=America/Los_Angeles:20251219T110000
DTSTAMP:20260424T000346
CREATED:20251128T161509Z
LAST-MODIFIED:20251128T161538Z
UID:10010522-1766142000-1766142000@philomathnews.com
SUMMARY:PHS Wrestling at Grants Pass Winter Kickoff
DESCRIPTION:Philomath High’s wrestling team is scheduled to compete Friday-Saturday\, Dec. 19-20 at the Grants Pass Winter Kickoff.
URL:https://philomathnews.com/event/phs-wrestling-at-grants-pass-winter-kickoff/2025-12-19/
LOCATION:Grants Pass High School\, 830 NE Ninth St\, Grants Pass\, OR\, 97526
CATEGORIES:Athletics
ATTACH;FMTTYPE=image/jpeg:https://philomathnews.com/wp-content/uploads/2025/03/022525-wr-Barrett-11.jpg
END:VEVENT
BEGIN:VEVENT
DTSTART;VALUE=DATE:20251219
DTEND;VALUE=DATE:20251220
DTSTAMP:20260424T000346
CREATED:20251215T232625Z
LAST-MODIFIED:20251215T232625Z
UID:10010908-1766102400-1766188799@philomathnews.com
SUMMARY:PHS Boys Basketball at South Coast Les Schwab Tournament
DESCRIPTION:Philomath High’s boys basketball team is scheduled to play in the South Coast Les Schwab Tournament from Thursday\, Dec. 18 through Saturday\, Dec. 20 at Marshfield High School. The Warriors will open at 7 p.m. Thursday against Hidden Valley. If the Warriors win\, they would play in the semifinals at 5:15 p.m. Friday. If they lose\, they would play in the consolation semifinals at 8:30 a.m. Friday. The championship game is scheduled for 5:45 p.m. Saturday. Click here to see the tournament bracket.
URL:https://philomathnews.com/event/phs-boys-basketball-at-south-coast-les-schwab-tournament/2025-12-19/
LOCATION:Marshfield High School\, 972 Ingersoll St\, Coos Bay\, OR\, 97370
CATEGORIES:Athletics
ATTACH;FMTTYPE=image/jpeg:https://philomathnews.com/wp-content/uploads/2025/12/121125-bbb-Barron-04.jpg
END:VEVENT
END:VCALENDAR