BEGIN:VCALENDAR
VERSION:2.0
PRODID:-//Philomath News - ECPv6.15.20//NONSGML v1.0//EN
CALSCALE:GREGORIAN
METHOD:PUBLISH
X-ORIGINAL-URL:https://philomathnews.com
X-WR-CALDESC:Events for Philomath News
REFRESH-INTERVAL;VALUE=DURATION:PT1H
X-Robots-Tag:noindex
X-PUBLISHED-TTL:PT1H
BEGIN:VTIMEZONE
TZID:America/Los_Angeles
BEGIN:DAYLIGHT
TZOFFSETFROM:-0800
TZOFFSETTO:-0700
TZNAME:PDT
DTSTART:20250309T100000
END:DAYLIGHT
BEGIN:STANDARD
TZOFFSETFROM:-0700
TZOFFSETTO:-0800
TZNAME:PST
DTSTART:20251102T090000
END:STANDARD
BEGIN:DAYLIGHT
TZOFFSETFROM:-0800
TZOFFSETTO:-0700
TZNAME:PDT
DTSTART:20260308T100000
END:DAYLIGHT
BEGIN:STANDARD
TZOFFSETFROM:-0700
TZOFFSETTO:-0800
TZNAME:PST
DTSTART:20261101T090000
END:STANDARD
BEGIN:DAYLIGHT
TZOFFSETFROM:-0800
TZOFFSETTO:-0700
TZNAME:PDT
DTSTART:20270314T100000
END:DAYLIGHT
BEGIN:STANDARD
TZOFFSETFROM:-0700
TZOFFSETTO:-0800
TZNAME:PST
DTSTART:20271107T090000
END:STANDARD
END:VTIMEZONE
BEGIN:VEVENT
DTSTART;TZID=America/Los_Angeles:20260214T090000
DTEND;TZID=America/Los_Angeles:20260214T130000
DTSTAMP:20260425T162505
CREATED:20251226T194733Z
LAST-MODIFIED:20260319T050414Z
UID:10011493-1771059600-1771074000@philomathnews.com
SUMMARY:Corvallis Indoor Winter Market
DESCRIPTION:The 2026 winter market season begins Jan. 10\, 2026. \nThe winter market again will be matching SNAP with Double Up Food Bucks up to $20 per market . This is the same program offered at other farmers’ markets during the regular season. \nOutdoor markets in Corvallis and Albany are run by Corvallis-Albany Farmers’ Markets. Please visit their page\, www.locallygrown.org\, for information about regular season markets. \nMarket hours are 9 a.m. to 1 p.m. every Saturday in Guerber Hall at the Benton County Fairgrounds.
URL:https://philomathnews.com/event/corvallis-indoor-winter-market/2026-02-14/
LOCATION:Benton County Fairgrounds\, 110 SW 53rd St.\, Corvallis\, OR\, 97333
CATEGORIES:Clubs and Organizations
ATTACH;FMTTYPE=image/jpeg:https://philomathnews.com/wp-content/uploads/2023/02/020523-fresh-veggies-philo-photos_9833.jpg
ORGANIZER;CN="Corvallis-Albany Farmers' Markets":MAILTO:cafm@locallygrown.org
END:VEVENT
BEGIN:VEVENT
DTSTART;TZID=America/Los_Angeles:20260214T100000
DTEND;TZID=America/Los_Angeles:20260214T100000
DTSTAMP:20260425T162505
CREATED:20260119T222700Z
LAST-MODIFIED:20260119T222700Z
UID:10011710-1771063200-1771063200@philomathnews.com
SUMMARY:PHS Swimming at Special District 4 Meet
DESCRIPTION:Philomath High’s boys and girls swim teams are scheduled to compete at 10 a.m. Friday and 10 a.m. Saturday in the Special District 4 meet at Albany Community Pool.
URL:https://philomathnews.com/event/phs-swimming-at-special-district-4-meet/2026-02-14/
LOCATION:Albany Community Pool\, 2150 36th Ave SE\, Albany\, OR\, 97322
CATEGORIES:Athletics
ATTACH;FMTTYPE=image/jpeg:https://philomathnews.com/wp-content/uploads/2025/12/121925-swm-team_6389-scaled.jpeg
END:VEVENT
BEGIN:VEVENT
DTSTART;TZID=America/Los_Angeles:20260214T100000
DTEND;TZID=America/Los_Angeles:20260214T100000
DTSTAMP:20260425T162505
CREATED:20260213T143844Z
LAST-MODIFIED:20260213T143844Z
UID:10011732-1771063200-1771063200@philomathnews.com
SUMMARY:PHS Wrestling at Regional Championships
DESCRIPTION:Philomath High’s wrestling team is scheduled to compete at 10 a.m. Saturday\, Feb. 14 at the Regional Championships at Newport High School.
URL:https://philomathnews.com/event/phs-wrestling-at-regional-championships-2/
LOCATION:Newport High School\, 322 NE Eads St\, Newport\, OR\, 97365
CATEGORIES:Athletics
ATTACH;FMTTYPE=image/jpeg:https://philomathnews.com/wp-content/uploads/2026/01/010826-wr-grapoli_1038-scaled.jpg
END:VEVENT
BEGIN:VEVENT
DTSTART;TZID=America/Los_Angeles:20260214T110000
DTEND;TZID=America/Los_Angeles:20260214T110000
DTSTAMP:20260425T162505
CREATED:20260213T144423Z
LAST-MODIFIED:20260213T144423Z
UID:10011733-1771066800-1771066800@philomathnews.com
SUMMARY:Special Olympics Oregon Polar Plunge
DESCRIPTION:The Special Olympics Oregon Polar Plunge is scheduled for 11 a.m. Saturday\, Feb. 14\, at the Willamette Boat Landing at Crystal Lake Sports Fields. Among the participants will be a Philomath High School team.
URL:https://philomathnews.com/event/special-olympics-oregon-polar-plunge/
LOCATION:Crystal Lake Sports Fields\, 100 SE Fischer Lane\, Corvallis\, OR\, 97333
CATEGORIES:Clubs and Organizations
ATTACH;FMTTYPE=image/jpeg:https://philomathnews.com/wp-content/uploads/2024/02/021823-polar-plunge-file.jpeg
END:VEVENT
BEGIN:VEVENT
DTSTART;TZID=America/Los_Angeles:20260214T110000
DTEND;TZID=America/Los_Angeles:20260214T120000
DTSTAMP:20260425T162505
CREATED:20260105T144659Z
LAST-MODIFIED:20260105T144659Z
UID:10011505-1771066800-1771070400@philomathnews.com
SUMMARY:Benton County Genealogical Society Program at Philomath Museum
DESCRIPTION:Jim Birken’s February 14th presentation will be titled: A Trip to Discover my Polish Roots. With the help of a Polish organization that does ancestry research\, and an excellent tour service in Krakow\, Birken journeyed to the town my grandmother left in 1888.
URL:https://philomathnews.com/event/benton-county-genealogical-society-program-at-philomath-museum-2/
LOCATION:Philomath Museum\, 1101 Main St.\, Philomath\, OR\, 97370
CATEGORIES:Clubs and Organizations
ATTACH;FMTTYPE=image/jpeg:https://philomathnews.com/wp-content/uploads/2025/10/101125-philomath-museum-file_4063-scaled.jpg
ORGANIZER;CN="Benton County Genealogical Society":MAILTO:bcgsor@gmail.com
END:VEVENT
BEGIN:VEVENT
DTSTART;TZID=America/Los_Angeles:20260216T090000
DTEND;TZID=America/Los_Angeles:20260216T090000
DTSTAMP:20260425T162505
CREATED:20251116T054312Z
LAST-MODIFIED:20251116T054312Z
UID:10007220-1771232400-1771232400@philomathnews.com
SUMMARY:Philomath TOPS Meeting
DESCRIPTION:The Philomath chapter of TOPS (Take Off Pounds Sensibly) meets at 9 a.m. Mondays at Peace Lutheran Church with weigh-in preceding the meeting from 8:30-9 a.m.
URL:https://philomathnews.com/event/philomath-tops-meeting/2026-02-16/
LOCATION:Peace Lutheran Church\, 2540 Applegate St.\, Philomath\, OR\, 97370
CATEGORIES:Clubs and Organizations
ATTACH;FMTTYPE=image/jpeg:https://philomathnews.com/wp-content/uploads/2023/02/Peace-Lutheran-Church1-2020-scaled.jpg
END:VEVENT
BEGIN:VEVENT
DTSTART;TZID=America/Los_Angeles:20260216T100000
DTEND;TZID=America/Los_Angeles:20260216T100000
DTSTAMP:20260425T162505
CREATED:20251116T185922Z
LAST-MODIFIED:20251116T185922Z
UID:10007481-1771236000-1771236000@philomathnews.com
SUMMARY:Dementia Warriors Coffee Connections
DESCRIPTION:Dementia Warriors Coffee Connections meets at 10 a.m. Mondays at Timber Towne Coffee in Philomath. From the organizer: “Come savor this casual opportunity to connect and laugh with people with dementia/Alzheimer’s and caregivers.”
URL:https://philomathnews.com/event/dementia-warriors-coffee-connections/2026-02-16/
LOCATION:Timber Towne Coffee\, 1427 Main St.\, Philomath\, OR\, 97370
CATEGORIES:Clubs and Organizations
ATTACH;FMTTYPE=image/jpeg:https://philomathnews.com/wp-content/uploads/2025/01/020422-Douglas-The-Truck-At-Timber-Townejpg.jpg
ORGANIZER;CN="Dementia Warriors":MAILTO:dementiaadvocacy16@gmail.com
END:VEVENT
BEGIN:VEVENT
DTSTART;TZID=America/Los_Angeles:20260216T183000
DTEND;TZID=America/Los_Angeles:20260216T223000
DTSTAMP:20260425T162505
CREATED:20251116T192605Z
LAST-MODIFIED:20251116T192605Z
UID:10007743-1771266600-1771281000@philomathnews.com
SUMMARY:Moonlight Country Mixer at the Grange
DESCRIPTION:Jamie Lee Dancing presents Moonlight Country Mixer. Every Monday 6:30-10:30 p.m. at Marys River Grange\, 24707 Grange Hall Rd.\, Philomath. Cost: $5. All ages welcome. Parking limited to Grange Hall lot. Country swing and line dance lessons from 6:30-7:30.
URL:https://philomathnews.com/event/moonlight-country-mixer-at-the-grange/2026-02-16/
LOCATION:Marys River Grange Hall\, 24707 Grange Hall Road\, Philomath\, OR\, 97370
CATEGORIES:Arts and Entertainment
ATTACH;FMTTYPE=image/jpeg:https://philomathnews.com/wp-content/uploads/2025/09/081325-mrg-sign_8863-scaled.jpg
ORGANIZER;CN="Jamie Lee Dancing":MAILTO:Jamieleedancing@gmail.com
END:VEVENT
BEGIN:VEVENT
DTSTART;TZID=America/Los_Angeles:20260217T090000
DTEND;TZID=America/Los_Angeles:20260217T090000
DTSTAMP:20260425T162505
CREATED:20251116T200607Z
LAST-MODIFIED:20251116T200607Z
UID:10008840-1771318800-1771318800@philomathnews.com
SUMMARY:Benton County Board of Commissioners Meeting
DESCRIPTION:The Benton County Board of Commissioners typically meet for regular meetings at 9 a.m. on the first and third Tuesdays each month at the Kalapuya Building. Holidays and special events occasionally forces the board to move a regular meeting to another date.
URL:https://philomathnews.com/event/benton-county-board-of-commissioners-meeting-3/2026-02-17/
LOCATION:Kalapuya Building\, 4500 SW Research Way\, Corvallis\, OR\, 97333
CATEGORIES:Government
ATTACH;FMTTYPE=image/jpeg:https://philomathnews.com/wp-content/uploads/2022/02/020822-kalapuya-bldg_2625-scaled.jpeg
END:VEVENT
BEGIN:VEVENT
DTSTART;TZID=America/Los_Angeles:20260217T120000
DTEND;TZID=America/Los_Angeles:20260217T120000
DTSTAMP:20260425T162505
CREATED:20260127T133251Z
LAST-MODIFIED:20260127T133251Z
UID:10011719-1771329600-1771329600@philomathnews.com
SUMMARY:Philomath Rotary Club Meeting
DESCRIPTION:Please come to the Philomath Rotary Club meeting event on February 17th at noon in the fellowship hall of Peace Lutheran Church. All Rotarians and community members are welcome.\nThis meeting event will include the Philomath Middle School “Student of the Month” award presentation.\nThe main meeting presentation will be “Emergency Management Overview and Emergency Preparedness” by Bryan Lee\, Emergency Manager\, Benton County. The main purpose of this presentation is to better understand the scope of functions Emergency Management in Benton County as well as to have a basic understanding of an individual role in community preparedness and resilience.  Participants will also have additional opportunities to engage directly in Emergency Preparedness training and readiness opportunities.\nWe hope you can come and please remember lunch will be provided.  Please RSVP to rotaryfred@hotmail.com if you will be attending so we can plan the number of meals.
URL:https://philomathnews.com/event/philomath-rotary-club-meeting-6/
LOCATION:Peace Lutheran Church\, 2540 Applegate St.\, Philomath\, OR\, 97370
CATEGORIES:Clubs and Organizations
ATTACH;FMTTYPE=image/jpeg:https://philomathnews.com/wp-content/uploads/2025/07/062725-rotary-file_7524-scaled.jpg
END:VEVENT
BEGIN:VEVENT
DTSTART;TZID=America/Los_Angeles:20260217T153000
DTEND;TZID=America/Los_Angeles:20260217T163000
DTSTAMP:20260425T162505
CREATED:20251116T221714Z
LAST-MODIFIED:20251116T221714Z
UID:10009833-1771342200-1771345800@philomathnews.com
SUMMARY:READ Dogs at the Library
DESCRIPTION:Beginning readers are invited to practice reading in any language to a trained therapy Reading Education Assistance Dogs (READ Dogs) on the third Tuesday of the month. A permission form is required for children to participate and may be filled out on-site by parents/guardians. Limited spots are available on a first-come\, first-served basis.
URL:https://philomathnews.com/event/read-dogs-at-the-library/2026-02-17/
LOCATION:Philomath Community Library\, 1050 Applegate\, Philomath\, OR\, 97370
CATEGORIES:Library
ATTACH;FMTTYPE=image/jpeg:https://philomathnews.com/wp-content/uploads/2024/12/122724-READ-dogs_9187-scaled.jpg
END:VEVENT
BEGIN:VEVENT
DTSTART;TZID=America/Los_Angeles:20260217T173000
DTEND;TZID=America/Los_Angeles:20260217T173000
DTSTAMP:20260425T162505
CREATED:20260119T220533Z
LAST-MODIFIED:20260119T220533Z
UID:10011699-1771349400-1771349400@philomathnews.com
SUMMARY:PHS Girls Basketball at Cascade
DESCRIPTION:Philomath High’s girls basketball team is scheduled to play at Cascade at 5:30 p.m. Tuesday\, Feb. 17.
URL:https://philomathnews.com/event/phs-girls-basketball-at-cascade/
LOCATION:Cascade High School\, 10226 Marion Rd SE\, Turner\, OR\, 97392
CATEGORIES:Athletics
ATTACH;FMTTYPE=image/jpeg:https://philomathnews.com/wp-content/uploads/2026/01/011326-gbb-may_1230-scaled.jpg
END:VEVENT
BEGIN:VEVENT
DTSTART;TZID=America/Los_Angeles:20260217T180000
DTEND;TZID=America/Los_Angeles:20260217T180000
DTSTAMP:20260425T162505
CREATED:20260131T040345Z
LAST-MODIFIED:20260131T040345Z
UID:10011723-1771351200-1771351200@philomathnews.com
SUMMARY:Benton County Planning Commission Meeting
DESCRIPTION:The Benton County Planning Commission is scheduled to meet at 6 p.m. Tuesday\, Feb. 17\, at the Kalapuya Building.
URL:https://philomathnews.com/event/benton-county-planning-commission-meeting-3/
LOCATION:Kalapuya Building\, 4500 SW Research Way\, Corvallis\, OR\, 97333
CATEGORIES:Government
ATTACH;FMTTYPE=image/jpeg:https://philomathnews.com/wp-content/uploads/2022/02/020822-kalapuya-bldg_2625-scaled.jpeg
ORGANIZER;CN="Benton County":MAILTO:https://www.bentoncountyor.gov/contact/
END:VEVENT
BEGIN:VEVENT
DTSTART;TZID=America/Los_Angeles:20260217T180000
DTEND;TZID=America/Los_Angeles:20260217T180000
DTSTAMP:20260425T162505
CREATED:20260213T221503Z
LAST-MODIFIED:20260213T221503Z
UID:10011734-1771351200-1771351200@philomathnews.com
SUMMARY:Philomath Planning Commission Meeting
DESCRIPTION:The Philomath City Council is scheduled to meet at 6 p.m. Tuesday\, Feb. 17. Agendas are typically posted the Friday before the meeting.
URL:https://philomathnews.com/event/philomath-planning-commission-meeting-2/
LOCATION:Philomath City Hall\, 980 Applegate St.\, Philomath
CATEGORIES:Government
ATTACH;FMTTYPE=image/jpeg:https://philomathnews.com/wp-content/uploads/2025/01/011525-city-hall-file_1596-scaled.jpeg
END:VEVENT
BEGIN:VEVENT
DTSTART;TZID=America/Los_Angeles:20260217T180000
DTEND;TZID=America/Los_Angeles:20260217T190000
DTSTAMP:20260425T162505
CREATED:20251116T192954Z
LAST-MODIFIED:20251116T193042Z
UID:10008004-1771351200-1771354800@philomathnews.com
SUMMARY:Philomath Community Meal
DESCRIPTION:Free meal and fellowship — everyone welcome! Live music\, prayer room\, delicious meal. Sponsored by Philomath Area Churches.
URL:https://philomathnews.com/event/philomath-community-meal/2026-02-17/
LOCATION:College United Methodist Church\, 1123 Main St.\, Philomath\, OR\, 97370
CATEGORIES:Community
ATTACH;FMTTYPE=image/jpeg:https://philomathnews.com/wp-content/uploads/2024/11/112424-community-dinner-sign_256.jpg
ORGANIZER;CN="College United Methodist Church":MAILTO:collegeumc@gmail.com
END:VEVENT
BEGIN:VEVENT
DTSTART;TZID=America/Los_Angeles:20260217T180000
DTEND;TZID=America/Los_Angeles:20260217T190000
DTSTAMP:20260425T162505
CREATED:20251216T154159Z
LAST-MODIFIED:20251216T154159Z
UID:10010984-1771351200-1771354800@philomathnews.com
SUMMARY:Yoga at the Grange
DESCRIPTION:Instructor Laura Coen leads Yoga at the Grange Tuesdays from Dec. 2-March 17. \nNo Registration Required. For more information\, send email to: lauraploeg@yahoo.com \nLaura has been teaching yoga to adults\, children and families since 2014. She believes individuals can experience a mindful connection to themselves and the world through the practice of yoga. With a mindful connection to self\, both adults and children can feel better\, have more self-control and more self-awareness. A strong sense of self allows for more stable connections with others. Laura hopes to help yoga students find stability in themselves\, and therefore become more productive\, helpful and healthy members of their community.
URL:https://philomathnews.com/event/yoga-at-the-grange-2/2026-02-17/
LOCATION:Marys River Grange Hall\, 24707 Grange Hall Road\, Philomath\, OR\, 97370
CATEGORIES:Exercise
ATTACH;FMTTYPE=image/jpeg:https://philomathnews.com/wp-content/uploads/2025/03/030725-yoga-artwork.jpg
ORGANIZER;CN="Laura Coen":MAILTO:lauraploeg@yahoo.com
END:VEVENT
BEGIN:VEVENT
DTSTART;TZID=America/Los_Angeles:20260217T190000
DTEND;TZID=America/Los_Angeles:20260217T190000
DTSTAMP:20260425T162505
CREATED:20260119T221821Z
LAST-MODIFIED:20260119T221821Z
UID:10011705-1771354800-1771354800@philomathnews.com
SUMMARY:PHS Boys Basketball at Cascade
DESCRIPTION:Philomath High’s boys basketball team is scheduled to play at Cascade at 7 p.m. Tuesday\, Feb. 17.
URL:https://philomathnews.com/event/phs-boys-basketball-at-cascade/
LOCATION:Cascade High School\, 10226 Marion Rd SE\, Turner\, OR\, 97392
CATEGORIES:Athletics
ATTACH;FMTTYPE=image/jpeg:https://philomathnews.com/wp-content/uploads/2026/01/011326-bbb-Lewetag-01.jpg
END:VEVENT
BEGIN:VEVENT
DTSTART;TZID=America/Los_Angeles:20260218T090000
DTEND;TZID=America/Los_Angeles:20260218T120000
DTSTAMP:20260425T162505
CREATED:20251230T162231Z
LAST-MODIFIED:20260106T155015Z
UID:10008266-1771405200-1771416000@philomathnews.com
SUMMARY:Quilts From Caring Hands
DESCRIPTION:The primary purpose of Quilts From Caring Hands is to bring the feeling of loving comfort to at-risk children in Oregon’s Benton\, Linn and Marion counties. These include those who are homeless\, drug addicted\, visually impaired\, or abused\, and those in foster care. Our quilts are distributed through designated social service agencies. \nEach quilt we make for a child is unique. In addition to crib- and twin-sized quilts\, we also assemble tactile quilts and “cuddlers” for visually impaired children.  The finished quilts and cuddlers are given away once each quarter. \nQCH is grateful to our sponsors for their support over the years. Quilts from Caring Hands is a volunteer-powered 501(c)(3) nonprofit organization.  All donations are tax deductible.
URL:https://philomathnews.com/event/quilts-from-caring-hands-2/2026-02-18/
LOCATION:Philomath Scout Lodge\, 660 Clemens Mill Road\, Philomath\, OR\, 97370
CATEGORIES:Clubs and Organizations
ATTACH;FMTTYPE=image/jpeg:https://philomathnews.com/wp-content/uploads/2022/08/081122-quilters-workroom_6836-scaled.jpeg
ORGANIZER;CN="Quilts From Caring Hands":MAILTO:qch@peak.org
END:VEVENT
BEGIN:VEVENT
DTSTART;TZID=America/Los_Angeles:20260218T103000
DTEND;TZID=America/Los_Angeles:20260218T110000
DTSTAMP:20260425T162505
CREATED:20251116T194546Z
LAST-MODIFIED:20251116T194634Z
UID:10008527-1771410600-1771412400@philomathnews.com
SUMMARY:Philomath Storytime at the Library
DESCRIPTION:Children of all ages and their families are invited to join us for an interactive storytime full of books\, songs\, and music.
URL:https://philomathnews.com/event/philomath-storytime-at-the-library/2026-02-18/
LOCATION:Philomath Community Library\, 1050 Applegate\, Philomath\, OR\, 97370
CATEGORIES:Library
ATTACH;FMTTYPE=image/jpeg:https://philomathnews.com/wp-content/uploads/2024/07/Calendar-Philomath-Community-Library.jpg
END:VEVENT
BEGIN:VEVENT
DTSTART;TZID=America/Los_Angeles:20260218T120000
DTEND;TZID=America/Los_Angeles:20260218T120000
DTSTAMP:20260425T162505
CREATED:20251116T203213Z
LAST-MODIFIED:20251116T203344Z
UID:10009032-1771416000-1771416000@philomathnews.com
SUMMARY:Philomath Lions Club Meeting
DESCRIPTION:The Philomath Lions Club meets on the first and third Wednesdays of the month at noon at Philomath Fire and Rescue’s Station 201.
URL:https://philomathnews.com/event/philomath-lions-club-meeting/2026-02-18/
LOCATION:Philomath Fire and Rescue\, 1035 Main St.\, Philomath\, OR\, 97370
CATEGORIES:Clubs and Organizations
ATTACH;FMTTYPE=image/jpeg:https://philomathnews.com/wp-content/uploads/2025/04/040925-lions-club-artwork_2509-scaled.jpeg
END:VEVENT
BEGIN:VEVENT
DTSTART;TZID=America/Los_Angeles:20260218T120000
DTEND;TZID=America/Los_Angeles:20260218T130000
DTSTAMP:20260425T162505
CREATED:20251116T222809Z
LAST-MODIFIED:20251116T222809Z
UID:10009953-1771416000-1771419600@philomathnews.com
SUMMARY:Wednesday Noon Book Club
DESCRIPTION:The Philomath Noon Book Club meets on the third Wednesday of the month at the Philomath Community Library. Copies of book club books are available each month at the library; please ask at the front desk.
URL:https://philomathnews.com/event/wednesday-noon-book-club/2026-02-18/
LOCATION:Philomath Community Library\, 1050 Applegate\, Philomath\, OR\, 97370
CATEGORIES:Library
ATTACH;FMTTYPE=image/jpeg:https://philomathnews.com/wp-content/uploads/2024/07/Calendar-Philomath-Community-Library.jpg
END:VEVENT
BEGIN:VEVENT
DTSTART;TZID=America/Los_Angeles:20260218T143000
DTEND;TZID=America/Los_Angeles:20260218T160000
DTSTAMP:20260425T162505
CREATED:20251116T203841Z
LAST-MODIFIED:20251116T203925Z
UID:10009283-1771425000-1771430400@philomathnews.com
SUMMARY:Dementia Warriors Support Group Meeting
DESCRIPTION:Improving our journey together. \nJoin us from 2:30-4 p.m. on the first and third Wednesday of each month at Peace Lutheran Church in Philomath\, Oregon. \nLoss of cognitive skills and/or memory loss can begin at any age\, and this is greatly worsened by social isolation. Dementia and Alzheimer’s disease are NOT “old-person’s diseases!” Statistics show that many people live with dementia\, on average\, about 10 years before seeking a diagnosis. Early detection gives you time to start self-care and stave off the onset. Knowledge is power! \nWe welcome differences and work together to be creative in enjoying life while navigating dementia. We offer support and connection to those with dementia and their families with twice-monthly support group meetings\, social outings\, easy walks\, coffee chats and a private Facebook group. Most importantly\, we offer hope and a renewed sense of purpose. \nPlease join your strengths with ours to make a better life. Togetherness is our greatest strength. \nWant to learn more? Contact Kim McAlexander at mcalexak@gmail.com.
URL:https://philomathnews.com/event/dementia-warriors-support-group-meeting/2026-02-18/
LOCATION:Peace Lutheran Church\, 2540 Applegate St.\, Philomath\, OR\, 97370
CATEGORIES:Clubs and Organizations
ATTACH;FMTTYPE=image/jpeg:https://philomathnews.com/wp-content/uploads/2023/02/Peace-Lutheran-Church1-2020-scaled.jpg
ORGANIZER;CN="Dementia Warriors":MAILTO:dementiaadvocacy16@gmail.com
END:VEVENT
BEGIN:VEVENT
DTSTART;TZID=America/Los_Angeles:20260218T173000
DTEND;TZID=America/Los_Angeles:20260218T203000
DTSTAMP:20260425T162505
CREATED:20251116T224717Z
LAST-MODIFIED:20260107T171418Z
UID:10010133-1771435800-1771446600@philomathnews.com
SUMMARY:Craft Night and Spoon Jam at the Grange
DESCRIPTION:Spoon (and other greenwood) carving.5:30-8:30 \nNo fee. Bring tools and green wood or any unfinished craft \nPlease RSVP to kiko@handprintpress.com\, or text 541-740-7243.
URL:https://philomathnews.com/event/craft-night-and-spoon-jam-at-the-grange/2026-02-18/
LOCATION:Marys River Grange Hall\, 24707 Grange Hall Road\, Philomath\, OR\, 97370
CATEGORIES:Classes and Workshops
ATTACH;FMTTYPE=image/jpeg:https://philomathnews.com/wp-content/uploads/2025/09/081325-mrg-sign_8863-scaled.jpg
ORGANIZER;CN="Kiko Denzer":MAILTO:kiko@handprintpress.com
END:VEVENT
BEGIN:VEVENT
DTSTART;TZID=America/Los_Angeles:20260219T114500
DTEND;TZID=America/Los_Angeles:20260219T130000
DTSTAMP:20260425T162505
CREATED:20260119T190001Z
LAST-MODIFIED:20260119T190001Z
UID:10011670-1771501500-1771506000@philomathnews.com
SUMMARY:Philomath Area Chamber of Commerce Luncheon
DESCRIPTION:CHAMBER LUNCHEON: February – Timberlab\, Who we are and why mass timber. Catered by: La Rockita \nRSVP required. Save $5.00  \n$15/person when preregistered.\n$20/person at the door with out an RSVP \nChamber Forum Luncheons are held the third Thursday of each month from 11:45 a.m. to 1:00 p.m. at Peace Lutheran Church at 2540 Applegate Street in Philomath. \nThese luncheons bring the general membership and guests together for networking\, in addition to inviting speakers who give topical presentations of interest to businesses.
URL:https://philomathnews.com/event/philomath-area-chamber-of-commerce-luncheon-3/
LOCATION:Peace Lutheran Church\, 2540 Applegate St.\, Philomath\, OR\, 97370
CATEGORIES:Business,Clubs and Organizations
ATTACH;FMTTYPE=image/jpeg:https://philomathnews.com/wp-content/uploads/2025/03/011625-chamber-logo-file_0576-scaled.jpg
ORGANIZER;CN="Philomath Area Chamber of Commerce":MAILTO:director@philomathchamber.org
END:VEVENT
BEGIN:VEVENT
DTSTART;TZID=America/Los_Angeles:20260219T190000
DTEND;TZID=America/Los_Angeles:20260219T190000
DTSTAMP:20260425T162505
CREATED:20260115T163050Z
LAST-MODIFIED:20260311T011741Z
UID:10011581-1771527600-1771527600@philomathnews.com
SUMMARY:Philomath School Board Meeting
DESCRIPTION:Philomath School Board meetings are typically held on the third Thursday each month at the Philomath High School Community Conference Room at 2054 Applegate St\, unless otherwise noted. Regular meetings usually begin at 7 p.m. \nAll meetings are open to the public except for executive sessions\, as authorized by law. Time is set aside for public comments.
URL:https://philomathnews.com/event/124911/2026-02-19/
LOCATION:Philomath High School\, 2054 Applegate St.\, Philomath\, OR\, 97370
CATEGORIES:Government,Schools
ATTACH;FMTTYPE=image/jpeg:https://philomathnews.com/wp-content/uploads/2020/12/Philomath-High-School3-2020.jpg
END:VEVENT
BEGIN:VEVENT
DTSTART;TZID=America/Los_Angeles:20260220T083000
DTEND;TZID=America/Los_Angeles:20260220T083000
DTSTAMP:20260425T162505
CREATED:20260218T011648Z
LAST-MODIFIED:20260218T011648Z
UID:10011740-1771576200-1771576200@philomathnews.com
SUMMARY:Philomath Public Works Committee Meeting
DESCRIPTION:The Philomath Public Works Committee plans to meet at 8:30 a.m. Friday\, Feb. 20\, at Philomath City Hall. The agenda includes Tree Board business.
URL:https://philomathnews.com/event/philomath-public-works-committee-meeting-2/
LOCATION:Philomath City Hall\, 980 Applegate St.\, Philomath
CATEGORIES:Government
ATTACH;FMTTYPE=image/jpeg:https://philomathnews.com/wp-content/uploads/2025/01/011525-city-hall-file_1596-scaled.jpeg
END:VEVENT
BEGIN:VEVENT
DTSTART;TZID=America/Los_Angeles:20260220T090000
DTEND;TZID=America/Los_Angeles:20260220T090000
DTSTAMP:20260425T162505
CREATED:20260119T223716Z
LAST-MODIFIED:20260219T162222Z
UID:10011741-1771578000-1771578000@philomathnews.com
SUMMARY:PHS Girls Wrestling at Regional Championships
DESCRIPTION:Philomath High’s girls wrestling team is scheduled to compete Friday and Saturday\, Feb. 20-21\, at the 4A/3A/2A/1A Special District 1 tournament at Molalla High School.
URL:https://philomathnews.com/event/phs-girls-wrestling-at-regional-championships/2026-02-20/
LOCATION:Molalla High School\, 357 Frances St.\, Molalla\, OR\, 97038
CATEGORIES:Athletics
ATTACH;FMTTYPE=image/jpeg:https://philomathnews.com/wp-content/uploads/2026/01/010826-wr-robertson_0937-scaled.jpg
END:VEVENT
BEGIN:VEVENT
DTSTART;TZID=America/Los_Angeles:20260220T090000
DTEND;TZID=America/Los_Angeles:20260220T111500
DTSTAMP:20260425T162505
CREATED:20260219T162808Z
LAST-MODIFIED:20260219T162808Z
UID:10011745-1771578000-1771586100@philomathnews.com
SUMMARY:PHS Swimming at 4A/3A/2A/1A State Championships
DESCRIPTION:Philomath High’s boys swim team is scheduled to compete at 9 a.m. Friday \, Feb. 20\, and 8:15 a.m. Saturday\, Feb. 21\, in the Class 4A/3A/2A/1A State Championships at Tualatin Aquatic Center in Beaverton.
URL:https://philomathnews.com/event/phs-swimming-at-4a-3a-2a-1a-state-championships/2026-02-20/
LOCATION:Tualatin Hills Aquatic Center\, 15707 SW Walker Rd\, Beaverton\, OR\, 97006
CATEGORIES:Athletics
ATTACH;FMTTYPE=image/jpeg:https://philomathnews.com/wp-content/uploads/2025/12/121925-swm-team_6389-scaled.jpeg
ORGANIZER;CN="Oregon School Activities Association":MAILTO:info@osaa.org
END:VEVENT
BEGIN:VEVENT
DTSTART;TZID=America/Los_Angeles:20260220T173000
DTEND;TZID=America/Los_Angeles:20260220T173000
DTSTAMP:20260425T162505
CREATED:20260119T220935Z
LAST-MODIFIED:20260119T233135Z
UID:10011701-1771608600-1771608600@philomathnews.com
SUMMARY:PHS Girls Basketball vs. Stayton
DESCRIPTION:Philomath High’s girls basketball team is scheduled to host Stayton at 5:30 p.m. Friday\, Feb. 20.
URL:https://philomathnews.com/event/phs-girls-basketball-vs-stayton/
LOCATION:Philomath High School\, 2054 Applegate St.\, Philomath\, OR\, 97370
CATEGORIES:Athletics
ATTACH;FMTTYPE=image/jpeg:https://philomathnews.com/wp-content/uploads/2025/12/121625-gbb-Kramer-01.jpg
END:VEVENT
BEGIN:VEVENT
DTSTART;TZID=America/Los_Angeles:20260220T180000
DTEND;TZID=America/Los_Angeles:20260220T180000
DTSTAMP:20260425T162505
CREATED:20251226T161748Z
LAST-MODIFIED:20251226T161834Z
UID:10011433-1771610400-1771610400@philomathnews.com
SUMMARY:Samaritan Awards
DESCRIPTION:The Philomath Area Chamber of Commerce’s presentation of the 2026 Samaritan Awards is scheduled for 6 p.m. Friday\, Feb. 20\, at Philomath Scout Lodge. An evening to recognize excellence\, dedication\, and impact. Join us in celebrating the individuals who inspire\, lead\, and achieve. Bring a donation to the Food Pack Program. Free event with coffee and desserts.
URL:https://philomathnews.com/event/samaritan-awards/
LOCATION:Philomath Scout Lodge\, 660 Clemens Mill Road\, Philomath\, OR\, 97370
CATEGORIES:Clubs and Organizations,Community
ATTACH;FMTTYPE=image/jpeg:https://philomathnews.com/wp-content/uploads/2025/02/021524-samaritan-awards-crowd_1252-scaled.jpg
ORGANIZER;CN="Philomath Area Chamber of Commerce":MAILTO:director@philomathchamber.org
END:VEVENT
END:VCALENDAR