BEGIN:VCALENDAR
VERSION:2.0
PRODID:-//Philomath News - ECPv6.15.20//NONSGML v1.0//EN
CALSCALE:GREGORIAN
METHOD:PUBLISH
X-ORIGINAL-URL:https://philomathnews.com
X-WR-CALDESC:Events for Philomath News
REFRESH-INTERVAL;VALUE=DURATION:PT1H
X-Robots-Tag:noindex
X-PUBLISHED-TTL:PT1H
BEGIN:VTIMEZONE
TZID:America/Los_Angeles
BEGIN:DAYLIGHT
TZOFFSETFROM:-0800
TZOFFSETTO:-0700
TZNAME:PDT
DTSTART:20250309T100000
END:DAYLIGHT
BEGIN:STANDARD
TZOFFSETFROM:-0700
TZOFFSETTO:-0800
TZNAME:PST
DTSTART:20251102T090000
END:STANDARD
BEGIN:DAYLIGHT
TZOFFSETFROM:-0800
TZOFFSETTO:-0700
TZNAME:PDT
DTSTART:20260308T100000
END:DAYLIGHT
BEGIN:STANDARD
TZOFFSETFROM:-0700
TZOFFSETTO:-0800
TZNAME:PST
DTSTART:20261101T090000
END:STANDARD
BEGIN:DAYLIGHT
TZOFFSETFROM:-0800
TZOFFSETTO:-0700
TZNAME:PDT
DTSTART:20270314T100000
END:DAYLIGHT
BEGIN:STANDARD
TZOFFSETFROM:-0700
TZOFFSETTO:-0800
TZNAME:PST
DTSTART:20271107T090000
END:STANDARD
END:VTIMEZONE
BEGIN:VEVENT
DTSTART;TZID=America/Los_Angeles:20260331T180000
DTEND;TZID=America/Los_Angeles:20260331T190000
DTSTAMP:20260425T162423
CREATED:20251116T192954Z
LAST-MODIFIED:20251116T193042Z
UID:10008010-1774980000-1774983600@philomathnews.com
SUMMARY:Philomath Community Meal
DESCRIPTION:Free meal and fellowship — everyone welcome! Live music\, prayer room\, delicious meal. Sponsored by Philomath Area Churches.
URL:https://philomathnews.com/event/philomath-community-meal/2026-03-31/
LOCATION:College United Methodist Church\, 1123 Main St.\, Philomath\, OR\, 97370
CATEGORIES:Community
ATTACH;FMTTYPE=image/jpeg:https://philomathnews.com/wp-content/uploads/2024/11/112424-community-dinner-sign_256.jpg
ORGANIZER;CN="College United Methodist Church":MAILTO:collegeumc@gmail.com
END:VEVENT
BEGIN:VEVENT
DTSTART;TZID=America/Los_Angeles:20260403T133000
DTEND;TZID=America/Los_Angeles:20260403T133000
DTSTAMP:20260425T162423
CREATED:20260323T215202Z
LAST-MODIFIED:20260323T215202Z
UID:10011847-1775223000-1775223000@philomathnews.com
SUMMARY:Arbor Day Tree Planting Ceremony
DESCRIPTION:In anticipation for Arbor Day\, we invite the community to join us on April 3rd\, at the Philomath Library\, as we celebrate the season of trees with a special planting ceremony. \nIn late 2025\, testing confirmed that our beloved American Elm that once stood in front of the Philomath Community Library — the first tree nominated under our Heritage Tree Program — was affected by Dutch Elm Disease. In 2026\, we said goodbye to that beautiful tree\, a loss felt by many in the community. This Arbor Day\, we look ahead with hope as we plant a Bur Oak tree in it’s place and carrying our community’s canopy forward. \nJoin us for a simple ceremony as we honor the past and look forward to the future. \nDate: April 3rd\nTime: 1:30 PM\nLocation: Philomath Community Library\, Applegate St
URL:https://philomathnews.com/event/arbor-day-tree-planting-ceremony/
LOCATION:Philomath Community Library\, 1050 Applegate\, Philomath\, OR\, 97370
CATEGORIES:Community,Government
ATTACH;FMTTYPE=image/jpeg:https://philomathnews.com/wp-content/uploads/2026/02/021126-library-tree-philo-photos_0605.jpeg
END:VEVENT
BEGIN:VEVENT
DTSTART;TZID=America/Los_Angeles:20260403T173000
DTEND;TZID=America/Los_Angeles:20260403T173000
DTSTAMP:20260425T162423
CREATED:20260323T224827Z
LAST-MODIFIED:20260323T224827Z
UID:10011861-1775237400-1775237400@philomathnews.com
SUMMARY:Potluck Social at Marys River Grange
DESCRIPTION:Potluck Social\nFriday\, April 3\nStarts 5:30 pm. at Marys River Grange Hall. Potluck and social time for members & families\, friends & neighbors.
URL:https://philomathnews.com/event/potluck-social-at-marys-river-grange/
LOCATION:Marys River Grange Hall\, 24707 Grange Hall Road\, Philomath\, OR\, 97370
CATEGORIES:Clubs and Organizations,Community
ATTACH;FMTTYPE=image/jpeg:https://philomathnews.com/wp-content/uploads/2026/01/081325-mrg-sign_8863-scaled.jpg
ORGANIZER;CN="Marys River Grange No. 685":MAILTO:marysrivergrange@gmail.com
END:VEVENT
BEGIN:VEVENT
DTSTART;TZID=America/Los_Angeles:20260404T100000
DTEND;TZID=America/Los_Angeles:20260404T100000
DTSTAMP:20260425T162423
CREATED:20260323T165557Z
LAST-MODIFIED:20260323T165628Z
UID:10011845-1775296800-1775296800@philomathnews.com
SUMMARY:Community Easter Egg Hunt
DESCRIPTION:The Community Easter Egg Hunt will begin at 10 a.m. Saturday\, April 4\, at the Philomath Frolic and Rodeo grounds.
URL:https://philomathnews.com/event/community-easter-egg-hunt/
LOCATION:Philomath Rodeo Grounds\, 502 S. 13th St.\, Philomath\, OR\, 97370
CATEGORIES:Community
ATTACH;FMTTYPE=image/jpeg:https://philomathnews.com/wp-content/uploads/2024/03/03-30-24-Easter-Egg-Hunt-31.jpg
ORGANIZER;CN="Philomath Frolic and Rodeo":MAILTO:pfr.secretary@gmail.com
END:VEVENT
END:VCALENDAR