BEGIN:VCALENDAR
VERSION:2.0
PRODID:-//Philomath News - ECPv6.15.20//NONSGML v1.0//EN
CALSCALE:GREGORIAN
METHOD:PUBLISH
X-ORIGINAL-URL:https://philomathnews.com
X-WR-CALDESC:Events for Philomath News
REFRESH-INTERVAL;VALUE=DURATION:PT1H
X-Robots-Tag:noindex
X-PUBLISHED-TTL:PT1H
BEGIN:VTIMEZONE
TZID:America/Los_Angeles
BEGIN:DAYLIGHT
TZOFFSETFROM:-0800
TZOFFSETTO:-0700
TZNAME:PDT
DTSTART:20250309T100000
END:DAYLIGHT
BEGIN:STANDARD
TZOFFSETFROM:-0700
TZOFFSETTO:-0800
TZNAME:PST
DTSTART:20251102T090000
END:STANDARD
BEGIN:DAYLIGHT
TZOFFSETFROM:-0800
TZOFFSETTO:-0700
TZNAME:PDT
DTSTART:20260308T100000
END:DAYLIGHT
BEGIN:STANDARD
TZOFFSETFROM:-0700
TZOFFSETTO:-0800
TZNAME:PST
DTSTART:20261101T090000
END:STANDARD
BEGIN:DAYLIGHT
TZOFFSETFROM:-0800
TZOFFSETTO:-0700
TZNAME:PDT
DTSTART:20270314T100000
END:DAYLIGHT
BEGIN:STANDARD
TZOFFSETFROM:-0700
TZOFFSETTO:-0800
TZNAME:PST
DTSTART:20271107T090000
END:STANDARD
END:VTIMEZONE
BEGIN:VEVENT
DTSTART;TZID=America/Los_Angeles:20260613T090000
DTEND;TZID=America/Los_Angeles:20260613T120000
DTSTAMP:20260420T165402
CREATED:20260411T150319Z
LAST-MODIFIED:20260411T150319Z
UID:10011997-1781341200-1781352000@philomathnews.com
SUMMARY:Mount Union Cemetery Volunteer Cleanup
DESCRIPTION:Call for Volunteers at the Cemetery\nVolunteers are needed this Saturday\, April 11th at Mount Union Cemetery\, where every second Saturday of the month\, from now through October\, the community is invited to help preserve this historic landmark. Each volunteer day runs from 9 a.m. to 12 noon\, with tasks like cleaning headstones\, picking up debris\, and trimming grass. As a thank-you\, free coffee\, pastries\, and water will be available to all volunteers. To learn more\, visit the Mount Union Cemetery website at mtunioncemetery.com. Organizers hope this effort will bring the community together to keep the cemetery beautiful and vibrant. Join us on the cemetery grounds on the 11th at 9am. The physical location is 2987 Mount Union Avenue.
URL:https://philomathnews.com/event/mount-union-cemetery-volunteer-cleanup/2026-06-13/
LOCATION:Mount Union Cemetery\, 2987 Mount Union Ave.\, Philomath\, OR\, 97370
CATEGORIES:Clubs and Organizations,Community
ATTACH;FMTTYPE=image/jpeg:https://philomathnews.com/wp-content/uploads/2023/05/052023-mt-union-ceremony-ABC-01.jpg
ORGANIZER;CN="Mount Union Cemetery Association":MAILTO:mountunion@peak.org
END:VEVENT
END:VCALENDAR