BEGIN:VCALENDAR
VERSION:2.0
PRODID:-//Philomath News - ECPv6.15.20//NONSGML v1.0//EN
CALSCALE:GREGORIAN
METHOD:PUBLISH
X-WR-CALNAME:Philomath News
X-ORIGINAL-URL:https://philomathnews.com
X-WR-CALDESC:Events for Philomath News
REFRESH-INTERVAL;VALUE=DURATION:PT1H
X-Robots-Tag:noindex
X-PUBLISHED-TTL:PT1H
BEGIN:VTIMEZONE
TZID:America/Los_Angeles
BEGIN:DAYLIGHT
TZOFFSETFROM:-0800
TZOFFSETTO:-0700
TZNAME:PDT
DTSTART:20250309T100000
END:DAYLIGHT
BEGIN:STANDARD
TZOFFSETFROM:-0700
TZOFFSETTO:-0800
TZNAME:PST
DTSTART:20251102T090000
END:STANDARD
BEGIN:DAYLIGHT
TZOFFSETFROM:-0800
TZOFFSETTO:-0700
TZNAME:PDT
DTSTART:20260308T100000
END:DAYLIGHT
BEGIN:STANDARD
TZOFFSETFROM:-0700
TZOFFSETTO:-0800
TZNAME:PST
DTSTART:20261101T090000
END:STANDARD
BEGIN:DAYLIGHT
TZOFFSETFROM:-0800
TZOFFSETTO:-0700
TZNAME:PDT
DTSTART:20270314T100000
END:DAYLIGHT
BEGIN:STANDARD
TZOFFSETFROM:-0700
TZOFFSETTO:-0800
TZNAME:PST
DTSTART:20271107T090000
END:STANDARD
END:VTIMEZONE
BEGIN:VEVENT
DTSTART;TZID=America/Los_Angeles:20260420T083000
DTEND;TZID=America/Los_Angeles:20260420T133000
DTSTAMP:20260420T034518
CREATED:20260119T194857Z
LAST-MODIFIED:20260119T194857Z
UID:10011689-1776673800-1776691800@philomathnews.com
SUMMARY:American Red Cross Blood Drive
DESCRIPTION:American Red Cross blood drive from 8:30 a.m.-1:30 p.m. Monday\, April 20\, at Philomath High School in the gymnasium. The blood drive helps support Philomath High School’s Red Cross Scholarship program. To schedule an appointment\, see this specific blood drive’s webpage (click on the link below) or call 1-800-RED-CROSS.
URL:https://philomathnews.com/event/american-red-cross-blood-drive-8/
LOCATION:Philomath High School\, 2054 Applegate St.\, Philomath\, OR\, 97370
CATEGORIES:Community,Schools
ATTACH;FMTTYPE=image/jpeg:https://philomathnews.com/wp-content/uploads/2020/12/Philomath-High-School3-2020.jpg
END:VEVENT
BEGIN:VEVENT
DTSTART;TZID=America/Los_Angeles:20260420T090000
DTEND;TZID=America/Los_Angeles:20260420T090000
DTSTAMP:20260420T034518
CREATED:20251116T054312Z
LAST-MODIFIED:20251116T054312Z
UID:10007229-1776675600-1776675600@philomathnews.com
SUMMARY:Philomath TOPS Meeting
DESCRIPTION:The Philomath chapter of TOPS (Take Off Pounds Sensibly) meets at 9 a.m. Mondays at Peace Lutheran Church with weigh-in preceding the meeting from 8:30-9 a.m.
URL:https://philomathnews.com/event/philomath-tops-meeting/2026-04-20/
LOCATION:Peace Lutheran Church\, 2540 Applegate St.\, Philomath\, OR\, 97370
CATEGORIES:Clubs and Organizations
ATTACH;FMTTYPE=image/jpeg:https://philomathnews.com/wp-content/uploads/2023/02/Peace-Lutheran-Church1-2020-scaled.jpg
END:VEVENT
BEGIN:VEVENT
DTSTART;TZID=America/Los_Angeles:20260420T100000
DTEND;TZID=America/Los_Angeles:20260420T100000
DTSTAMP:20260420T034518
CREATED:20251116T185922Z
LAST-MODIFIED:20251116T185922Z
UID:10007490-1776679200-1776679200@philomathnews.com
SUMMARY:Dementia Warriors Coffee Connections
DESCRIPTION:Dementia Warriors Coffee Connections meets at 10 a.m. Mondays at Timber Towne Coffee in Philomath. From the organizer: “Come savor this casual opportunity to connect and laugh with people with dementia/Alzheimer’s and caregivers.”
URL:https://philomathnews.com/event/dementia-warriors-coffee-connections/2026-04-20/
LOCATION:Timber Towne Coffee\, 1427 Main St.\, Philomath\, OR\, 97370
CATEGORIES:Clubs and Organizations
ATTACH;FMTTYPE=image/jpeg:https://philomathnews.com/wp-content/uploads/2025/01/020422-Douglas-The-Truck-At-Timber-Townejpg.jpg
ORGANIZER;CN="Dementia Warriors":MAILTO:dementiaadvocacy16@gmail.com
END:VEVENT
BEGIN:VEVENT
DTSTART;TZID=America/Los_Angeles:20260420T120000
DTEND;TZID=America/Los_Angeles:20260420T120000
DTSTAMP:20260420T034518
CREATED:20260401T154732Z
LAST-MODIFIED:20260401T154812Z
UID:10011965-1776686400-1776686400@philomathnews.com
SUMMARY:PHS Girls Golf at Santiam Golf Club
DESCRIPTION:The Philomath High School girls golf team is scheduled to compete at noon on Monday\, April 20\, at Santiam Golf Club in Aumsville in a meet hosted by Stayton.
URL:https://philomathnews.com/event/phs-girls-golf-at-santiam-golf-club/
LOCATION:Santiam Golf Club\, 8724 Golf Club Rd SE\, Aumsville\, OR\, 97325
CATEGORIES:Athletics
ATTACH;FMTTYPE=image/jpeg:https://philomathnews.com/wp-content/uploads/2025/04/042925-gglf-Muir-06.jpg
END:VEVENT
BEGIN:VEVENT
DTSTART;TZID=America/Los_Angeles:20260420T131500
DTEND;TZID=America/Los_Angeles:20260420T131500
DTSTAMP:20260420T034518
CREATED:20260401T155134Z
LAST-MODIFIED:20260401T155134Z
UID:10011966-1776690900-1776690900@philomathnews.com
SUMMARY:PHS Boys Golf at Langdon Farms Golf Club
DESCRIPTION:The Philomath High School boys golf team is scheduled to compete at 1:15 p.m. Monday\, April 20\, at Langdon Farms Golf Club in Aurora in a meet hosted by North Marion. \n 
URL:https://philomathnews.com/event/phs-boys-golf-at-langdon-farms-golf-club/
LOCATION:Langdon Farms Golf Club\, 24377 NE Airport Rd No. 1\, Aurora\, OR\, 978002
CATEGORIES:Athletics
ATTACH;FMTTYPE=image/jpeg:https://philomathnews.com/wp-content/uploads/2026/03/033026-bglf-artwork.jpg
END:VEVENT
BEGIN:VEVENT
DTSTART;TZID=America/Los_Angeles:20260420T170000
DTEND;TZID=America/Los_Angeles:20260420T170000
DTSTAMP:20260420T034518
CREATED:20260401T173023Z
LAST-MODIFIED:20260401T173023Z
UID:10011968-1776704400-1776704400@philomathnews.com
SUMMARY:PHS Softball at Sweet Home
DESCRIPTION:The Philomath High School softball team is scheduled to play at 5 p.m. Monday\, April 20\, at Sweet Home.
URL:https://philomathnews.com/event/phs-softball-at-sweet-home/
LOCATION:Sweet Home High School\, 1641 Long St.\, Sweet Home\, OR\, 97386
CATEGORIES:Athletics
ATTACH;FMTTYPE=image/jpeg:https://philomathnews.com/wp-content/uploads/2026/03/031826-softball-practice-philo-photos_0924.jpeg
END:VEVENT
BEGIN:VEVENT
DTSTART;TZID=America/Los_Angeles:20260420T170000
DTEND;TZID=America/Los_Angeles:20260420T170000
DTSTAMP:20260420T034518
CREATED:20260401T173610Z
LAST-MODIFIED:20260401T173610Z
UID:10011971-1776704400-1776704400@philomathnews.com
SUMMARY:PHS Baseball vs. Sweet Home
DESCRIPTION:The Philomath High School baseball team is scheduled to play at home vs. Sweet Home at 5 p.m. Monday\, April 20.
URL:https://philomathnews.com/event/phs-baseball-vs-sweet-home/
LOCATION:Philomath High School\, 2054 Applegate St.\, Philomath\, OR\, 97370
CATEGORIES:Athletics
ATTACH;FMTTYPE=image/jpeg:https://philomathnews.com/wp-content/uploads/2026/03/031826-bb-Kvidt-02.jpg
END:VEVENT
BEGIN:VEVENT
DTSTART;TZID=America/Los_Angeles:20260420T180000
DTEND;TZID=America/Los_Angeles:20260420T180000
DTSTAMP:20260420T034518
CREATED:20260417T021415Z
LAST-MODIFIED:20260417T021415Z
UID:10012049-1776708000-1776708000@philomathnews.com
SUMMARY:Philomath Planning Commission Meeting
DESCRIPTION:The Philomath Planning Commission is scheduled to meet at 6 p.m. Monday\, April 20 at Philomath City Hall. \nTo see the meeting agenda and packet\, click here.
URL:https://philomathnews.com/event/philomath-planning-commission-meeting/
LOCATION:Philomath City Hall\, 980 Applegate St.\, Philomath
CATEGORIES:Government
ATTACH;FMTTYPE=image/jpeg:https://philomathnews.com/wp-content/uploads/2025/01/011525-city-hall-file_1596-scaled.jpeg
END:VEVENT
BEGIN:VEVENT
DTSTART;TZID=America/Los_Angeles:20260420T183000
DTEND;TZID=America/Los_Angeles:20260420T223000
DTSTAMP:20260420T034518
CREATED:20251116T192605Z
LAST-MODIFIED:20251116T192605Z
UID:10007752-1776709800-1776724200@philomathnews.com
SUMMARY:Moonlight Country Mixer at the Grange
DESCRIPTION:Jamie Lee Dancing presents Moonlight Country Mixer. Every Monday 6:30-10:30 p.m. at Marys River Grange\, 24707 Grange Hall Rd.\, Philomath. Cost: $5. All ages welcome. Parking limited to Grange Hall lot. Country swing and line dance lessons from 6:30-7:30.
URL:https://philomathnews.com/event/moonlight-country-mixer-at-the-grange/2026-04-20/
LOCATION:Marys River Grange Hall\, 24707 Grange Hall Road\, Philomath\, OR\, 97370
CATEGORIES:Arts and Entertainment
ATTACH;FMTTYPE=image/jpeg:https://philomathnews.com/wp-content/uploads/2025/09/081325-mrg-sign_8863-scaled.jpg
ORGANIZER;CN="Jamie Lee Dancing":MAILTO:Jamieleedancing@gmail.com
END:VEVENT
END:VCALENDAR