BEGIN:VCALENDAR
VERSION:2.0
PRODID:-//Philomath News - ECPv6.15.20//NONSGML v1.0//EN
CALSCALE:GREGORIAN
METHOD:PUBLISH
X-ORIGINAL-URL:https://philomathnews.com
X-WR-CALDESC:Events for Philomath News
REFRESH-INTERVAL;VALUE=DURATION:PT1H
X-Robots-Tag:noindex
X-PUBLISHED-TTL:PT1H
BEGIN:VTIMEZONE
TZID:America/Los_Angeles
BEGIN:DAYLIGHT
TZOFFSETFROM:-0800
TZOFFSETTO:-0700
TZNAME:PDT
DTSTART:20250309T100000
END:DAYLIGHT
BEGIN:STANDARD
TZOFFSETFROM:-0700
TZOFFSETTO:-0800
TZNAME:PST
DTSTART:20251102T090000
END:STANDARD
BEGIN:DAYLIGHT
TZOFFSETFROM:-0800
TZOFFSETTO:-0700
TZNAME:PDT
DTSTART:20260308T100000
END:DAYLIGHT
BEGIN:STANDARD
TZOFFSETFROM:-0700
TZOFFSETTO:-0800
TZNAME:PST
DTSTART:20261101T090000
END:STANDARD
BEGIN:DAYLIGHT
TZOFFSETFROM:-0800
TZOFFSETTO:-0700
TZNAME:PDT
DTSTART:20270314T100000
END:DAYLIGHT
BEGIN:STANDARD
TZOFFSETFROM:-0700
TZOFFSETTO:-0800
TZNAME:PST
DTSTART:20271107T090000
END:STANDARD
END:VTIMEZONE
BEGIN:VEVENT
DTSTART;TZID=America/Los_Angeles:20260402T173000
DTEND;TZID=America/Los_Angeles:20260402T173000
DTSTAMP:20260422T032547
CREATED:20260323T214837Z
LAST-MODIFIED:20260323T214837Z
UID:10011846-1775151000-1775151000@philomathnews.com
SUMMARY:Philomath Public Art Committee Meeting
DESCRIPTION:The Philomath Public Art Committee is scheduled to meet at 5:30 p.m. Thursday\, April 2\, at City Hall. \nMeeting Participation Instructions\nThis meeting is being held in-person at the City Hall Council Chambers\, and the public is invited to attend. Public comments and testimonies are also available via written or electronic participation. City meetings are live-streamed on the City’s YouTube channel.\nSpeaking in Person: Please fill out a Speaker Request Form on the table near the doors and give it to the City Recorder. If you have a written statement for the Council\, please email it or provide 10 copies to the City Recorder who will distribute them to the Council.\nSpeaking Virtually: Register to speak by contacting the City Manager’s office before 4:00 PM the day of the meeting. Email cityhall@philomathoregon.gov or call 541-929-6148 to provide your name\, phone number\, address\, email\, and topic. Presentation materials should be submitted as written testimony.\nADA Accessibility: The City will strive to accommodate for all residents. City Hall is ADA accessible meeting space. Given at least two business days’ notice\, an interpreter can be provided for the hearing impaired or those with limited proficiency in English.\nContact the City Manager’s Office to make interpreter arrangements:\n541-929-6148 | cityhall@philomathoregon.gov | PO Box 400\, Philomath\, OR 97370
URL:https://philomathnews.com/event/philomath-public-art-committee-meeting-2/
LOCATION:Philomath City Hall\, 980 Applegate St.\, Philomath
CATEGORIES:Government
ATTACH;FMTTYPE=image/jpeg:https://philomathnews.com/wp-content/uploads/2025/01/011525-city-hall-file_1596-scaled.jpeg
END:VEVENT
BEGIN:VEVENT
DTSTART;TZID=America/Los_Angeles:20260402T180000
DTEND;TZID=America/Los_Angeles:20260402T180000
DTSTAMP:20260422T032547
CREATED:20260323T220323Z
LAST-MODIFIED:20260323T220323Z
UID:10011850-1775152800-1775152800@philomathnews.com
SUMMARY:PHS Boys Volleyball at Crosshill Christian
DESCRIPTION:The Philomath High boys volleyball team is scheduled to play at 6 p.m. Thursday\, April 2\, at Crosshill Christian in Turner.
URL:https://philomathnews.com/event/phs-boys-volleyball-at-crosshill-christian/
LOCATION:Crosshill Christian School\, 2707 Maranatha Ct SE\, Turner\, OR\, 97392
CATEGORIES:Athletics
ATTACH;FMTTYPE=image/jpeg:https://philomathnews.com/wp-content/uploads/2025/05/050625-bvb-aynes_6346-scaled.jpg
ORGANIZER;CN="Crosshill Christian School":MAILTO:info@crosshillchristian.com
END:VEVENT
BEGIN:VEVENT
DTSTART;TZID=America/Los_Angeles:20260402T190000
DTEND;TZID=America/Los_Angeles:20260402T190000
DTSTAMP:20260422T032547
CREATED:20260323T215404Z
LAST-MODIFIED:20260323T215404Z
UID:10011848-1775156400-1775156400@philomathnews.com
SUMMARY:Philomath All-District Band Concert
DESCRIPTION:The Philomath All-District Band Concert is scheduled for 7 p.m. Thursday\, April 2\, in the Philomath High School auditorium.
URL:https://philomathnews.com/event/philomath-all-district-band-concert/
LOCATION:Philomath High School\, 2054 Applegate St.\, Philomath\, OR\, 97370
CATEGORIES:Arts and Entertainment,Schools
ATTACH;FMTTYPE=image/jpeg:https://philomathnews.com/wp-content/uploads/2021/11/080818-pe-nws-phs-file.jpg
END:VEVENT
END:VCALENDAR