BEGIN:VCALENDAR
VERSION:2.0
PRODID:-//Philomath News - ECPv6.15.20//NONSGML v1.0//EN
CALSCALE:GREGORIAN
METHOD:PUBLISH
X-ORIGINAL-URL:https://philomathnews.com
X-WR-CALDESC:Events for Philomath News
REFRESH-INTERVAL;VALUE=DURATION:PT1H
X-Robots-Tag:noindex
X-PUBLISHED-TTL:PT1H
BEGIN:VTIMEZONE
TZID:America/Los_Angeles
BEGIN:DAYLIGHT
TZOFFSETFROM:-0800
TZOFFSETTO:-0700
TZNAME:PDT
DTSTART:20250309T100000
END:DAYLIGHT
BEGIN:STANDARD
TZOFFSETFROM:-0700
TZOFFSETTO:-0800
TZNAME:PST
DTSTART:20251102T090000
END:STANDARD
BEGIN:DAYLIGHT
TZOFFSETFROM:-0800
TZOFFSETTO:-0700
TZNAME:PDT
DTSTART:20260308T100000
END:DAYLIGHT
BEGIN:STANDARD
TZOFFSETFROM:-0700
TZOFFSETTO:-0800
TZNAME:PST
DTSTART:20261101T090000
END:STANDARD
BEGIN:DAYLIGHT
TZOFFSETFROM:-0800
TZOFFSETTO:-0700
TZNAME:PDT
DTSTART:20270314T100000
END:DAYLIGHT
BEGIN:STANDARD
TZOFFSETFROM:-0700
TZOFFSETTO:-0800
TZNAME:PST
DTSTART:20271107T090000
END:STANDARD
END:VTIMEZONE
BEGIN:VEVENT
DTSTART;TZID=America/Los_Angeles:20260327T083000
DTEND;TZID=America/Los_Angeles:20260327T083000
DTSTAMP:20260420T104855
CREATED:20260323T154015Z
LAST-MODIFIED:20260323T154015Z
UID:10011836-1774600200-1774600200@philomathnews.com
SUMMARY:Heritage Tree Board Meeting
DESCRIPTION:The Philomath Heritage Tree Board plans to meet at 8:30 a.m. Friday\, March 27\, at Philomath City Hall. \nThis meeting is being held in-person at the City Hall Council Chambers\, and the public is invited to attend. Public comments and testimonies are also available via written or electronic participation. City meetings are live-streamed on the City’s YouTube channel. \nSpeaking in Person: Please fill out a Speaker Request Form on the table near the doors and give it to the City Recorder. If you have a written statement for the Committee\, please email it or provide 5 copies to the Committee members. \nSpeaking Virtually: Register to speak by contacting the City Manager’s office before 5:00 PM the day before the meeting. Email cityhall@philomathoregon.gov or call 541-929-6148 ext. 5 to provide your name\, phone number\, address\, email\, and topic. Presentation materials should be submitted as written testimony. \nADA Accessibility: The City will strive to accommodate for all residents. City Hall is ADA accessible meeting space. Given at least two business days’ notice\, an interpreter can be provided for the hearing impaired or those with limited proficiency in English. Contact the City Manager’s Office to make interpreter arrangements.
URL:https://philomathnews.com/event/heritage-tree-board-meeting-2/
LOCATION:Philomath City Hall\, 980 Applegate St.\, Philomath
CATEGORIES:Government
ATTACH;FMTTYPE=image/jpeg:https://philomathnews.com/wp-content/uploads/2024/04/040924-mt-union-tree_8689-scaled.jpeg
END:VEVENT
BEGIN:VEVENT
DTSTART;TZID=America/Los_Angeles:20260327T183000
DTEND;TZID=America/Los_Angeles:20260327T200000
DTSTAMP:20260420T104855
CREATED:20260323T160151Z
LAST-MODIFIED:20260323T160151Z
UID:10011838-1774636200-1774641600@philomathnews.com
SUMMARY:NERF Night for Tweens at the Library
DESCRIPTION:Friday\, March 27 at Philomath Community Library\, 6:30-8:00 p.m.\nProgram Type: Entertainment\nAge Group: Tweens\nRegistration is required for this event. (Link to register online)\nRegistration will close on March 27 @ 3:00pm.\nThis event is for registrants grade 4th Grade to 8th Grade.\nEvent Details\nTweens in 4th through 8th grade\, come play Nerf Games in the library!\nParticipants MUST register to attend this event; day-of walk-ins may not be accepted.\nThe library will provide all Nerf blasters\, darts\, and snacks. Tweens\, no need to bring your own blasters to this beginner friendly Nerf event.
URL:https://philomathnews.com/event/nerf-night-for-tweens-at-the-library/
LOCATION:Philomath Community Library\, 1050 Applegate\, Philomath\, OR\, 97370
CATEGORIES:Library
ATTACH;FMTTYPE=image/jpeg:https://philomathnews.com/wp-content/uploads/2022/08/081522-library-file_7767-scaled.jpeg
END:VEVENT
END:VCALENDAR