BEGIN:VCALENDAR
VERSION:2.0
PRODID:-//Philomath News - ECPv6.15.20//NONSGML v1.0//EN
CALSCALE:GREGORIAN
METHOD:PUBLISH
X-WR-CALNAME:Philomath News
X-ORIGINAL-URL:https://philomathnews.com
X-WR-CALDESC:Events for Philomath News
REFRESH-INTERVAL;VALUE=DURATION:PT1H
X-Robots-Tag:noindex
X-PUBLISHED-TTL:PT1H
BEGIN:VTIMEZONE
TZID:America/Los_Angeles
BEGIN:DAYLIGHT
TZOFFSETFROM:-0800
TZOFFSETTO:-0700
TZNAME:PDT
DTSTART:20250309T100000
END:DAYLIGHT
BEGIN:STANDARD
TZOFFSETFROM:-0700
TZOFFSETTO:-0800
TZNAME:PST
DTSTART:20251102T090000
END:STANDARD
BEGIN:DAYLIGHT
TZOFFSETFROM:-0800
TZOFFSETTO:-0700
TZNAME:PDT
DTSTART:20260308T100000
END:DAYLIGHT
BEGIN:STANDARD
TZOFFSETFROM:-0700
TZOFFSETTO:-0800
TZNAME:PST
DTSTART:20261101T090000
END:STANDARD
BEGIN:DAYLIGHT
TZOFFSETFROM:-0800
TZOFFSETTO:-0700
TZNAME:PDT
DTSTART:20270314T100000
END:DAYLIGHT
BEGIN:STANDARD
TZOFFSETFROM:-0700
TZOFFSETTO:-0800
TZNAME:PST
DTSTART:20271107T090000
END:STANDARD
END:VTIMEZONE
BEGIN:VEVENT
DTSTART;TZID=America/Los_Angeles:20260324T110000
DTEND;TZID=America/Los_Angeles:20260324T110000
DTSTAMP:20260420T121212
CREATED:20260319T155649Z
LAST-MODIFIED:20260319T155649Z
UID:10011829-1774350000-1774350000@philomathnews.com
SUMMARY:PHS Softball vs. Yamhill-Carlton (at Newport)
DESCRIPTION:The Philomath High School softball team is scheduled to play at 11 a.m. Tuesday\, March 24 vs. Yamhill-Carlton in the Battle of the Beach tournament at Newport High School.
URL:https://philomathnews.com/event/phs-softball-vs-yamhill-carlton-at-newport/
LOCATION:Newport High School\, 322 NE Eads St\, Newport\, OR\, 97365
CATEGORIES:Athletics
ATTACH;FMTTYPE=image/jpeg:https://philomathnews.com/wp-content/uploads/2026/03/031626-sb-logo-dugout_0922-scaled.jpeg
END:VEVENT
BEGIN:VEVENT
DTSTART;TZID=America/Los_Angeles:20260324T130000
DTEND;TZID=America/Los_Angeles:20260324T130000
DTSTAMP:20260420T121212
CREATED:20260319T155742Z
LAST-MODIFIED:20260319T155742Z
UID:10011830-1774357200-1774357200@philomathnews.com
SUMMARY:PHS Softball vs. Nyssa (at Newport)
DESCRIPTION:The Philomath High School softball team is scheduled to play at 1 p.m. Tuesday\, March 24 vs. Nyssa in the Battle of the Beach tournament at Newport High School.
URL:https://philomathnews.com/event/phs-softball-vs-nyssa-at-newport/
LOCATION:Newport High School\, 322 NE Eads St\, Newport\, OR\, 97365
CATEGORIES:Athletics
ATTACH;FMTTYPE=image/jpeg:https://philomathnews.com/wp-content/uploads/2026/03/031626-sb-logo-dugout_0922-scaled.jpeg
END:VEVENT
BEGIN:VEVENT
DTSTART;TZID=America/Los_Angeles:20260324T153000
DTEND;TZID=America/Los_Angeles:20260324T163000
DTSTAMP:20260420T121212
CREATED:20260319T154807Z
LAST-MODIFIED:20260319T155240Z
UID:10011826-1774366200-1774369800@philomathnews.com
SUMMARY:NASA Ambassador: The Moon at the Library
DESCRIPTION:Tuesday\, March 24 at Philomath Community Library\, 3:30pm–4:30pm\nProgram Type: Arts & Crafts\, Educational\nAge Group: Everyone\, Birth to 5\, Children\, Tweens\, Teens\, Adults\, Seniors\nEvent Details\nBlast off to the Moon! Is the Moon really made of cheese? What’s on the “dark side”? Join us as we explore how valleys and craters form\, discover what the Moon is truly made of\, and uncover hidden surface features through fun\, hands-on experiments. For elementary to middle school aged friends – become a lunar scientist for the day!
URL:https://philomathnews.com/event/nasa-ambassador-the-moon-at-the-library/
LOCATION:Philomath Community Library\, 1050 Applegate\, Philomath\, OR\, 97370
CATEGORIES:Library
ATTACH;FMTTYPE=image/jpeg:https://philomathnews.com/wp-content/uploads/2022/08/081522-library-file_7767-scaled.jpeg
END:VEVENT
BEGIN:VEVENT
DTSTART;TZID=America/Los_Angeles:20260324T173000
DTEND;TZID=America/Los_Angeles:20260324T173000
DTSTAMP:20260420T121212
CREATED:20251116T225534Z
LAST-MODIFIED:20251116T225615Z
UID:10010193-1774373400-1774373400@philomathnews.com
SUMMARY:Philomath Inclusivity Committee Meeting
DESCRIPTION:Agenda packets are posted to the website by the Friday prior to the meeting. \nMeeting Access Information:  \nThis meeting is being held in-person at the City Hall Council Chambers\, and the public is invited to attend.  Public participation is also available electonically upon request. City meetings are live-streamed on the City’s YouTube channel at: City of Philomath – YouTube. This is a public page; no account or user fee is required. \nGiven two business days’ notice\, an interpreter can be provided for the hearing impaired or those with limited proficiency in English. Contact the City Manager’s Office to make interpreter or electronic participation arrangements. \nCity Manager’s Office: 541-929-6148; cityhall@philomathoregon.gov; PO Box 400\, Philomath\, OR 97370
URL:https://philomathnews.com/event/philomath-inclusivity-committee-meeting/2026-03-24/
LOCATION:Philomath City Hall\, 980 Applegate St.\, Philomath
CATEGORIES:Government
ATTACH;FMTTYPE=image/jpeg:https://philomathnews.com/wp-content/uploads/2025/01/011525-city-hall-file_1596-scaled.jpeg
END:VEVENT
BEGIN:VEVENT
DTSTART;TZID=America/Los_Angeles:20260324T174500
DTEND;TZID=America/Los_Angeles:20260324T194500
DTSTAMP:20260420T121212
CREATED:20251116T230026Z
LAST-MODIFIED:20251223T154053Z
UID:10011367-1774374300-1774381500@philomathnews.com
SUMMARY:Wren Book Club Meeting
DESCRIPTION:The Wren Book Club meets on the fourth Tuesday of the month from 5:45-7:45 p.m. at Wren Community Hall.
URL:https://philomathnews.com/event/wren-book-club-meeting/2026-03-24/
LOCATION:Wren Community Hall\, 35515 Kings Valley Hwy\, Philomath\, OR\, 97370
CATEGORIES:Clubs and Organizations
ATTACH;FMTTYPE=image/jpeg:https://philomathnews.com/wp-content/uploads/2022/05/052522-wren-community-hall-philo-photos_5994.jpeg
END:VEVENT
BEGIN:VEVENT
DTSTART;TZID=America/Los_Angeles:20260324T180000
DTEND;TZID=America/Los_Angeles:20260324T190000
DTSTAMP:20260420T121212
CREATED:20251116T192954Z
LAST-MODIFIED:20251116T193042Z
UID:10008009-1774375200-1774378800@philomathnews.com
SUMMARY:Philomath Community Meal
DESCRIPTION:Free meal and fellowship — everyone welcome! Live music\, prayer room\, delicious meal. Sponsored by Philomath Area Churches.
URL:https://philomathnews.com/event/philomath-community-meal/2026-03-24/
LOCATION:College United Methodist Church\, 1123 Main St.\, Philomath\, OR\, 97370
CATEGORIES:Community
ATTACH;FMTTYPE=image/jpeg:https://philomathnews.com/wp-content/uploads/2024/11/112424-community-dinner-sign_256.jpg
ORGANIZER;CN="College United Methodist Church":MAILTO:collegeumc@gmail.com
END:VEVENT
BEGIN:VEVENT
DTSTART;TZID=America/Los_Angeles:20260324T183000
DTEND;TZID=America/Los_Angeles:20260324T183000
DTSTAMP:20260420T121212
CREATED:20260319T160023Z
LAST-MODIFIED:20260319T160023Z
UID:10011831-1774377000-1774377000@philomathnews.com
SUMMARY:PHS Baseball vs. Henley (at The Dalles)
DESCRIPTION:The Philomath High School baseball team is scheduled to play Henley at The Dalles Spring Break Tournament at 6:30 p.m. Tuesday\, March 24 at Quinton Street Ballpark.
URL:https://philomathnews.com/event/phs-baseball-vs-henley-at-the-dalles/
LOCATION:Quinton Street Ball Park\, 220 E. 10th St.\, The Dalles\, OR\, 97058
CATEGORIES:Athletics
ATTACH;FMTTYPE=image/jpeg:https://philomathnews.com/wp-content/uploads/2026/03/031826-bb-Griffith-01.jpg
END:VEVENT
END:VCALENDAR