BEGIN:VCALENDAR
VERSION:2.0
PRODID:-//Philomath News - ECPv6.15.20//NONSGML v1.0//EN
CALSCALE:GREGORIAN
METHOD:PUBLISH
X-ORIGINAL-URL:https://philomathnews.com
X-WR-CALDESC:Events for Philomath News
REFRESH-INTERVAL;VALUE=DURATION:PT1H
X-Robots-Tag:noindex
X-PUBLISHED-TTL:PT1H
BEGIN:VTIMEZONE
TZID:America/Los_Angeles
BEGIN:DAYLIGHT
TZOFFSETFROM:-0800
TZOFFSETTO:-0700
TZNAME:PDT
DTSTART:20250309T100000
END:DAYLIGHT
BEGIN:STANDARD
TZOFFSETFROM:-0700
TZOFFSETTO:-0800
TZNAME:PST
DTSTART:20251102T090000
END:STANDARD
BEGIN:DAYLIGHT
TZOFFSETFROM:-0800
TZOFFSETTO:-0700
TZNAME:PDT
DTSTART:20260308T100000
END:DAYLIGHT
BEGIN:STANDARD
TZOFFSETFROM:-0700
TZOFFSETTO:-0800
TZNAME:PST
DTSTART:20261101T090000
END:STANDARD
BEGIN:DAYLIGHT
TZOFFSETFROM:-0800
TZOFFSETTO:-0700
TZNAME:PDT
DTSTART:20270314T100000
END:DAYLIGHT
BEGIN:STANDARD
TZOFFSETFROM:-0700
TZOFFSETTO:-0800
TZNAME:PST
DTSTART:20271107T090000
END:STANDARD
END:VTIMEZONE
BEGIN:VEVENT
DTSTART;TZID=America/Los_Angeles:20260323T090000
DTEND;TZID=America/Los_Angeles:20260323T090000
DTSTAMP:20260422T103909
CREATED:20251116T054312Z
LAST-MODIFIED:20251116T054312Z
UID:10007225-1774256400-1774256400@philomathnews.com
SUMMARY:Philomath TOPS Meeting
DESCRIPTION:The Philomath chapter of TOPS (Take Off Pounds Sensibly) meets at 9 a.m. Mondays at Peace Lutheran Church with weigh-in preceding the meeting from 8:30-9 a.m.
URL:https://philomathnews.com/event/philomath-tops-meeting/2026-03-23/
LOCATION:Peace Lutheran Church\, 2540 Applegate St.\, Philomath\, OR\, 97370
CATEGORIES:Clubs and Organizations
ATTACH;FMTTYPE=image/jpeg:https://philomathnews.com/wp-content/uploads/2023/02/Peace-Lutheran-Church1-2020-scaled.jpg
END:VEVENT
BEGIN:VEVENT
DTSTART;TZID=America/Los_Angeles:20260323T090000
DTEND;TZID=America/Los_Angeles:20260323T090000
DTSTAMP:20260422T103909
CREATED:20260317T040734Z
LAST-MODIFIED:20260317T040734Z
UID:10011819-1774256400-1774256400@philomathnews.com
SUMMARY:PHS Softball vs. Pendleton (at Newport)
DESCRIPTION:The Philomath High School softball team is scheduled to play at 9 a.m. Monday\, March 23 vs. Pendleton in the Battle of the Beach tournament at Newport High School.
URL:https://philomathnews.com/event/phs-softball-vs-pendleton-at-newport/
LOCATION:Newport High School\, 322 NE Eads St\, Newport\, OR\, 97365
CATEGORIES:Athletics
ATTACH;FMTTYPE=image/jpeg:https://philomathnews.com/wp-content/uploads/2026/03/031626-sb-logo-dugout_0922-scaled.jpeg
END:VEVENT
BEGIN:VEVENT
DTSTART;TZID=America/Los_Angeles:20260323T100000
DTEND;TZID=America/Los_Angeles:20260323T100000
DTSTAMP:20260422T103909
CREATED:20251116T185922Z
LAST-MODIFIED:20251116T185922Z
UID:10007486-1774260000-1774260000@philomathnews.com
SUMMARY:Dementia Warriors Coffee Connections
DESCRIPTION:Dementia Warriors Coffee Connections meets at 10 a.m. Mondays at Timber Towne Coffee in Philomath. From the organizer: “Come savor this casual opportunity to connect and laugh with people with dementia/Alzheimer’s and caregivers.”
URL:https://philomathnews.com/event/dementia-warriors-coffee-connections/2026-03-23/
LOCATION:Timber Towne Coffee\, 1427 Main St.\, Philomath\, OR\, 97370
CATEGORIES:Clubs and Organizations
ATTACH;FMTTYPE=image/jpeg:https://philomathnews.com/wp-content/uploads/2025/01/020422-Douglas-The-Truck-At-Timber-Townejpg.jpg
ORGANIZER;CN="Dementia Warriors":MAILTO:dementiaadvocacy16@gmail.com
END:VEVENT
BEGIN:VEVENT
DTSTART;TZID=America/Los_Angeles:20260323T123000
DTEND;TZID=America/Los_Angeles:20260323T123000
DTSTAMP:20260422T103909
CREATED:20260317T040339Z
LAST-MODIFIED:20260317T040339Z
UID:10011818-1774269000-1774269000@philomathnews.com
SUMMARY:PHS Baseball vs. Astoria (at The Dalles)
DESCRIPTION:The Philomath High School baseball team is scheduled to play Astoria at The Dalles Spring Break Tournament at 12:30 p.m. Monday\, March 23 at Quinton Street Ballpark.
URL:https://philomathnews.com/event/phs-baseball-vs-astoria-at-the-dalles/
LOCATION:Quinton Street Ball Park\, 220 E. 10th St.\, The Dalles\, OR\, 97058
CATEGORIES:Athletics
ATTACH;FMTTYPE=image/jpeg:https://philomathnews.com/wp-content/uploads/2025/04/040525-bb-artwork-dugout_2460-scaled.jpeg
END:VEVENT
BEGIN:VEVENT
DTSTART;TZID=America/Los_Angeles:20260323T130000
DTEND;TZID=America/Los_Angeles:20260323T130000
DTSTAMP:20260422T103909
CREATED:20260320T210047Z
LAST-MODIFIED:20260320T210047Z
UID:10011834-1774270800-1774270800@philomathnews.com
SUMMARY:PHS Softball vs. Estacada (at Newport)
DESCRIPTION:The Philomath High School softball team is scheduled to play at 1 p.m. Monday\, March 23 vs. Estacada in the Battle of the Beach tournament at Newport High School.
URL:https://philomathnews.com/event/phs-softball-vs-estacada-at-newport/
LOCATION:Newport High School\, 322 NE Eads St\, Newport\, OR\, 97365
CATEGORIES:Athletics
ATTACH;FMTTYPE=image/jpeg:https://philomathnews.com/wp-content/uploads/2026/03/031626-sb-logo-dugout_0922-scaled.jpeg
END:VEVENT
BEGIN:VEVENT
DTSTART;TZID=America/Los_Angeles:20260323T153000
DTEND;TZID=America/Los_Angeles:20260323T163000
DTSTAMP:20260422T103909
CREATED:20260317T035733Z
LAST-MODIFIED:20260319T154858Z
UID:10011816-1774279800-1774283400@philomathnews.com
SUMMARY:Science Magic at City Hall
DESCRIPTION:Monday\, March 23 at Philomath City Council Chambers\, 3:30pm–4:30pm\nProgram Type: Educational\, Entertainment\nAge Group: Everyone\, Birth to 5\, Children\, Tweens\, Teens\, Adults\, Seniors\nEvent Details\nJeff Evans’ Science Magic assembly is an interactive mix of science and magic. Students are exposed to the characteristics of solids\, liquids\, and gases. The properties of air pressure\, static electricity\, center of mass\, and density are visually demonstrated.
URL:https://philomathnews.com/event/science-magic-at-city-hall/
LOCATION:Philomath City Hall\, 980 Applegate St.\, Philomath
CATEGORIES:Library
ATTACH;FMTTYPE=image/jpeg:https://philomathnews.com/wp-content/uploads/2024/01/121423-bulletin-board-philo-photos_6230.jpeg
END:VEVENT
BEGIN:VEVENT
DTSTART;TZID=America/Los_Angeles:20260323T183000
DTEND;TZID=America/Los_Angeles:20260323T223000
DTSTAMP:20260422T103909
CREATED:20251116T192605Z
LAST-MODIFIED:20251116T192605Z
UID:10007748-1774290600-1774305000@philomathnews.com
SUMMARY:Moonlight Country Mixer at the Grange
DESCRIPTION:Jamie Lee Dancing presents Moonlight Country Mixer. Every Monday 6:30-10:30 p.m. at Marys River Grange\, 24707 Grange Hall Rd.\, Philomath. Cost: $5. All ages welcome. Parking limited to Grange Hall lot. Country swing and line dance lessons from 6:30-7:30.
URL:https://philomathnews.com/event/moonlight-country-mixer-at-the-grange/2026-03-23/
LOCATION:Marys River Grange Hall\, 24707 Grange Hall Road\, Philomath\, OR\, 97370
CATEGORIES:Arts and Entertainment
ATTACH;FMTTYPE=image/jpeg:https://philomathnews.com/wp-content/uploads/2025/09/081325-mrg-sign_8863-scaled.jpg
ORGANIZER;CN="Jamie Lee Dancing":MAILTO:Jamieleedancing@gmail.com
END:VEVENT
END:VCALENDAR