BEGIN:VCALENDAR
VERSION:2.0
PRODID:-//Philomath News - ECPv6.15.20//NONSGML v1.0//EN
CALSCALE:GREGORIAN
METHOD:PUBLISH
X-ORIGINAL-URL:https://philomathnews.com
X-WR-CALDESC:Events for Philomath News
REFRESH-INTERVAL;VALUE=DURATION:PT1H
X-Robots-Tag:noindex
X-PUBLISHED-TTL:PT1H
BEGIN:VTIMEZONE
TZID:America/Los_Angeles
BEGIN:DAYLIGHT
TZOFFSETFROM:-0800
TZOFFSETTO:-0700
TZNAME:PDT
DTSTART:20250309T100000
END:DAYLIGHT
BEGIN:STANDARD
TZOFFSETFROM:-0700
TZOFFSETTO:-0800
TZNAME:PST
DTSTART:20251102T090000
END:STANDARD
BEGIN:DAYLIGHT
TZOFFSETFROM:-0800
TZOFFSETTO:-0700
TZNAME:PDT
DTSTART:20260308T100000
END:DAYLIGHT
BEGIN:STANDARD
TZOFFSETFROM:-0700
TZOFFSETTO:-0800
TZNAME:PST
DTSTART:20261101T090000
END:STANDARD
BEGIN:DAYLIGHT
TZOFFSETFROM:-0800
TZOFFSETTO:-0700
TZNAME:PDT
DTSTART:20270314T100000
END:DAYLIGHT
BEGIN:STANDARD
TZOFFSETFROM:-0700
TZOFFSETTO:-0800
TZNAME:PST
DTSTART:20271107T090000
END:STANDARD
END:VTIMEZONE
BEGIN:VEVENT
DTSTART;TZID=America/Los_Angeles:20260321T090000
DTEND;TZID=America/Los_Angeles:20260321T130000
DTSTAMP:20260422T100356
CREATED:20251226T194733Z
LAST-MODIFIED:20260319T050414Z
UID:10011498-1774083600-1774098000@philomathnews.com
SUMMARY:Corvallis Indoor Winter Market
DESCRIPTION:The 2026 winter market season begins Jan. 10\, 2026. \nThe winter market again will be matching SNAP with Double Up Food Bucks up to $20 per market . This is the same program offered at other farmers’ markets during the regular season. \nOutdoor markets in Corvallis and Albany are run by Corvallis-Albany Farmers’ Markets. Please visit their page\, www.locallygrown.org\, for information about regular season markets. \nMarket hours are 9 a.m. to 1 p.m. every Saturday in Guerber Hall at the Benton County Fairgrounds.
URL:https://philomathnews.com/event/corvallis-indoor-winter-market/2026-03-21/
LOCATION:Benton County Fairgrounds\, 110 SW 53rd St.\, Corvallis\, OR\, 97333
CATEGORIES:Clubs and Organizations
ATTACH;FMTTYPE=image/jpeg:https://philomathnews.com/wp-content/uploads/2023/02/020523-fresh-veggies-philo-photos_9833.jpg
ORGANIZER;CN="Corvallis-Albany Farmers' Markets":MAILTO:cafm@locallygrown.org
END:VEVENT
BEGIN:VEVENT
DTSTART;TZID=America/Los_Angeles:20260321T093000
DTEND;TZID=America/Los_Angeles:20260321T110000
DTSTAMP:20260422T100356
CREATED:20260119T183548Z
LAST-MODIFIED:20260119T183548Z
UID:10011667-1774085400-1774090800@philomathnews.com
SUMMARY:Councilor Coffee
DESCRIPTION:City Councilors want to chat with the community! Councilor Coffee takes place at 9:30 a.m. on the third Saturday each month through March at Timber Towne Coffee (1427 Main St.). Residents can drop by to have an informal conversation with a City Council member (or two). Stop by for a cuppa or just a chat; either way\, your City Council looks forward to meeting with you.
URL:https://philomathnews.com/event/councilor-coffee-2/
LOCATION:Timber Towne Coffee\, 1427 Main St.\, Philomath\, OR\, 97370
CATEGORIES:Government
ATTACH;FMTTYPE=image/jpeg:https://philomathnews.com/wp-content/uploads/2024/11/pexels-photo-585753.jpeg
END:VEVENT
BEGIN:VEVENT
DTSTART;TZID=America/Los_Angeles:20260321T110000
DTEND;TZID=America/Los_Angeles:20260321T110000
DTSTAMP:20260422T100356
CREATED:20260317T042608Z
LAST-MODIFIED:20260317T042608Z
UID:10011824-1774090800-1774090800@philomathnews.com
SUMMARY:Peoria Gardens – Favorite Spring Perennials Show ‘n Tell at Shonnard's
DESCRIPTION:SATURDAY\, MARCH 21ST AT 11:00AM\nFREE TO JOIN \nThis short class will spotlight the upcoming perennials that we’re bringing in from Peoria Gardens this spring. \nPerennials are great for patio pots\, hanging baskets\, cut flowers\, and beautifying the landscape! Presented by Shay Boga\, Peoria Gardens Perennial Production Leader\, you’ll also get the insiders scoop on Peoria’s perennial plant operation and how Shay plans the plant menu for the year.
URL:https://philomathnews.com/event/peoria-gardens-favorite-spring-perennials-show-n-tell-at-shonnards/
LOCATION:Shonnard’s Nursery\, 6600 Philomath Blvd\, Corvallis\, OR\, 97333
CATEGORIES:Classes and Workshops
ATTACH;FMTTYPE=image/png:https://philomathnews.com/wp-content/uploads/2026/03/031626-shonnards-logo.png
END:VEVENT
BEGIN:VEVENT
DTSTART;TZID=America/Los_Angeles:20260321T110000
DTEND;TZID=America/Los_Angeles:20260321T120000
DTSTAMP:20260422T100356
CREATED:20260119T194009Z
LAST-MODIFIED:20260119T194009Z
UID:10011684-1774090800-1774094400@philomathnews.com
SUMMARY:Lego Saturday at the Library
DESCRIPTION:Children and their families are invited to an hour of free play building and creating with LEGOs and Duplos.
URL:https://philomathnews.com/event/lego-saturday-at-the-library-4/
LOCATION:Philomath Community Library\, 1050 Applegate\, Philomath\, OR\, 97370
CATEGORIES:Library
ATTACH;FMTTYPE=image/jpeg:https://philomathnews.com/wp-content/uploads/2022/08/071822-library-file-2022_7292-scaled.jpeg
END:VEVENT
BEGIN:VEVENT
DTSTART;TZID=America/Los_Angeles:20260321T150000
DTEND;TZID=America/Los_Angeles:20260321T150000
DTSTAMP:20260422T100356
CREATED:20260317T040026Z
LAST-MODIFIED:20260317T040026Z
UID:10011817-1774105200-1774105200@philomathnews.com
SUMMARY:PHS Shining Stars at Dance Drill State Championships
DESCRIPTION:The Philomath High School Shining Stars dance team is scheduled to compete at the OSAA Dance Drill State Championships at 3 p.m. Saturday\, March 21\, at Salem Pavilion. PHS is scheduled to perform at 4:25 p.m.
URL:https://philomathnews.com/event/phs-shining-stars-at-dance-drill-state-championships/
LOCATION:Salem Pavilion\, 2330 17th St. NE\, Salem\, OR\, 97301
CATEGORIES:Athletics
ATTACH;FMTTYPE=image/png:https://philomathnews.com/wp-content/uploads/2026/02/020526-shining-stars-group.png
ORGANIZER;CN="Oregon School Activities Association":MAILTO:info@osaa.org
END:VEVENT
END:VCALENDAR