BEGIN:VCALENDAR
VERSION:2.0
PRODID:-//Philomath News - ECPv6.15.20//NONSGML v1.0//EN
CALSCALE:GREGORIAN
METHOD:PUBLISH
X-ORIGINAL-URL:https://philomathnews.com
X-WR-CALDESC:Events for Philomath News
REFRESH-INTERVAL;VALUE=DURATION:PT1H
X-Robots-Tag:noindex
X-PUBLISHED-TTL:PT1H
BEGIN:VTIMEZONE
TZID:America/Los_Angeles
BEGIN:DAYLIGHT
TZOFFSETFROM:-0800
TZOFFSETTO:-0700
TZNAME:PDT
DTSTART:20250309T100000
END:DAYLIGHT
BEGIN:STANDARD
TZOFFSETFROM:-0700
TZOFFSETTO:-0800
TZNAME:PST
DTSTART:20251102T090000
END:STANDARD
BEGIN:DAYLIGHT
TZOFFSETFROM:-0800
TZOFFSETTO:-0700
TZNAME:PDT
DTSTART:20260308T100000
END:DAYLIGHT
BEGIN:STANDARD
TZOFFSETFROM:-0700
TZOFFSETTO:-0800
TZNAME:PST
DTSTART:20261101T090000
END:STANDARD
BEGIN:DAYLIGHT
TZOFFSETFROM:-0800
TZOFFSETTO:-0700
TZNAME:PDT
DTSTART:20270314T100000
END:DAYLIGHT
BEGIN:STANDARD
TZOFFSETFROM:-0700
TZOFFSETTO:-0800
TZNAME:PST
DTSTART:20271107T090000
END:STANDARD
END:VTIMEZONE
BEGIN:VEVENT
DTSTART;TZID=America/Los_Angeles:20260319T103000
DTEND;TZID=America/Los_Angeles:20260319T103000
DTSTAMP:20260424T070310
CREATED:20260317T042315Z
LAST-MODIFIED:20260317T042315Z
UID:10011823-1773916200-1773916200@philomathnews.com
SUMMARY:Growing Strawberries for Beginners Class at Shonnard's
DESCRIPTION:Growing Strawberries for Beginners Class\nThursday\, March 19th at 10:30am\nFREE CLASS\nWe’ll discuss the strawberry varieties that are available this year and when they’ll be ready for picking. Learn the basics on planting and care to produce the best crop this season.
URL:https://philomathnews.com/event/growing-strawberries-for-beginners-class-at-shonnards/
LOCATION:Shonnard’s Nursery\, 6600 Philomath Blvd\, Corvallis\, OR\, 97333
CATEGORIES:Classes and Workshops
ATTACH;FMTTYPE=image/png:https://philomathnews.com/wp-content/uploads/2026/03/031626-shonnards-logo.png
END:VEVENT
BEGIN:VEVENT
DTSTART;TZID=America/Los_Angeles:20260319T114500
DTEND;TZID=America/Los_Angeles:20260319T130000
DTSTAMP:20260424T070310
CREATED:20260317T041116Z
LAST-MODIFIED:20260317T041116Z
UID:10011821-1773920700-1773925200@philomathnews.com
SUMMARY:Philomath Area Chamber of Commerce Luncheon
DESCRIPTION:CHAMBER LUNCHEON: Benton County Schools Credit Union Fraud and Scam Presentation  \nRSVP required. Save $5.00  \n$15/person when preregistered.\n$20/person at the door with out an RSVP \nChamber Forum Luncheons are held the third Thursday of each month from 11:45 a.m. to 1:00 p.m. at Peace Lutheran Church at 2540 Applegate Street in Philomath. \nThese luncheons bring the general membership and guests together for networking\, in addition to inviting speakers who give topical presentations of interest.
URL:https://philomathnews.com/event/philomath-area-chamber-of-commerce-luncheon-5/
LOCATION:Peace Lutheran Church\, 2540 Applegate St.\, Philomath\, OR\, 97370
CATEGORIES:Business,Clubs and Organizations
ATTACH;FMTTYPE=image/jpeg:https://philomathnews.com/wp-content/uploads/2025/03/011625-chamber-logo-file_0576-scaled.jpg
ORGANIZER;CN="Philomath Area Chamber of Commerce":MAILTO:director@philomathchamber.org
END:VEVENT
BEGIN:VEVENT
DTSTART;TZID=America/Los_Angeles:20260319T153000
DTEND;TZID=America/Los_Angeles:20260319T170000
DTSTAMP:20260424T070310
CREATED:20260317T041712Z
LAST-MODIFIED:20260317T041712Z
UID:10011822-1773934200-1773939600@philomathnews.com
SUMMARY:Spring Equinox Floral Design Workshop at County Line Flowers
DESCRIPTION:Philomath business owner Pami Monnette of County Line Flowers will host a Spring Equinox Floral Design Workshop at her Philomath studio from 3:30-5 p.m. Thursday\, March 19. \nSpring equinox signifies the first day of spring in the Northern Hemisphere\, marking the moment the sun crosses the celestial equator\, creating nearly equal day and night lengths globally. It signifies renewal\, warmer weather\, and longer days! \nWe will be celebrating my creating spring bouquets boasting all of the glorious early blooms from Oregon: tulips\, anemones\, ranunculus\, lilies and lush filler & foliage like pieris\, ferns\, eucalyptus\, viburnum and more. \nThe class will be held at the cozy floral design studio and florist in Philomath. Enjoy a brief overview of floral design by Pami\, owner of County Line Flowers. Followed by a hands-on floral design workshop where you can customize and take home your creation. All supplies included. Light snacks included. \nLimited to 8 participants \n$55.00 per person. Call shop directly at 541-995-0885 to register and pay if you do not want to pay credit card fees.
URL:https://philomathnews.com/event/spring-equinox-floral-design-workshop-at-county-line-flowers/
LOCATION:County Line Flowers\, 1427 Main St.\, Philomath\, OR\, 97370
CATEGORIES:Classes and Workshops
ATTACH;FMTTYPE=image/jpeg:https://philomathnews.com/wp-content/uploads/2025/09/091725-county-line-flowers_4995-scaled.jpeg
ORGANIZER;CN="County Line Flowers":MAILTO:Countylineflowers@gmail.com
END:VEVENT
BEGIN:VEVENT
DTSTART;TZID=America/Los_Angeles:20260319T160000
DTEND;TZID=America/Los_Angeles:20260319T160000
DTSTAMP:20260424T070310
CREATED:20260310T035000Z
LAST-MODIFIED:20260310T035000Z
UID:10011802-1773936000-1773936000@philomathnews.com
SUMMARY:PHS Boys Tennis vs. Dallas
DESCRIPTION:The Philomath High School boys tennis team is scheduled to play at home vs. Dallas at 4 p.m. Thursday\, March 19.
URL:https://philomathnews.com/event/phs-boys-tennis-vs-dallas/
LOCATION:Philomath High School\, 2054 Applegate St.\, Philomath\, OR\, 97370
CATEGORIES:Athletics
ATTACH;FMTTYPE=image/jpeg:https://philomathnews.com/wp-content/uploads/2025/04/031625-tennis-artwork_2221-scaled.jpeg
END:VEVENT
BEGIN:VEVENT
DTSTART;TZID=America/Los_Angeles:20260319T160000
DTEND;TZID=America/Los_Angeles:20260319T160000
DTSTAMP:20260424T070310
CREATED:20260310T035535Z
LAST-MODIFIED:20260310T035535Z
UID:10011804-1773936000-1773936000@philomathnews.com
SUMMARY:PHS Girls Tennis at Dallas
DESCRIPTION:The Philomath High School girls tennis team is scheduled to play at Dallas at 4 p.m. Thursday\, March 19.
URL:https://philomathnews.com/event/phs-girls-tennis-at-dallas/
LOCATION:Dallas High School\, 1250 SE Holman Ave.\, Dallas\, OR\, 97338
CATEGORIES:Athletics
ATTACH;FMTTYPE=image/jpeg:https://philomathnews.com/wp-content/uploads/2025/03/031625-tennis-artwork_2213-scaled.jpeg
END:VEVENT
END:VCALENDAR