BEGIN:VCALENDAR
VERSION:2.0
PRODID:-//Philomath News - ECPv6.15.20//NONSGML v1.0//EN
CALSCALE:GREGORIAN
METHOD:PUBLISH
X-WR-CALNAME:Philomath News
X-ORIGINAL-URL:https://philomathnews.com
X-WR-CALDESC:Events for Philomath News
REFRESH-INTERVAL;VALUE=DURATION:PT1H
X-Robots-Tag:noindex
X-PUBLISHED-TTL:PT1H
BEGIN:VTIMEZONE
TZID:America/Los_Angeles
BEGIN:DAYLIGHT
TZOFFSETFROM:-0800
TZOFFSETTO:-0700
TZNAME:PDT
DTSTART:20250309T100000
END:DAYLIGHT
BEGIN:STANDARD
TZOFFSETFROM:-0700
TZOFFSETTO:-0800
TZNAME:PST
DTSTART:20251102T090000
END:STANDARD
BEGIN:DAYLIGHT
TZOFFSETFROM:-0800
TZOFFSETTO:-0700
TZNAME:PDT
DTSTART:20260308T100000
END:DAYLIGHT
BEGIN:STANDARD
TZOFFSETFROM:-0700
TZOFFSETTO:-0800
TZNAME:PST
DTSTART:20261101T090000
END:STANDARD
BEGIN:DAYLIGHT
TZOFFSETFROM:-0800
TZOFFSETTO:-0700
TZNAME:PDT
DTSTART:20270314T100000
END:DAYLIGHT
BEGIN:STANDARD
TZOFFSETFROM:-0700
TZOFFSETTO:-0800
TZNAME:PST
DTSTART:20271107T090000
END:STANDARD
END:VTIMEZONE
BEGIN:VEVENT
DTSTART;TZID=America/Los_Angeles:20260317T090000
DTEND;TZID=America/Los_Angeles:20260317T090000
DTSTAMP:20260422T084410
CREATED:20251116T200607Z
LAST-MODIFIED:20251116T200607Z
UID:10008841-1773738000-1773738000@philomathnews.com
SUMMARY:Benton County Board of Commissioners Meeting
DESCRIPTION:The Benton County Board of Commissioners typically meet for regular meetings at 9 a.m. on the first and third Tuesdays each month at the Kalapuya Building. Holidays and special events occasionally forces the board to move a regular meeting to another date.
URL:https://philomathnews.com/event/benton-county-board-of-commissioners-meeting-3/2026-03-17/
LOCATION:Kalapuya Building\, 4500 SW Research Way\, Corvallis\, OR\, 97333
CATEGORIES:Government
ATTACH;FMTTYPE=image/jpeg:https://philomathnews.com/wp-content/uploads/2022/02/020822-kalapuya-bldg_2625-scaled.jpeg
END:VEVENT
BEGIN:VEVENT
DTSTART;TZID=America/Los_Angeles:20260317T120000
DTEND;TZID=America/Los_Angeles:20260317T120000
DTSTAMP:20260422T084410
CREATED:20260310T023140Z
LAST-MODIFIED:20260310T023140Z
UID:10011794-1773748800-1773748800@philomathnews.com
SUMMARY:Philomath Rotary Club Meeting
DESCRIPTION:Please come to the Philomath Rotary Club meeting event on March 17th at noon in the fellowship hall of Peace Lutheran Church. All Rotarians and community members are welcome. \nThis meeting event will include the Philomath Middle School “Student of the Month” award presentation. \nThe main meeting presentation will be “Help Us\, Help You” by Chancy Ferguson\, Fire Chief. The presentation is to inform residents on wildlife preparedness and answer questions about the upcoming levy. Attendees to have a better understanding of wildlife risks\, ways to prepare\, and ways you can help keep yourself out of harm’s way. \nWe hope you can come & please remember lunch will be provided. Please RSVP to Fred Shaub. 541-602-0279\, if you will be attending so we can plan the number of meals.
URL:https://philomathnews.com/event/philomath-rotary-club-meeting-8/
LOCATION:Peace Lutheran Church\, 2540 Applegate St.\, Philomath\, OR\, 97370
CATEGORIES:Clubs and Organizations
ATTACH;FMTTYPE=image/jpeg:https://philomathnews.com/wp-content/uploads/2025/07/062725-rotary-file_7524-scaled.jpg
END:VEVENT
BEGIN:VEVENT
DTSTART;TZID=America/Los_Angeles:20260317T140000
DTEND;TZID=America/Los_Angeles:20260317T153000
DTSTAMP:20260422T084410
CREATED:20260305T004422Z
LAST-MODIFIED:20260305T004422Z
UID:10011781-1773756000-1773761400@philomathnews.com
SUMMARY:Transportation Safety Action Plan Meeting
DESCRIPTION:This meeting is being held in-person at the City Hall Council Chambers\, and the public is invited to attend. Public comments and testimonies are also available via written or electronic participation. City meetings are live-streamed on the City’s YouTube channel. \nSpeaking in Person: Please fill out a Speaker Request Form on the table near the doors and give it to the City Recorder. If you have a written statement for the Council\, please email it or provide 10 copies to the City Recorder who will distribute them to the Council. \nSpeaking Virtually: Register to speak by contacting the City Manager’s office before 4:00 PM the day of the meeting. Email cityhall@philomathoregon.gov or call 541-929-6148 to provide your name\, phone number\, address\, email\, and topic. Presentation materials should be submitted as written testimony. \nADA Accessibility: The City will strive to accommodate for all residents. City Hall is ADA accessible meeting space. Given at least two business days’ notice\, an interpreter can be provided for the hearing impaired or those with limited proficiency in English. \nContact the City Manager’s Office to make interpreter arrangements: \n541-929-6148     |           cityhall@philomathoregon.gov            |           PO Box 400\, Philomath\, OR 97370
URL:https://philomathnews.com/event/transportation-safety-action-plan-meeting/
LOCATION:Philomath City Hall\, 980 Applegate St.\, Philomath
CATEGORIES:Government
ATTACH;FMTTYPE=image/jpeg:https://philomathnews.com/wp-content/uploads/2025/01/011525-city-hall-file_1596-scaled.jpeg
END:VEVENT
BEGIN:VEVENT
DTSTART;TZID=America/Los_Angeles:20260317T153000
DTEND;TZID=America/Los_Angeles:20260317T163000
DTSTAMP:20260422T084410
CREATED:20251116T221714Z
LAST-MODIFIED:20251116T221714Z
UID:10009834-1773761400-1773765000@philomathnews.com
SUMMARY:READ Dogs at the Library
DESCRIPTION:Beginning readers are invited to practice reading in any language to a trained therapy Reading Education Assistance Dogs (READ Dogs) on the third Tuesday of the month. A permission form is required for children to participate and may be filled out on-site by parents/guardians. Limited spots are available on a first-come\, first-served basis.
URL:https://philomathnews.com/event/read-dogs-at-the-library/2026-03-17/
LOCATION:Philomath Community Library\, 1050 Applegate\, Philomath\, OR\, 97370
CATEGORIES:Library
ATTACH;FMTTYPE=image/jpeg:https://philomathnews.com/wp-content/uploads/2024/12/122724-READ-dogs_9187-scaled.jpg
END:VEVENT
BEGIN:VEVENT
DTSTART;TZID=America/Los_Angeles:20260317T160000
DTEND;TZID=America/Los_Angeles:20260317T160000
DTSTAMP:20260422T084410
CREATED:20260310T034834Z
LAST-MODIFIED:20260310T034834Z
UID:10011801-1773763200-1773763200@philomathnews.com
SUMMARY:PHS Boys Tennis at Lebanon
DESCRIPTION:The Philomath High School boys tennis team is scheduled to play at Lebanon at 4 p.m. Tuesday\, March 17.
URL:https://philomathnews.com/event/phs-boys-tennis-at-lebanon/
LOCATION:Lebanon High School\, 1700 S. Fifth St.\, Lebanon\, OR\, 97355
CATEGORIES:Athletics
ATTACH;FMTTYPE=image/jpeg:https://philomathnews.com/wp-content/uploads/2025/04/031625-tennis-artwork_2221-scaled.jpeg
END:VEVENT
BEGIN:VEVENT
DTSTART;TZID=America/Los_Angeles:20260317T160000
DTEND;TZID=America/Los_Angeles:20260317T160000
DTSTAMP:20260422T084410
CREATED:20260310T035429Z
LAST-MODIFIED:20260310T035429Z
UID:10011803-1773763200-1773763200@philomathnews.com
SUMMARY:PHS Girls Tennis vs. Lebanon
DESCRIPTION:The Philomath High School girls tennis team is scheduled to play at home vs. Lebanon at 4 p.m. Tuesday\, March 17.
URL:https://philomathnews.com/event/phs-girls-tennis-vs-lebanon/
LOCATION:Philomath High School\, 2054 Applegate St.\, Philomath\, OR\, 97370
CATEGORIES:Athletics
ATTACH;FMTTYPE=image/jpeg:https://philomathnews.com/wp-content/uploads/2025/03/031625-tennis-artwork_2213-scaled.jpeg
END:VEVENT
BEGIN:VEVENT
DTSTART;TZID=America/Los_Angeles:20260317T180000
DTEND;TZID=America/Los_Angeles:20260317T180000
DTSTAMP:20260422T084410
CREATED:20260317T034919Z
LAST-MODIFIED:20260317T034919Z
UID:10011814-1773770400-1773770400@philomathnews.com
SUMMARY:Benton County Planning Commission Meeting
DESCRIPTION:The Benton County Planning Commission is scheduled to meet at 6 p.m. Tuesday\, March 17\, at the Kalapuya Building.
URL:https://philomathnews.com/event/benton-county-planning-commission-meeting-4/
LOCATION:Kalapuya Building\, 4500 SW Research Way\, Corvallis\, OR\, 97333
CATEGORIES:Government
ATTACH;FMTTYPE=image/jpeg:https://philomathnews.com/wp-content/uploads/2022/02/020822-kalapuya-bldg_2625-scaled.jpeg
ORGANIZER;CN="Benton County":MAILTO:https://www.bentoncountyor.gov/contact/
END:VEVENT
BEGIN:VEVENT
DTSTART;TZID=America/Los_Angeles:20260317T180000
DTEND;TZID=America/Los_Angeles:20260317T190000
DTSTAMP:20260422T084410
CREATED:20251116T192954Z
LAST-MODIFIED:20251116T193042Z
UID:10008008-1773770400-1773774000@philomathnews.com
SUMMARY:Philomath Community Meal
DESCRIPTION:Free meal and fellowship — everyone welcome! Live music\, prayer room\, delicious meal. Sponsored by Philomath Area Churches.
URL:https://philomathnews.com/event/philomath-community-meal/2026-03-17/
LOCATION:College United Methodist Church\, 1123 Main St.\, Philomath\, OR\, 97370
CATEGORIES:Community
ATTACH;FMTTYPE=image/jpeg:https://philomathnews.com/wp-content/uploads/2024/11/112424-community-dinner-sign_256.jpg
ORGANIZER;CN="College United Methodist Church":MAILTO:collegeumc@gmail.com
END:VEVENT
BEGIN:VEVENT
DTSTART;TZID=America/Los_Angeles:20260317T180000
DTEND;TZID=America/Los_Angeles:20260317T190000
DTSTAMP:20260422T084410
CREATED:20251216T154159Z
LAST-MODIFIED:20251216T154159Z
UID:10010988-1773770400-1773774000@philomathnews.com
SUMMARY:Yoga at the Grange
DESCRIPTION:Instructor Laura Coen leads Yoga at the Grange Tuesdays from Dec. 2-March 17. \nNo Registration Required. For more information\, send email to: lauraploeg@yahoo.com \nLaura has been teaching yoga to adults\, children and families since 2014. She believes individuals can experience a mindful connection to themselves and the world through the practice of yoga. With a mindful connection to self\, both adults and children can feel better\, have more self-control and more self-awareness. A strong sense of self allows for more stable connections with others. Laura hopes to help yoga students find stability in themselves\, and therefore become more productive\, helpful and healthy members of their community.
URL:https://philomathnews.com/event/yoga-at-the-grange-2/2026-03-17/
LOCATION:Marys River Grange Hall\, 24707 Grange Hall Road\, Philomath\, OR\, 97370
CATEGORIES:Exercise
ATTACH;FMTTYPE=image/jpeg:https://philomathnews.com/wp-content/uploads/2025/03/030725-yoga-artwork.jpg
ORGANIZER;CN="Laura Coen":MAILTO:lauraploeg@yahoo.com
END:VEVENT
END:VCALENDAR