BEGIN:VCALENDAR
VERSION:2.0
PRODID:-//Philomath News - ECPv6.15.20//NONSGML v1.0//EN
CALSCALE:GREGORIAN
METHOD:PUBLISH
X-ORIGINAL-URL:https://philomathnews.com
X-WR-CALDESC:Events for Philomath News
REFRESH-INTERVAL;VALUE=DURATION:PT1H
X-Robots-Tag:noindex
X-PUBLISHED-TTL:PT1H
BEGIN:VTIMEZONE
TZID:America/Los_Angeles
BEGIN:DAYLIGHT
TZOFFSETFROM:-0800
TZOFFSETTO:-0700
TZNAME:PDT
DTSTART:20250309T100000
END:DAYLIGHT
BEGIN:STANDARD
TZOFFSETFROM:-0700
TZOFFSETTO:-0800
TZNAME:PST
DTSTART:20251102T090000
END:STANDARD
BEGIN:DAYLIGHT
TZOFFSETFROM:-0800
TZOFFSETTO:-0700
TZNAME:PDT
DTSTART:20260308T100000
END:DAYLIGHT
BEGIN:STANDARD
TZOFFSETFROM:-0700
TZOFFSETTO:-0800
TZNAME:PST
DTSTART:20261101T090000
END:STANDARD
BEGIN:DAYLIGHT
TZOFFSETFROM:-0800
TZOFFSETTO:-0700
TZNAME:PDT
DTSTART:20270314T100000
END:DAYLIGHT
BEGIN:STANDARD
TZOFFSETFROM:-0700
TZOFFSETTO:-0800
TZNAME:PST
DTSTART:20271107T090000
END:STANDARD
END:VTIMEZONE
BEGIN:VEVENT
DTSTART;TZID=America/Los_Angeles:20260316T090000
DTEND;TZID=America/Los_Angeles:20260316T090000
DTSTAMP:20260424T024941
CREATED:20251116T054312Z
LAST-MODIFIED:20251116T054312Z
UID:10007224-1773651600-1773651600@philomathnews.com
SUMMARY:Philomath TOPS Meeting
DESCRIPTION:The Philomath chapter of TOPS (Take Off Pounds Sensibly) meets at 9 a.m. Mondays at Peace Lutheran Church with weigh-in preceding the meeting from 8:30-9 a.m.
URL:https://philomathnews.com/event/philomath-tops-meeting/2026-03-16/
LOCATION:Peace Lutheran Church\, 2540 Applegate St.\, Philomath\, OR\, 97370
CATEGORIES:Clubs and Organizations
ATTACH;FMTTYPE=image/jpeg:https://philomathnews.com/wp-content/uploads/2023/02/Peace-Lutheran-Church1-2020-scaled.jpg
END:VEVENT
BEGIN:VEVENT
DTSTART;TZID=America/Los_Angeles:20260316T100000
DTEND;TZID=America/Los_Angeles:20260316T100000
DTSTAMP:20260424T024941
CREATED:20251116T185922Z
LAST-MODIFIED:20251116T185922Z
UID:10007485-1773655200-1773655200@philomathnews.com
SUMMARY:Dementia Warriors Coffee Connections
DESCRIPTION:Dementia Warriors Coffee Connections meets at 10 a.m. Mondays at Timber Towne Coffee in Philomath. From the organizer: “Come savor this casual opportunity to connect and laugh with people with dementia/Alzheimer’s and caregivers.”
URL:https://philomathnews.com/event/dementia-warriors-coffee-connections/2026-03-16/
LOCATION:Timber Towne Coffee\, 1427 Main St.\, Philomath\, OR\, 97370
CATEGORIES:Clubs and Organizations
ATTACH;FMTTYPE=image/jpeg:https://philomathnews.com/wp-content/uploads/2025/01/020422-Douglas-The-Truck-At-Timber-Townejpg.jpg
ORGANIZER;CN="Dementia Warriors":MAILTO:dementiaadvocacy16@gmail.com
END:VEVENT
BEGIN:VEVENT
DTSTART;TZID=America/Los_Angeles:20260316T153000
DTEND;TZID=America/Los_Angeles:20260316T153000
DTSTAMP:20260424T024941
CREATED:20260310T033901Z
LAST-MODIFIED:20260310T033901Z
UID:10011798-1773675000-1773675000@philomathnews.com
SUMMARY:PHS Baseball at Santiam Christian Jamboree
DESCRIPTION:The Philomath High School baseball team is scheduled to participate in a jamboree beginning at 3:30 p.m. Monday\, March 16\, at Santiam Christian High School. In addition to the host and PHS\, Central and Dallas are also scheduled to participate.
URL:https://philomathnews.com/event/phs-baseball-at-santiam-christian-jamboree/
LOCATION:Santiam Christian High School\, 7220 NE Arnold Ave.\, Adair Village\, OR\, 97330
CATEGORIES:Athletics
ATTACH;FMTTYPE=image/jpeg:https://philomathnews.com/wp-content/uploads/2025/04/040525-bb-artwork-dugout_2460-scaled.jpeg
END:VEVENT
BEGIN:VEVENT
DTSTART;TZID=America/Los_Angeles:20260316T180000
DTEND;TZID=America/Los_Angeles:20260316T180000
DTSTAMP:20260424T024941
CREATED:20260310T035921Z
LAST-MODIFIED:20260310T035921Z
UID:10011805-1773684000-1773684000@philomathnews.com
SUMMARY:PHS Boys Volleyball at Marist Catholic
DESCRIPTION:The Philomath High boys volleyball team is scheduled to play at 6 p.m. Monday\, March 16 at Marist Catholic. (Opponent and time subject to change with possibility that a third school will compete).
URL:https://philomathnews.com/event/phs-boys-volleyball-at-marist-catholic/
LOCATION:Marist Catholic High School\, 1900 Kingsley Road\, Eugene\, OR\, 97401
CATEGORIES:Athletics
ATTACH;FMTTYPE=image/jpeg:https://philomathnews.com/wp-content/uploads/2025/03/031925-bvb-bennett_3713-scaled.jpg
END:VEVENT
BEGIN:VEVENT
DTSTART;TZID=America/Los_Angeles:20260316T183000
DTEND;TZID=America/Los_Angeles:20260316T223000
DTSTAMP:20260424T024941
CREATED:20251116T192605Z
LAST-MODIFIED:20251116T192605Z
UID:10007747-1773685800-1773700200@philomathnews.com
SUMMARY:Moonlight Country Mixer at the Grange
DESCRIPTION:Jamie Lee Dancing presents Moonlight Country Mixer. Every Monday 6:30-10:30 p.m. at Marys River Grange\, 24707 Grange Hall Rd.\, Philomath. Cost: $5. All ages welcome. Parking limited to Grange Hall lot. Country swing and line dance lessons from 6:30-7:30.
URL:https://philomathnews.com/event/moonlight-country-mixer-at-the-grange/2026-03-16/
LOCATION:Marys River Grange Hall\, 24707 Grange Hall Road\, Philomath\, OR\, 97370
CATEGORIES:Arts and Entertainment
ATTACH;FMTTYPE=image/jpeg:https://philomathnews.com/wp-content/uploads/2025/09/081325-mrg-sign_8863-scaled.jpg
ORGANIZER;CN="Jamie Lee Dancing":MAILTO:Jamieleedancing@gmail.com
END:VEVENT
END:VCALENDAR