BEGIN:VCALENDAR
VERSION:2.0
PRODID:-//Philomath News - ECPv6.15.20//NONSGML v1.0//EN
CALSCALE:GREGORIAN
METHOD:PUBLISH
X-WR-CALNAME:Philomath News
X-ORIGINAL-URL:https://philomathnews.com
X-WR-CALDESC:Events for Philomath News
REFRESH-INTERVAL;VALUE=DURATION:PT1H
X-Robots-Tag:noindex
X-PUBLISHED-TTL:PT1H
BEGIN:VTIMEZONE
TZID:America/Los_Angeles
BEGIN:DAYLIGHT
TZOFFSETFROM:-0800
TZOFFSETTO:-0700
TZNAME:PDT
DTSTART:20250309T100000
END:DAYLIGHT
BEGIN:STANDARD
TZOFFSETFROM:-0700
TZOFFSETTO:-0800
TZNAME:PST
DTSTART:20251102T090000
END:STANDARD
BEGIN:DAYLIGHT
TZOFFSETFROM:-0800
TZOFFSETTO:-0700
TZNAME:PDT
DTSTART:20260308T100000
END:DAYLIGHT
BEGIN:STANDARD
TZOFFSETFROM:-0700
TZOFFSETTO:-0800
TZNAME:PST
DTSTART:20261101T090000
END:STANDARD
BEGIN:DAYLIGHT
TZOFFSETFROM:-0800
TZOFFSETTO:-0700
TZNAME:PDT
DTSTART:20270314T100000
END:DAYLIGHT
BEGIN:STANDARD
TZOFFSETFROM:-0700
TZOFFSETTO:-0800
TZNAME:PST
DTSTART:20271107T090000
END:STANDARD
END:VTIMEZONE
BEGIN:VEVENT
DTSTART;TZID=America/Los_Angeles:20260314T090000
DTEND;TZID=America/Los_Angeles:20260314T130000
DTSTAMP:20260424T102401
CREATED:20251226T194733Z
LAST-MODIFIED:20260319T050414Z
UID:10011497-1773478800-1773493200@philomathnews.com
SUMMARY:Corvallis Indoor Winter Market
DESCRIPTION:The 2026 winter market season begins Jan. 10\, 2026. \nThe winter market again will be matching SNAP with Double Up Food Bucks up to $20 per market . This is the same program offered at other farmers’ markets during the regular season. \nOutdoor markets in Corvallis and Albany are run by Corvallis-Albany Farmers’ Markets. Please visit their page\, www.locallygrown.org\, for information about regular season markets. \nMarket hours are 9 a.m. to 1 p.m. every Saturday in Guerber Hall at the Benton County Fairgrounds.
URL:https://philomathnews.com/event/corvallis-indoor-winter-market/2026-03-14/
LOCATION:Benton County Fairgrounds\, 110 SW 53rd St.\, Corvallis\, OR\, 97333
CATEGORIES:Clubs and Organizations
ATTACH;FMTTYPE=image/jpeg:https://philomathnews.com/wp-content/uploads/2023/02/020523-fresh-veggies-philo-photos_9833.jpg
ORGANIZER;CN="Corvallis-Albany Farmers' Markets":MAILTO:cafm@locallygrown.org
END:VEVENT
BEGIN:VEVENT
DTSTART;TZID=America/Los_Angeles:20260314T090000
DTEND;TZID=America/Los_Angeles:20260314T160000
DTSTAMP:20260424T102401
CREATED:20260119T182630Z
LAST-MODIFIED:20260119T182630Z
UID:10011646-1773478800-1773504000@philomathnews.com
SUMMARY:Heartsaver First Aid-CPR-AED Class at Philomath Fire and Rescue
DESCRIPTION:First Aid\, CPR and AED training is an important part of an effective safety program. Through our Heartsaver First Aid/CPR/AED Course\, you will have the confidence and skills to respond to a variety of emergencies. Class is held at our main station at 1035 Main St.\, Philomath and runs from 9 AM to 4 PM with a 45 minute meal break. For more information\, click here.
URL:https://philomathnews.com/event/heartsaver-first-aid-cpr-aed-class-at-philomath-fire-and-rescue/2026-03-14/
LOCATION:Philomath Fire and Rescue\, 1035 Main St.\, Philomath\, OR\, 97370
CATEGORIES:Classes and Workshops
ATTACH;FMTTYPE=image/jpeg:https://philomathnews.com/wp-content/uploads/2021/06/Philomath-Fire-and-Rescue2-2021-wp-scaled.jpeg
END:VEVENT
BEGIN:VEVENT
DTSTART;TZID=America/Los_Angeles:20260314T094500
DTEND;TZID=America/Los_Angeles:20260314T094500
DTSTAMP:20260424T102401
CREATED:20260314T002802Z
LAST-MODIFIED:20260314T002802Z
UID:10011813-1773481500-1773481500@philomathnews.com
SUMMARY:PHS Girls Basketball vs. Cascade (at Forest Grove HS)
DESCRIPTION:Philomath High’s girls basketball team is scheduled to play Cascade at 9:45 a.m. Saturday\, March 14 at Forest Grove High School in the Class 4A Tournament fourth/sixth-place game.
URL:https://philomathnews.com/event/phs-girls-basketball-vs-cascade-at-forest-grove-hs/
LOCATION:Forest Grove High School\, 1401 Nichols Ln\, Forest Grove\, OR\, 97116
CATEGORIES:Athletics
ATTACH;FMTTYPE=image/jpeg:https://philomathnews.com/wp-content/uploads/2026/03/031326-gbb-Ben-Silva-01.jpg
ORGANIZER;CN="Oregon School Activities Association":MAILTO:info@osaa.org
END:VEVENT
BEGIN:VEVENT
DTSTART;TZID=America/Los_Angeles:20260314T110000
DTEND;TZID=America/Los_Angeles:20260314T120000
DTSTAMP:20260424T102401
CREATED:20260224T050250Z
LAST-MODIFIED:20260224T050250Z
UID:10011750-1773486000-1773489600@philomathnews.com
SUMMARY:Benton County Genealogical Society Program at Philomath Museum
DESCRIPTION:Benton County Genealogical Society presents “Moses & Me: Moses Family Papers” at the Benton County Historical Society. \nWhile you may know the name of Vina Moses\, do you know anything about the family into which she married? With Moses & Me\, Walter Frankel will show the depth of the BCHS’s documentary collections to tell the Moses story\, simultaneously sharing what one volunteer has done over twenty-five years. Mr. Frankel is a volunteer with the Benton County Historical Society. He is also a member of the Benton County Cultural Coalition Board and the Oregon Cultural Trust Board. Before retiring in 2000\, he enjoyed a distinguished 37-year career as a librarian\, beginning in New York and ending in Corvallis. \nSaturday March 14th\n11:00 am – Noon\nFREE \nOn the second floor at the Philomath Museum\, 1101 Main St. A wheelchair ramp is located at the northeast corner of the building. Please do not bring food or drinks into the museum.
URL:https://philomathnews.com/event/benton-county-genealogical-society-program-at-philomath-museum-3/
LOCATION:Philomath Museum\, 1101 Main St.\, Philomath\, OR\, 97370
CATEGORIES:Clubs and Organizations
ATTACH;FMTTYPE=image/jpeg:https://philomathnews.com/wp-content/uploads/2025/10/101125-philomath-museum-file_4063-scaled.jpg
ORGANIZER;CN="Benton County Genealogical Society":MAILTO:bcgsor@gmail.com
END:VEVENT
BEGIN:VEVENT
DTSTART;TZID=America/Los_Angeles:20260314T130000
DTEND;TZID=America/Los_Angeles:20260314T130000
DTSTAMP:20260424T102401
CREATED:20260305T002248Z
LAST-MODIFIED:20260305T002248Z
UID:10011775-1773493200-1773493200@philomathnews.com
SUMMARY:Philomath Middle School Drama Presents Alice in Wonderland
DESCRIPTION:Philomath Middle School drama students will present “Alice in Wonderland” on March 12 at 7 p.m.\, March 13 at 7 p.m.\, and March 14 at 1 and 7 p.m. in the Philomath High School auditorium. Admission is $10 for adults\, $5 for students.
URL:https://philomathnews.com/event/philomath-middle-school-drama-presents-alice-in-wonderland/2026-03-14/1/
LOCATION:Philomath High School\, 2054 Applegate St.\, Philomath\, OR\, 97370
CATEGORIES:Arts and Entertainment,Schools
ATTACH;FMTTYPE=image/png:https://philomathnews.com/wp-content/uploads/2026/03/030426-AIW-calendar-artwork.png
END:VEVENT
BEGIN:VEVENT
DTSTART;TZID=America/Los_Angeles:20260314T190000
DTEND;TZID=America/Los_Angeles:20260314T190000
DTSTAMP:20260424T102401
CREATED:20260305T002248Z
LAST-MODIFIED:20260305T002248Z
UID:10011776-1773514800-1773514800@philomathnews.com
SUMMARY:Philomath Middle School Drama Presents Alice in Wonderland
DESCRIPTION:Philomath Middle School drama students will present “Alice in Wonderland” on March 12 at 7 p.m.\, March 13 at 7 p.m.\, and March 14 at 1 and 7 p.m. in the Philomath High School auditorium. Admission is $10 for adults\, $5 for students.
URL:https://philomathnews.com/event/philomath-middle-school-drama-presents-alice-in-wonderland/2026-03-14/2/
LOCATION:Philomath High School\, 2054 Applegate St.\, Philomath\, OR\, 97370
CATEGORIES:Arts and Entertainment,Schools
ATTACH;FMTTYPE=image/png:https://philomathnews.com/wp-content/uploads/2026/03/030426-AIW-calendar-artwork.png
END:VEVENT
END:VCALENDAR