BEGIN:VCALENDAR
VERSION:2.0
PRODID:-//Philomath News - ECPv6.15.20//NONSGML v1.0//EN
CALSCALE:GREGORIAN
METHOD:PUBLISH
X-ORIGINAL-URL:https://philomathnews.com
X-WR-CALDESC:Events for Philomath News
REFRESH-INTERVAL;VALUE=DURATION:PT1H
X-Robots-Tag:noindex
X-PUBLISHED-TTL:PT1H
BEGIN:VTIMEZONE
TZID:America/Los_Angeles
BEGIN:DAYLIGHT
TZOFFSETFROM:-0800
TZOFFSETTO:-0700
TZNAME:PDT
DTSTART:20250309T100000
END:DAYLIGHT
BEGIN:STANDARD
TZOFFSETFROM:-0700
TZOFFSETTO:-0800
TZNAME:PST
DTSTART:20251102T090000
END:STANDARD
BEGIN:DAYLIGHT
TZOFFSETFROM:-0800
TZOFFSETTO:-0700
TZNAME:PDT
DTSTART:20260308T100000
END:DAYLIGHT
BEGIN:STANDARD
TZOFFSETFROM:-0700
TZOFFSETTO:-0800
TZNAME:PST
DTSTART:20261101T090000
END:STANDARD
BEGIN:DAYLIGHT
TZOFFSETFROM:-0800
TZOFFSETTO:-0700
TZNAME:PDT
DTSTART:20270314T100000
END:DAYLIGHT
BEGIN:STANDARD
TZOFFSETFROM:-0700
TZOFFSETTO:-0800
TZNAME:PST
DTSTART:20271107T090000
END:STANDARD
END:VTIMEZONE
BEGIN:VEVENT
DTSTART;TZID=America/Los_Angeles:20260309T090000
DTEND;TZID=America/Los_Angeles:20260309T090000
DTSTAMP:20260420T123450
CREATED:20251116T054312Z
LAST-MODIFIED:20251116T054312Z
UID:10007223-1773046800-1773046800@philomathnews.com
SUMMARY:Philomath TOPS Meeting
DESCRIPTION:The Philomath chapter of TOPS (Take Off Pounds Sensibly) meets at 9 a.m. Mondays at Peace Lutheran Church with weigh-in preceding the meeting from 8:30-9 a.m.
URL:https://philomathnews.com/event/philomath-tops-meeting/2026-03-09/
LOCATION:Peace Lutheran Church\, 2540 Applegate St.\, Philomath\, OR\, 97370
CATEGORIES:Clubs and Organizations
ATTACH;FMTTYPE=image/jpeg:https://philomathnews.com/wp-content/uploads/2023/02/Peace-Lutheran-Church1-2020-scaled.jpg
END:VEVENT
BEGIN:VEVENT
DTSTART;TZID=America/Los_Angeles:20260309T100000
DTEND;TZID=America/Los_Angeles:20260309T100000
DTSTAMP:20260420T123450
CREATED:20251116T185922Z
LAST-MODIFIED:20251116T185922Z
UID:10007484-1773050400-1773050400@philomathnews.com
SUMMARY:Dementia Warriors Coffee Connections
DESCRIPTION:Dementia Warriors Coffee Connections meets at 10 a.m. Mondays at Timber Towne Coffee in Philomath. From the organizer: “Come savor this casual opportunity to connect and laugh with people with dementia/Alzheimer’s and caregivers.”
URL:https://philomathnews.com/event/dementia-warriors-coffee-connections/2026-03-09/
LOCATION:Timber Towne Coffee\, 1427 Main St.\, Philomath\, OR\, 97370
CATEGORIES:Clubs and Organizations
ATTACH;FMTTYPE=image/jpeg:https://philomathnews.com/wp-content/uploads/2025/01/020422-Douglas-The-Truck-At-Timber-Townejpg.jpg
ORGANIZER;CN="Dementia Warriors":MAILTO:dementiaadvocacy16@gmail.com
END:VEVENT
BEGIN:VEVENT
DTSTART;TZID=America/Los_Angeles:20260309T150000
DTEND;TZID=America/Los_Angeles:20260309T150000
DTSTAMP:20260420T123450
CREATED:20251116T212129Z
LAST-MODIFIED:20251116T212129Z
UID:10009463-1773068400-1773068400@philomathnews.com
SUMMARY:Philomath Fire and Rescue Board of Directors Meeting
DESCRIPTION:The Philomath Fire and Rescue’s Board of Directors meets on the second Tuesday each month at 3 p.m. at Station 201 (1035 Main St.).
URL:https://philomathnews.com/event/philomath-fire-and-rescue-board-of-directors-meeting/2026-03-09/
LOCATION:Philomath Fire and Rescue\, 1035 Main St.\, Philomath\, OR\, 97370
CATEGORIES:Government
ATTACH;FMTTYPE=image/jpeg:https://philomathnews.com/wp-content/uploads/2020/11/Philomath-Fire-Rescue2-2020.jpg
END:VEVENT
BEGIN:VEVENT
DTSTART;TZID=America/Los_Angeles:20260309T173000
DTEND;TZID=America/Los_Angeles:20260309T190000
DTSTAMP:20260420T123450
CREATED:20260306T203546Z
LAST-MODIFIED:20260306T203546Z
UID:10011785-1773077400-1773082800@philomathnews.com
SUMMARY:Philomath City Council Executive Session
DESCRIPTION:The Philomath City Council is scheduled to meet in executive session at 5:30 p.m. Monday\, March 9 as allowed by state statute to discuss labor negotiations. Executive sessions are closed to the public.
URL:https://philomathnews.com/event/philomath-city-council-executive-session-2/
LOCATION:Philomath City Hall\, 980 Applegate St.\, Philomath
CATEGORIES:Government
ATTACH;FMTTYPE=image/jpeg:https://philomathnews.com/wp-content/uploads/2025/01/011525-city-hall-file_1596-scaled.jpeg
END:VEVENT
BEGIN:VEVENT
DTSTART;TZID=America/Los_Angeles:20260309T183000
DTEND;TZID=America/Los_Angeles:20260309T223000
DTSTAMP:20260420T123450
CREATED:20251116T192605Z
LAST-MODIFIED:20251116T192605Z
UID:10007746-1773081000-1773095400@philomathnews.com
SUMMARY:Moonlight Country Mixer at the Grange
DESCRIPTION:Jamie Lee Dancing presents Moonlight Country Mixer. Every Monday 6:30-10:30 p.m. at Marys River Grange\, 24707 Grange Hall Rd.\, Philomath. Cost: $5. All ages welcome. Parking limited to Grange Hall lot. Country swing and line dance lessons from 6:30-7:30.
URL:https://philomathnews.com/event/moonlight-country-mixer-at-the-grange/2026-03-09/
LOCATION:Marys River Grange Hall\, 24707 Grange Hall Road\, Philomath\, OR\, 97370
CATEGORIES:Arts and Entertainment
ATTACH;FMTTYPE=image/jpeg:https://philomathnews.com/wp-content/uploads/2025/09/081325-mrg-sign_8863-scaled.jpg
ORGANIZER;CN="Jamie Lee Dancing":MAILTO:Jamieleedancing@gmail.com
END:VEVENT
BEGIN:VEVENT
DTSTART;TZID=America/Los_Angeles:20260309T190000
DTEND;TZID=America/Los_Angeles:20260309T191500
DTSTAMP:20260420T123450
CREATED:20260306T205715Z
LAST-MODIFIED:20260306T205715Z
UID:10011791-1773082800-1773083700@philomathnews.com
SUMMARY:Philomath City Council Urban Renewal Agency Meeting
DESCRIPTION:Agendas are typically posted on the Friday prior to the scheduled meeting.
URL:https://philomathnews.com/event/philomath-city-council-urban-renewal-agency-meeting/
LOCATION:Philomath City Hall\, 980 Applegate St.\, Philomath
CATEGORIES:Government
ATTACH;FMTTYPE=image/jpeg:https://philomathnews.com/wp-content/uploads/2025/01/011525-city-hall-file_1596-scaled.jpeg
END:VEVENT
BEGIN:VEVENT
DTSTART;TZID=America/Los_Angeles:20260309T191500
DTEND;TZID=America/Los_Angeles:20260309T191500
DTSTAMP:20260420T123450
CREATED:20260306T205503Z
LAST-MODIFIED:20260306T205503Z
UID:10011790-1773083700-1773083700@philomathnews.com
SUMMARY:Philomath City Council Meeting
DESCRIPTION:Agendas are typically posted on the Friday prior to the scheduled meeting.
URL:https://philomathnews.com/event/philomath-city-council-meeting-4/
LOCATION:Philomath City Hall\, 980 Applegate St.\, Philomath
CATEGORIES:Government
ATTACH;FMTTYPE=image/jpeg:https://philomathnews.com/wp-content/uploads/2025/01/011525-city-hall-file_1596-scaled.jpeg
END:VEVENT
END:VCALENDAR