BEGIN:VCALENDAR
VERSION:2.0
PRODID:-//Philomath News - ECPv6.15.20//NONSGML v1.0//EN
CALSCALE:GREGORIAN
METHOD:PUBLISH
X-ORIGINAL-URL:https://philomathnews.com
X-WR-CALDESC:Events for Philomath News
REFRESH-INTERVAL;VALUE=DURATION:PT1H
X-Robots-Tag:noindex
X-PUBLISHED-TTL:PT1H
BEGIN:VTIMEZONE
TZID:America/Los_Angeles
BEGIN:DAYLIGHT
TZOFFSETFROM:-0800
TZOFFSETTO:-0700
TZNAME:PDT
DTSTART:20250309T100000
END:DAYLIGHT
BEGIN:STANDARD
TZOFFSETFROM:-0700
TZOFFSETTO:-0800
TZNAME:PST
DTSTART:20251102T090000
END:STANDARD
BEGIN:DAYLIGHT
TZOFFSETFROM:-0800
TZOFFSETTO:-0700
TZNAME:PDT
DTSTART:20260308T100000
END:DAYLIGHT
BEGIN:STANDARD
TZOFFSETFROM:-0700
TZOFFSETTO:-0800
TZNAME:PST
DTSTART:20261101T090000
END:STANDARD
BEGIN:DAYLIGHT
TZOFFSETFROM:-0800
TZOFFSETTO:-0700
TZNAME:PDT
DTSTART:20270314T100000
END:DAYLIGHT
BEGIN:STANDARD
TZOFFSETFROM:-0700
TZOFFSETTO:-0800
TZNAME:PST
DTSTART:20271107T090000
END:STANDARD
END:VTIMEZONE
BEGIN:VEVENT
DTSTART;TZID=America/Los_Angeles:20260222T113000
DTEND;TZID=America/Los_Angeles:20260222T133000
DTSTAMP:20260424T101501
CREATED:20260119T185533Z
LAST-MODIFIED:20260119T185533Z
UID:10011669-1771759800-1771767000@philomathnews.com
SUMMARY:Soup Off at Marys River Grange
DESCRIPTION:The Marys River Grange’s inaugural Soup Off contest is scheduled for 11:30 a.m.-1:30 p.m. Sunday\, Feb. 22 at Marys River Grange Hall. Vote for the best homemade soup. Grand prize winner. $10 for ages 12 and over\, $5 for 11 and under. Funds raised go toward the grange’s kitchen remodel project. To enter your soup in the contest\, call 541-290-1855.
URL:https://philomathnews.com/event/soup-off-at-marys-river-grange/
LOCATION:Marys River Grange Hall\, 24707 Grange Hall Road\, Philomath\, OR\, 97370
CATEGORIES:Clubs and Organizations,Community
ATTACH;FMTTYPE=image/jpeg:https://philomathnews.com/wp-content/uploads/2026/01/081325-mrg-sign_8863-scaled.jpg
ORGANIZER;CN="Marys River Grange No. 685":MAILTO:marysrivergrange@gmail.com
END:VEVENT
END:VCALENDAR