BEGIN:VCALENDAR
VERSION:2.0
PRODID:-//Philomath News - ECPv6.15.20//NONSGML v1.0//EN
CALSCALE:GREGORIAN
METHOD:PUBLISH
X-ORIGINAL-URL:https://philomathnews.com
X-WR-CALDESC:Events for Philomath News
REFRESH-INTERVAL;VALUE=DURATION:PT1H
X-Robots-Tag:noindex
X-PUBLISHED-TTL:PT1H
BEGIN:VTIMEZONE
TZID:America/Los_Angeles
BEGIN:DAYLIGHT
TZOFFSETFROM:-0800
TZOFFSETTO:-0700
TZNAME:PDT
DTSTART:20250309T100000
END:DAYLIGHT
BEGIN:STANDARD
TZOFFSETFROM:-0700
TZOFFSETTO:-0800
TZNAME:PST
DTSTART:20251102T090000
END:STANDARD
BEGIN:DAYLIGHT
TZOFFSETFROM:-0800
TZOFFSETTO:-0700
TZNAME:PDT
DTSTART:20260308T100000
END:DAYLIGHT
BEGIN:STANDARD
TZOFFSETFROM:-0700
TZOFFSETTO:-0800
TZNAME:PST
DTSTART:20261101T090000
END:STANDARD
BEGIN:DAYLIGHT
TZOFFSETFROM:-0800
TZOFFSETTO:-0700
TZNAME:PDT
DTSTART:20270314T100000
END:DAYLIGHT
BEGIN:STANDARD
TZOFFSETFROM:-0700
TZOFFSETTO:-0800
TZNAME:PST
DTSTART:20271107T090000
END:STANDARD
END:VTIMEZONE
BEGIN:VEVENT
DTSTART;TZID=America/Los_Angeles:20260221T081500
DTEND;TZID=America/Los_Angeles:20260221T111500
DTSTAMP:20260425T102839
CREATED:20260219T162808Z
LAST-MODIFIED:20260219T162808Z
UID:10011746-1771661700-1771672500@philomathnews.com
SUMMARY:PHS Swimming at 4A/3A/2A/1A State Championships
DESCRIPTION:Philomath High’s boys swim team is scheduled to compete at 9 a.m. Friday \, Feb. 20\, and 8:15 a.m. Saturday\, Feb. 21\, in the Class 4A/3A/2A/1A State Championships at Tualatin Aquatic Center in Beaverton.
URL:https://philomathnews.com/event/phs-swimming-at-4a-3a-2a-1a-state-championships/2026-02-21/
LOCATION:Tualatin Hills Aquatic Center\, 15707 SW Walker Rd\, Beaverton\, OR\, 97006
CATEGORIES:Athletics
ATTACH;FMTTYPE=image/jpeg:https://philomathnews.com/wp-content/uploads/2025/12/121925-swm-team_6389-scaled.jpeg
ORGANIZER;CN="Oregon School Activities Association":MAILTO:info@osaa.org
END:VEVENT
BEGIN:VEVENT
DTSTART;TZID=America/Los_Angeles:20260221T090000
DTEND;TZID=America/Los_Angeles:20260221T090000
DTSTAMP:20260425T102839
CREATED:20260119T223716Z
LAST-MODIFIED:20260219T162222Z
UID:10011742-1771664400-1771664400@philomathnews.com
SUMMARY:PHS Girls Wrestling at Regional Championships
DESCRIPTION:Philomath High’s girls wrestling team is scheduled to compete Friday and Saturday\, Feb. 20-21\, at the 4A/3A/2A/1A Special District 1 tournament at Molalla High School.
URL:https://philomathnews.com/event/phs-girls-wrestling-at-regional-championships/2026-02-21/
LOCATION:Molalla High School\, 357 Frances St.\, Molalla\, OR\, 97038
CATEGORIES:Athletics
ATTACH;FMTTYPE=image/jpeg:https://philomathnews.com/wp-content/uploads/2026/01/010826-wr-robertson_0937-scaled.jpg
END:VEVENT
BEGIN:VEVENT
DTSTART;TZID=America/Los_Angeles:20260221T090000
DTEND;TZID=America/Los_Angeles:20260221T130000
DTSTAMP:20260425T102839
CREATED:20251226T194733Z
LAST-MODIFIED:20260319T050414Z
UID:10011494-1771664400-1771678800@philomathnews.com
SUMMARY:Corvallis Indoor Winter Market
DESCRIPTION:The 2026 winter market season begins Jan. 10\, 2026. \nThe winter market again will be matching SNAP with Double Up Food Bucks up to $20 per market . This is the same program offered at other farmers’ markets during the regular season. \nOutdoor markets in Corvallis and Albany are run by Corvallis-Albany Farmers’ Markets. Please visit their page\, www.locallygrown.org\, for information about regular season markets. \nMarket hours are 9 a.m. to 1 p.m. every Saturday in Guerber Hall at the Benton County Fairgrounds.
URL:https://philomathnews.com/event/corvallis-indoor-winter-market/2026-02-21/
LOCATION:Benton County Fairgrounds\, 110 SW 53rd St.\, Corvallis\, OR\, 97333
CATEGORIES:Clubs and Organizations
ATTACH;FMTTYPE=image/jpeg:https://philomathnews.com/wp-content/uploads/2023/02/020523-fresh-veggies-philo-photos_9833.jpg
ORGANIZER;CN="Corvallis-Albany Farmers' Markets":MAILTO:cafm@locallygrown.org
END:VEVENT
BEGIN:VEVENT
DTSTART;TZID=America/Los_Angeles:20260221T093000
DTEND;TZID=America/Los_Angeles:20260221T110000
DTSTAMP:20260425T102839
CREATED:20260119T182918Z
LAST-MODIFIED:20260119T183248Z
UID:10010481-1771666200-1771671600@philomathnews.com
SUMMARY:Councilor Coffee
DESCRIPTION:City Councilors want to chat with the community! Councilor Coffee takes place at 9:30 a.m. on the third Saturday each month through March at Timber Towne Coffee (1427 Main St.). Residents can drop by to have an informal conversation with a City Council member (or two). Stop by for a cuppa or just a chat; either way\, your City Council looks forward to meeting with you.
URL:https://philomathnews.com/event/councilor-coffee/
LOCATION:Timber Towne Coffee\, 1427 Main St.\, Philomath\, OR\, 97370
CATEGORIES:Government
ATTACH;FMTTYPE=image/jpeg:https://philomathnews.com/wp-content/uploads/2024/11/pexels-photo-585753.jpeg
END:VEVENT
BEGIN:VEVENT
DTSTART;TZID=America/Los_Angeles:20260221T100000
DTEND;TZID=America/Los_Angeles:20260221T100000
DTSTAMP:20260425T102839
CREATED:20260119T214008Z
LAST-MODIFIED:20260119T214008Z
UID:10011694-1771668000-1771668000@philomathnews.com
SUMMARY:Orchids for Beginners Class at Shonnard's
DESCRIPTION:Orchids for Beginners Class\nOrchids are known around the world for their beautiful long lasting flowers\, but caring for them is elusive to many people. \nWant to be a better orchid plant parent? Join this class to learn the basics around growing orchids in your home\, including tips on repotting. Patrick will also demo how-to repot an orchid in class. \nInstructor: Patrick Urbanski\nDate & Time: Saturday\, February 21st at 10:00am\nLocation: Shonnard’s Nursery Classroom \nInformation at this link.
URL:https://philomathnews.com/event/orchids-for-beginners-class-at-shonnards/
LOCATION:Shonnard’s Nursery\, 6600 Philomath Blvd\, Corvallis\, OR\, 97333
CATEGORIES:Classes and Workshops
ATTACH;FMTTYPE=image/jpeg:https://philomathnews.com/wp-content/uploads/2026/01/011926-orchids-class.jpg
END:VEVENT
BEGIN:VEVENT
DTSTART;TZID=America/Los_Angeles:20260221T100000
DTEND;TZID=America/Los_Angeles:20260221T140000
DTSTAMP:20260425T102839
CREATED:20260119T215849Z
LAST-MODIFIED:20260119T215849Z
UID:10011697-1771668000-1771682400@philomathnews.com
SUMMARY:For the Love of Orchids Day with Mary's Peak Orchid Society
DESCRIPTION:Mary’s Peak Orchid Society\nSaturday\, February 21st | 10AM – 2PM\nCome in to meet members of the Mary’s Peak Orchid Society – admire rare orchids on display\, ask questions\, and learn more about the Orchid Society. \nInformation at this link.
URL:https://philomathnews.com/event/for-the-love-of-orchids-day-with-marys-peak-orchid-society/
LOCATION:Shonnard’s Nursery\, 6600 Philomath Blvd\, Corvallis\, OR\, 97333
CATEGORIES:Clubs and Organizations,Community
ATTACH;FMTTYPE=image/jpeg:https://philomathnews.com/wp-content/uploads/2026/01/011926-orchids-artwork.jpg
END:VEVENT
BEGIN:VEVENT
DTSTART;TZID=America/Los_Angeles:20260221T110000
DTEND;TZID=America/Los_Angeles:20260221T120000
DTSTAMP:20260425T102839
CREATED:20260119T193711Z
LAST-MODIFIED:20260119T193711Z
UID:10011682-1771671600-1771675200@philomathnews.com
SUMMARY:Lego Saturday at the Library
DESCRIPTION:Children and their families are invited to an hour of free play building and creating with LEGOs and Duplos.
URL:https://philomathnews.com/event/lego-saturday-at-the-library-3/
LOCATION:Philomath Community Library\, 1050 Applegate\, Philomath\, OR\, 97370
CATEGORIES:Library
ATTACH;FMTTYPE=image/jpeg:https://philomathnews.com/wp-content/uploads/2022/08/071822-library-file-2022_7292-scaled.jpeg
END:VEVENT
BEGIN:VEVENT
DTSTART;TZID=America/Los_Angeles:20260221T170000
DTEND;TZID=America/Los_Angeles:20260221T200000
DTSTAMP:20260425T102839
CREATED:20260119T193150Z
LAST-MODIFIED:20260119T193150Z
UID:10011681-1771693200-1771704000@philomathnews.com
SUMMARY:Chili Feed and Bingo at Independent Community Center
DESCRIPTION:Chili Feed and Bingo at Independent Community Center.\nSaturday\, Feb. 21\n5-8 p.m.
URL:https://philomathnews.com/event/chili-feed-and-bingo-at-independent-community-center/
LOCATION:Independent Community Center\, 31615 Fern Rd\, Philomath\, OR\, 97370
CATEGORIES:Clubs and Organizations
ATTACH;FMTTYPE=image/jpeg:https://philomathnews.com/wp-content/uploads/2025/11/111725-icc-file_605.jpg
END:VEVENT
END:VCALENDAR