BEGIN:VCALENDAR
VERSION:2.0
PRODID:-//Philomath News - ECPv6.15.20//NONSGML v1.0//EN
CALSCALE:GREGORIAN
METHOD:PUBLISH
X-ORIGINAL-URL:https://philomathnews.com
X-WR-CALDESC:Events for Philomath News
REFRESH-INTERVAL;VALUE=DURATION:PT1H
X-Robots-Tag:noindex
X-PUBLISHED-TTL:PT1H
BEGIN:VTIMEZONE
TZID:America/Los_Angeles
BEGIN:DAYLIGHT
TZOFFSETFROM:-0800
TZOFFSETTO:-0700
TZNAME:PDT
DTSTART:20250309T100000
END:DAYLIGHT
BEGIN:STANDARD
TZOFFSETFROM:-0700
TZOFFSETTO:-0800
TZNAME:PST
DTSTART:20251102T090000
END:STANDARD
BEGIN:DAYLIGHT
TZOFFSETFROM:-0800
TZOFFSETTO:-0700
TZNAME:PDT
DTSTART:20260308T100000
END:DAYLIGHT
BEGIN:STANDARD
TZOFFSETFROM:-0700
TZOFFSETTO:-0800
TZNAME:PST
DTSTART:20261101T090000
END:STANDARD
BEGIN:DAYLIGHT
TZOFFSETFROM:-0800
TZOFFSETTO:-0700
TZNAME:PDT
DTSTART:20270314T100000
END:DAYLIGHT
BEGIN:STANDARD
TZOFFSETFROM:-0700
TZOFFSETTO:-0800
TZNAME:PST
DTSTART:20271107T090000
END:STANDARD
END:VTIMEZONE
BEGIN:VEVENT
DTSTART;TZID=America/Los_Angeles:20260209T090000
DTEND;TZID=America/Los_Angeles:20260209T090000
DTSTAMP:20260425T162222
CREATED:20251116T054312Z
LAST-MODIFIED:20251116T054312Z
UID:10007219-1770627600-1770627600@philomathnews.com
SUMMARY:Philomath TOPS Meeting
DESCRIPTION:The Philomath chapter of TOPS (Take Off Pounds Sensibly) meets at 9 a.m. Mondays at Peace Lutheran Church with weigh-in preceding the meeting from 8:30-9 a.m.
URL:https://philomathnews.com/event/philomath-tops-meeting/2026-02-09/
LOCATION:Peace Lutheran Church\, 2540 Applegate St.\, Philomath\, OR\, 97370
CATEGORIES:Clubs and Organizations
ATTACH;FMTTYPE=image/jpeg:https://philomathnews.com/wp-content/uploads/2023/02/Peace-Lutheran-Church1-2020-scaled.jpg
END:VEVENT
BEGIN:VEVENT
DTSTART;TZID=America/Los_Angeles:20260209T100000
DTEND;TZID=America/Los_Angeles:20260209T100000
DTSTAMP:20260425T162222
CREATED:20251116T185922Z
LAST-MODIFIED:20251116T185922Z
UID:10007480-1770631200-1770631200@philomathnews.com
SUMMARY:Dementia Warriors Coffee Connections
DESCRIPTION:Dementia Warriors Coffee Connections meets at 10 a.m. Mondays at Timber Towne Coffee in Philomath. From the organizer: “Come savor this casual opportunity to connect and laugh with people with dementia/Alzheimer’s and caregivers.”
URL:https://philomathnews.com/event/dementia-warriors-coffee-connections/2026-02-09/
LOCATION:Timber Towne Coffee\, 1427 Main St.\, Philomath\, OR\, 97370
CATEGORIES:Clubs and Organizations
ATTACH;FMTTYPE=image/jpeg:https://philomathnews.com/wp-content/uploads/2025/01/020422-Douglas-The-Truck-At-Timber-Townejpg.jpg
ORGANIZER;CN="Dementia Warriors":MAILTO:dementiaadvocacy16@gmail.com
END:VEVENT
BEGIN:VEVENT
DTSTART;TZID=America/Los_Angeles:20260209T150000
DTEND;TZID=America/Los_Angeles:20260209T150000
DTSTAMP:20260425T162222
CREATED:20251116T212129Z
LAST-MODIFIED:20251116T212129Z
UID:10009462-1770649200-1770649200@philomathnews.com
SUMMARY:Philomath Fire and Rescue Board of Directors Meeting
DESCRIPTION:The Philomath Fire and Rescue’s Board of Directors meets on the second Tuesday each month at 3 p.m. at Station 201 (1035 Main St.).
URL:https://philomathnews.com/event/philomath-fire-and-rescue-board-of-directors-meeting/2026-02-09/
LOCATION:Philomath Fire and Rescue\, 1035 Main St.\, Philomath\, OR\, 97370
CATEGORIES:Government
ATTACH;FMTTYPE=image/jpeg:https://philomathnews.com/wp-content/uploads/2020/11/Philomath-Fire-Rescue2-2020.jpg
END:VEVENT
BEGIN:VEVENT
DTSTART;TZID=America/Los_Angeles:20260209T173000
DTEND;TZID=America/Los_Angeles:20260209T190000
DTSTAMP:20260425T162222
CREATED:20260207T154029Z
LAST-MODIFIED:20260207T154029Z
UID:10011728-1770658200-1770663600@philomathnews.com
SUMMARY:Philomath City Council Work Session
DESCRIPTION:Meeting Participation Instructions \nThis meeting is being held in-person at the City Hall Council Chambers\, and the public is invited to attend. Public comments and testimonies are also available via written or electronic participation. City meetings are live-streamed on the City’s YouTube channel. \nSpeaking in Person: Please fill out a Speaker Request Form on the table near the doors and give it to the City Recorder. If you have a written statement for the Council\, please email it or provide 10 copies to the City Recorder who will distribute them to the Council. \nSpeaking Virtually: Register to speak by contacting the City Manager’s office before 4:00 PM the day of the meeting. Email cityhall@philomathoregon.gov or call 541-929-6148 to provide your name\, phone number\, address\, email\, and topic. Presentation materials should be submitted as written testimony. \nADA Accessibility: The City will strive to accommodate for all residents. City Hall is ADA accessible meeting space. Given at least two business days’ notice\, an interpreter can be provided for the hearing impaired or those with limited proficiency in English. \nContact the City Manager’s Office to make interpreter arrangements.
URL:https://philomathnews.com/event/philomath-city-council-work-session-2/
LOCATION:Philomath City Hall\, 980 Applegate St.\, Philomath
CATEGORIES:Government
ATTACH;FMTTYPE=image/jpeg:https://philomathnews.com/wp-content/uploads/2025/01/011525-city-hall-file_1596-scaled.jpeg
END:VEVENT
BEGIN:VEVENT
DTSTART;TZID=America/Los_Angeles:20260209T183000
DTEND;TZID=America/Los_Angeles:20260209T223000
DTSTAMP:20260425T162222
CREATED:20251116T192605Z
LAST-MODIFIED:20251116T192605Z
UID:10007742-1770661800-1770676200@philomathnews.com
SUMMARY:Moonlight Country Mixer at the Grange
DESCRIPTION:Jamie Lee Dancing presents Moonlight Country Mixer. Every Monday 6:30-10:30 p.m. at Marys River Grange\, 24707 Grange Hall Rd.\, Philomath. Cost: $5. All ages welcome. Parking limited to Grange Hall lot. Country swing and line dance lessons from 6:30-7:30.
URL:https://philomathnews.com/event/moonlight-country-mixer-at-the-grange/2026-02-09/
LOCATION:Marys River Grange Hall\, 24707 Grange Hall Road\, Philomath\, OR\, 97370
CATEGORIES:Arts and Entertainment
ATTACH;FMTTYPE=image/jpeg:https://philomathnews.com/wp-content/uploads/2025/09/081325-mrg-sign_8863-scaled.jpg
ORGANIZER;CN="Jamie Lee Dancing":MAILTO:Jamieleedancing@gmail.com
END:VEVENT
BEGIN:VEVENT
DTSTART;TZID=America/Los_Angeles:20260209T190000
DTEND;TZID=America/Los_Angeles:20260209T190000
DTSTAMP:20260425T162222
CREATED:20251116T212502Z
LAST-MODIFIED:20251116T212502Z
UID:10009522-1770663600-1770663600@philomathnews.com
SUMMARY:Philomath City Council Meeting
DESCRIPTION:Agendas are typically posted on the Friday prior to the scheduled meeting.
URL:https://philomathnews.com/event/philomath-city-council-meeting/2026-02-09/
LOCATION:Philomath City Hall\, 980 Applegate St.\, Philomath
CATEGORIES:Government
ATTACH;FMTTYPE=image/jpeg:https://philomathnews.com/wp-content/uploads/2025/01/011525-city-hall-file_1596-scaled.jpeg
END:VEVENT
END:VCALENDAR