BEGIN:VCALENDAR
VERSION:2.0
PRODID:-//Philomath News - ECPv6.15.20//NONSGML v1.0//EN
CALSCALE:GREGORIAN
METHOD:PUBLISH
X-ORIGINAL-URL:https://philomathnews.com
X-WR-CALDESC:Events for Philomath News
REFRESH-INTERVAL;VALUE=DURATION:PT1H
X-Robots-Tag:noindex
X-PUBLISHED-TTL:PT1H
BEGIN:VTIMEZONE
TZID:America/Los_Angeles
BEGIN:DAYLIGHT
TZOFFSETFROM:-0800
TZOFFSETTO:-0700
TZNAME:PDT
DTSTART:20250309T100000
END:DAYLIGHT
BEGIN:STANDARD
TZOFFSETFROM:-0700
TZOFFSETTO:-0800
TZNAME:PST
DTSTART:20251102T090000
END:STANDARD
BEGIN:DAYLIGHT
TZOFFSETFROM:-0800
TZOFFSETTO:-0700
TZNAME:PDT
DTSTART:20260308T100000
END:DAYLIGHT
BEGIN:STANDARD
TZOFFSETFROM:-0700
TZOFFSETTO:-0800
TZNAME:PST
DTSTART:20261101T090000
END:STANDARD
BEGIN:DAYLIGHT
TZOFFSETFROM:-0800
TZOFFSETTO:-0700
TZNAME:PDT
DTSTART:20270314T100000
END:DAYLIGHT
BEGIN:STANDARD
TZOFFSETFROM:-0700
TZOFFSETTO:-0800
TZNAME:PST
DTSTART:20271107T090000
END:STANDARD
END:VTIMEZONE
BEGIN:VEVENT
DTSTART;TZID=America/Los_Angeles:20260121T090000
DTEND;TZID=America/Los_Angeles:20260121T120000
DTSTAMP:20260423T140211
CREATED:20251230T162231Z
LAST-MODIFIED:20260106T155015Z
UID:10008262-1768986000-1768996800@philomathnews.com
SUMMARY:Quilts From Caring Hands
DESCRIPTION:The primary purpose of Quilts From Caring Hands is to bring the feeling of loving comfort to at-risk children in Oregon’s Benton\, Linn and Marion counties. These include those who are homeless\, drug addicted\, visually impaired\, or abused\, and those in foster care. Our quilts are distributed through designated social service agencies. \nEach quilt we make for a child is unique. In addition to crib- and twin-sized quilts\, we also assemble tactile quilts and “cuddlers” for visually impaired children.  The finished quilts and cuddlers are given away once each quarter. \nQCH is grateful to our sponsors for their support over the years. Quilts from Caring Hands is a volunteer-powered 501(c)(3) nonprofit organization.  All donations are tax deductible.
URL:https://philomathnews.com/event/quilts-from-caring-hands-2/2026-01-21/
LOCATION:Philomath Scout Lodge\, 660 Clemens Mill Road\, Philomath\, OR\, 97370
CATEGORIES:Clubs and Organizations
ATTACH;FMTTYPE=image/jpeg:https://philomathnews.com/wp-content/uploads/2022/08/081122-quilters-workroom_6836-scaled.jpeg
ORGANIZER;CN="Quilts From Caring Hands":MAILTO:qch@peak.org
END:VEVENT
BEGIN:VEVENT
DTSTART;TZID=America/Los_Angeles:20260121T103000
DTEND;TZID=America/Los_Angeles:20260121T110000
DTSTAMP:20260423T140211
CREATED:20251116T194546Z
LAST-MODIFIED:20251116T194634Z
UID:10008523-1768991400-1768993200@philomathnews.com
SUMMARY:Philomath Storytime at the Library
DESCRIPTION:Children of all ages and their families are invited to join us for an interactive storytime full of books\, songs\, and music.
URL:https://philomathnews.com/event/philomath-storytime-at-the-library/2026-01-21/
LOCATION:Philomath Community Library\, 1050 Applegate\, Philomath\, OR\, 97370
CATEGORIES:Library
ATTACH;FMTTYPE=image/jpeg:https://philomathnews.com/wp-content/uploads/2024/07/Calendar-Philomath-Community-Library.jpg
END:VEVENT
BEGIN:VEVENT
DTSTART;TZID=America/Los_Angeles:20260121T120000
DTEND;TZID=America/Los_Angeles:20260121T120000
DTSTAMP:20260423T140211
CREATED:20251116T203213Z
LAST-MODIFIED:20251116T203344Z
UID:10009028-1768996800-1768996800@philomathnews.com
SUMMARY:Philomath Lions Club Meeting
DESCRIPTION:The Philomath Lions Club meets on the first and third Wednesdays of the month at noon at Philomath Fire and Rescue’s Station 201.
URL:https://philomathnews.com/event/philomath-lions-club-meeting/2026-01-21/
LOCATION:Philomath Fire and Rescue\, 1035 Main St.\, Philomath\, OR\, 97370
CATEGORIES:Clubs and Organizations
ATTACH;FMTTYPE=image/jpeg:https://philomathnews.com/wp-content/uploads/2025/04/040925-lions-club-artwork_2509-scaled.jpeg
END:VEVENT
BEGIN:VEVENT
DTSTART;TZID=America/Los_Angeles:20260121T120000
DTEND;TZID=America/Los_Angeles:20260121T130000
DTSTAMP:20260423T140211
CREATED:20251116T222809Z
LAST-MODIFIED:20251116T222809Z
UID:10009952-1768996800-1769000400@philomathnews.com
SUMMARY:Wednesday Noon Book Club
DESCRIPTION:The Philomath Noon Book Club meets on the third Wednesday of the month at the Philomath Community Library. Copies of book club books are available each month at the library; please ask at the front desk.
URL:https://philomathnews.com/event/wednesday-noon-book-club/2026-01-21/
LOCATION:Philomath Community Library\, 1050 Applegate\, Philomath\, OR\, 97370
CATEGORIES:Library
ATTACH;FMTTYPE=image/jpeg:https://philomathnews.com/wp-content/uploads/2024/07/Calendar-Philomath-Community-Library.jpg
END:VEVENT
BEGIN:VEVENT
DTSTART;TZID=America/Los_Angeles:20260121T143000
DTEND;TZID=America/Los_Angeles:20260121T160000
DTSTAMP:20260423T140211
CREATED:20251116T203841Z
LAST-MODIFIED:20251116T203925Z
UID:10009282-1769005800-1769011200@philomathnews.com
SUMMARY:Dementia Warriors Support Group Meeting
DESCRIPTION:Improving our journey together. \nJoin us from 2:30-4 p.m. on the first and third Wednesday of each month at Peace Lutheran Church in Philomath\, Oregon. \nLoss of cognitive skills and/or memory loss can begin at any age\, and this is greatly worsened by social isolation. Dementia and Alzheimer’s disease are NOT “old-person’s diseases!” Statistics show that many people live with dementia\, on average\, about 10 years before seeking a diagnosis. Early detection gives you time to start self-care and stave off the onset. Knowledge is power! \nWe welcome differences and work together to be creative in enjoying life while navigating dementia. We offer support and connection to those with dementia and their families with twice-monthly support group meetings\, social outings\, easy walks\, coffee chats and a private Facebook group. Most importantly\, we offer hope and a renewed sense of purpose. \nPlease join your strengths with ours to make a better life. Togetherness is our greatest strength. \nWant to learn more? Contact Kim McAlexander at mcalexak@gmail.com.
URL:https://philomathnews.com/event/dementia-warriors-support-group-meeting/2026-01-21/
LOCATION:Peace Lutheran Church\, 2540 Applegate St.\, Philomath\, OR\, 97370
CATEGORIES:Clubs and Organizations
ATTACH;FMTTYPE=image/jpeg:https://philomathnews.com/wp-content/uploads/2023/02/Peace-Lutheran-Church1-2020-scaled.jpg
ORGANIZER;CN="Dementia Warriors":MAILTO:dementiaadvocacy16@gmail.com
END:VEVENT
BEGIN:VEVENT
DTSTART;TZID=America/Los_Angeles:20260121T161500
DTEND;TZID=America/Los_Angeles:20260121T161500
DTSTAMP:20260423T140211
CREATED:20260119T222334Z
LAST-MODIFIED:20260119T222334Z
UID:10011707-1769012100-1769012100@philomathnews.com
SUMMARY:PHS Swimming vs. Kennedy\, Salem Academy\, Sisters
DESCRIPTION:Philomath High’s boys and girls swim teams will host a quad-meet against Kennedy\, Salem Academy and Sisters at 4:15 p.m. Wednesday\, Jan. 21 at Clemens Community Pool. \n 
URL:https://philomathnews.com/event/phs-swimming-vs-kennedy-salem-academy-sisters-2/
LOCATION:Clemens Community Pool\, 2054 Applegate St.\, Philomath\, OR\, 97370
CATEGORIES:Athletics
ATTACH;FMTTYPE=image/jpeg:https://philomathnews.com/wp-content/uploads/2025/12/121025-swm-weeber-200-free-relay_9658-scaled.jpg
END:VEVENT
BEGIN:VEVENT
DTSTART;TZID=America/Los_Angeles:20260121T170000
DTEND;TZID=America/Los_Angeles:20260121T170000
DTSTAMP:20260423T140211
CREATED:20251226T184104Z
LAST-MODIFIED:20251226T185303Z
UID:10011475-1769014800-1769014800@philomathnews.com
SUMMARY:PHS Wrestling at CGHS Senior Night Duals
DESCRIPTION:Philomath High’s wrestling team is scheduled to compete at 5 p.m. Wednesday\, Jan. 21\, at the CGHS Senior Night Duals at Cottage Grove.
URL:https://philomathnews.com/event/phs-wrestling-at-cghs-girls-senior-night/
LOCATION:Cottage Grove High School\, 1375 S. River Rd\, Cottage Grove\, OR\, 97424
CATEGORIES:Athletics
ATTACH;FMTTYPE=image/jpeg:https://philomathnews.com/wp-content/uploads/2025/12/121225-wr-dustman_0090-scaled.jpg
END:VEVENT
BEGIN:VEVENT
DTSTART;TZID=America/Los_Angeles:20260121T173000
DTEND;TZID=America/Los_Angeles:20260121T190000
DTSTAMP:20260423T140211
CREATED:20260105T145728Z
LAST-MODIFIED:20260105T145728Z
UID:10011506-1769016600-1769022000@philomathnews.com
SUMMARY:Winter Blooms Arranging Workshop
DESCRIPTION:Philomath business owner Pami Monnette of County Line Flowers will host a winter bloom arranging workshop from 5:30-7:30 p.m. Wednesday\, Jan. 21 at 2Towns Cider Taproom in Corvallis. The cost is $55 per person\, supplies included.
URL:https://philomathnews.com/event/winter-blooms-arranging-workshop/
LOCATION:2 Towns Ciderhouse Tap Room\, 33930 SE Eastgate Circle\, Corvallis\, OR\, 97330
CATEGORIES:Classes and Workshops
ATTACH;FMTTYPE=image/jpeg:https://philomathnews.com/wp-content/uploads/2025/09/091725-county-line-flowers_4995-scaled.jpeg
ORGANIZER;CN="County Line Flowers":MAILTO:Countylineflowers@gmail.com
END:VEVENT
BEGIN:VEVENT
DTSTART;TZID=America/Los_Angeles:20260121T173000
DTEND;TZID=America/Los_Angeles:20260121T203000
DTSTAMP:20260423T140211
CREATED:20251116T224717Z
LAST-MODIFIED:20260107T171418Z
UID:10010132-1769016600-1769027400@philomathnews.com
SUMMARY:Craft Night and Spoon Jam at the Grange
DESCRIPTION:Spoon (and other greenwood) carving.5:30-8:30 \nNo fee. Bring tools and green wood or any unfinished craft \nPlease RSVP to kiko@handprintpress.com\, or text 541-740-7243.
URL:https://philomathnews.com/event/craft-night-and-spoon-jam-at-the-grange/2026-01-21/
LOCATION:Marys River Grange Hall\, 24707 Grange Hall Road\, Philomath\, OR\, 97370
CATEGORIES:Classes and Workshops
ATTACH;FMTTYPE=image/jpeg:https://philomathnews.com/wp-content/uploads/2025/09/081325-mrg-sign_8863-scaled.jpg
ORGANIZER;CN="Kiko Denzer":MAILTO:kiko@handprintpress.com
END:VEVENT
END:VCALENDAR