BEGIN:VCALENDAR
VERSION:2.0
PRODID:-//Philomath News - ECPv6.15.20//NONSGML v1.0//EN
CALSCALE:GREGORIAN
METHOD:PUBLISH
X-WR-CALNAME:Philomath News
X-ORIGINAL-URL:https://philomathnews.com
X-WR-CALDESC:Events for Philomath News
REFRESH-INTERVAL;VALUE=DURATION:PT1H
X-Robots-Tag:noindex
X-PUBLISHED-TTL:PT1H
BEGIN:VTIMEZONE
TZID:America/Los_Angeles
BEGIN:DAYLIGHT
TZOFFSETFROM:-0800
TZOFFSETTO:-0700
TZNAME:PDT
DTSTART:20250309T100000
END:DAYLIGHT
BEGIN:STANDARD
TZOFFSETFROM:-0700
TZOFFSETTO:-0800
TZNAME:PST
DTSTART:20251102T090000
END:STANDARD
BEGIN:DAYLIGHT
TZOFFSETFROM:-0800
TZOFFSETTO:-0700
TZNAME:PDT
DTSTART:20260308T100000
END:DAYLIGHT
BEGIN:STANDARD
TZOFFSETFROM:-0700
TZOFFSETTO:-0800
TZNAME:PST
DTSTART:20261101T090000
END:STANDARD
BEGIN:DAYLIGHT
TZOFFSETFROM:-0800
TZOFFSETTO:-0700
TZNAME:PDT
DTSTART:20270314T100000
END:DAYLIGHT
BEGIN:STANDARD
TZOFFSETFROM:-0700
TZOFFSETTO:-0800
TZNAME:PST
DTSTART:20271107T090000
END:STANDARD
END:VTIMEZONE
BEGIN:VEVENT
DTSTART;TZID=America/Los_Angeles:20260120T100000
DTEND;TZID=America/Los_Angeles:20260120T100000
DTSTAMP:20260423T135115
CREATED:20260116T152308Z
LAST-MODIFIED:20260116T152308Z
UID:10011643-1768903200-1768903200@philomathnews.com
SUMMARY:Benton County Board of Commissioners Meeting
DESCRIPTION:The Benton County Board of Commissioners will meet at 10 a.m. Tuesday\, Jan. 20\, in the Kalapuya Building.
URL:https://philomathnews.com/event/benton-county-board-of-commissioners-meeting-5/
LOCATION:Kalapuya Building\, 4500 SW Research Way\, Corvallis\, OR\, 97333
CATEGORIES:Government
ATTACH;FMTTYPE=image/jpeg:https://philomathnews.com/wp-content/uploads/2022/02/020822-kalapuya-bldg_2625-scaled.jpeg
END:VEVENT
BEGIN:VEVENT
DTSTART;TZID=America/Los_Angeles:20260120T120000
DTEND;TZID=America/Los_Angeles:20260120T120000
DTSTAMP:20260423T135115
CREATED:20260116T150007Z
LAST-MODIFIED:20260116T150007Z
UID:10011640-1768910400-1768910400@philomathnews.com
SUMMARY:Philomath Rotary Club Meeting
DESCRIPTION:Please come to the Philomath Rotary Club meeting event on January 20th at noon in the fellowship hall of Peace Lutheran Church. All Rotarians and community members are welcome.\n\nThis meeting event will include the Philomath Middle School “Student of the Month” award presentation.\n\nThe main meeting presentation will be “OSU’s MLK Day of Service Event Information” by Bella Larson & Jack Cook\, Program Specialists.  The presentation will provide our community with information about the MLK Day of Service plus other future events and to inform us on other opportunities for community engagement with OSU programming.\n\nWe hope you can come and please remember lunch will be provided.  Please RSVP to rotaryfred@hotmail.com if you will be attending so we can plan the number of meals
URL:https://philomathnews.com/event/philomath-rotary-club-meeting-4/
LOCATION:Peace Lutheran Church\, 2540 Applegate St.\, Philomath\, OR\, 97370
CATEGORIES:Clubs and Organizations
ATTACH;FMTTYPE=image/jpeg:https://philomathnews.com/wp-content/uploads/2025/07/062725-rotary-file_7524-scaled.jpg
END:VEVENT
BEGIN:VEVENT
DTSTART;TZID=America/Los_Angeles:20260120T153000
DTEND;TZID=America/Los_Angeles:20260120T163000
DTSTAMP:20260423T135115
CREATED:20251116T221714Z
LAST-MODIFIED:20251116T221714Z
UID:10009832-1768923000-1768926600@philomathnews.com
SUMMARY:READ Dogs at the Library
DESCRIPTION:Beginning readers are invited to practice reading in any language to a trained therapy Reading Education Assistance Dogs (READ Dogs) on the third Tuesday of the month. A permission form is required for children to participate and may be filled out on-site by parents/guardians. Limited spots are available on a first-come\, first-served basis.
URL:https://philomathnews.com/event/read-dogs-at-the-library/2026-01-20/
LOCATION:Philomath Community Library\, 1050 Applegate\, Philomath\, OR\, 97370
CATEGORIES:Library
ATTACH;FMTTYPE=image/jpeg:https://philomathnews.com/wp-content/uploads/2024/12/122724-READ-dogs_9187-scaled.jpg
END:VEVENT
BEGIN:VEVENT
DTSTART;TZID=America/Los_Angeles:20260120T173000
DTEND;TZID=America/Los_Angeles:20260120T173000
DTSTAMP:20260423T135115
CREATED:20251226T181431Z
LAST-MODIFIED:20251226T181431Z
UID:10011463-1768930200-1768930200@philomathnews.com
SUMMARY:PHS Boys Basketball vs. Sweet Home
DESCRIPTION:Philomath High’s boys basketball team is scheduled to host Sweet Home at 5:30 p.m. Tuesday\, Jan. 20.
URL:https://philomathnews.com/event/phs-boys-basketball-vs-sweet-home/
LOCATION:Philomath High School\, 2054 Applegate St.\, Philomath\, OR\, 97370
CATEGORIES:Athletics
ATTACH;FMTTYPE=image/jpeg:https://philomathnews.com/wp-content/uploads/2025/12/121125-bbb-Barron-03.jpg
END:VEVENT
BEGIN:VEVENT
DTSTART;TZID=America/Los_Angeles:20260120T180000
DTEND;TZID=America/Los_Angeles:20260120T180000
DTSTAMP:20260423T135115
CREATED:20260119T184501Z
LAST-MODIFIED:20260119T184501Z
UID:10011668-1768932000-1768932000@philomathnews.com
SUMMARY:Benton County Planning Commission Meeting
DESCRIPTION:Benton County Planning Commission \nAgenda | Packet \n6:00 PM – 8:00 PM \nKalapuya Building\, 4500 SW Research Way\, Corvallis \n1st floor meeting room or virtual meeting room \nMeeting ID: 873 7032 5923 \nPasscode: 905551
URL:https://philomathnews.com/event/benton-county-planning-commission-meeting-2/
LOCATION:Kalapuya Building\, 4500 SW Research Way\, Corvallis\, OR\, 97333
CATEGORIES:Government
ATTACH;FMTTYPE=image/jpeg:https://philomathnews.com/wp-content/uploads/2022/02/020822-kalapuya-bldg_2625-scaled.jpeg
ORGANIZER;CN="Benton County":MAILTO:https://www.bentoncountyor.gov/contact/
END:VEVENT
BEGIN:VEVENT
DTSTART;TZID=America/Los_Angeles:20260120T180000
DTEND;TZID=America/Los_Angeles:20260120T190000
DTSTAMP:20260423T135115
CREATED:20251116T192954Z
LAST-MODIFIED:20251116T193042Z
UID:10008000-1768932000-1768935600@philomathnews.com
SUMMARY:Philomath Community Meal
DESCRIPTION:Free meal and fellowship — everyone welcome! Live music\, prayer room\, delicious meal. Sponsored by Philomath Area Churches.
URL:https://philomathnews.com/event/philomath-community-meal/2026-01-20/
LOCATION:College United Methodist Church\, 1123 Main St.\, Philomath\, OR\, 97370
CATEGORIES:Community
ATTACH;FMTTYPE=image/jpeg:https://philomathnews.com/wp-content/uploads/2024/11/112424-community-dinner-sign_256.jpg
ORGANIZER;CN="College United Methodist Church":MAILTO:collegeumc@gmail.com
END:VEVENT
BEGIN:VEVENT
DTSTART;TZID=America/Los_Angeles:20260120T180000
DTEND;TZID=America/Los_Angeles:20260120T190000
DTSTAMP:20260423T135115
CREATED:20251216T154159Z
LAST-MODIFIED:20251216T154159Z
UID:10010980-1768932000-1768935600@philomathnews.com
SUMMARY:Yoga at the Grange
DESCRIPTION:Instructor Laura Coen leads Yoga at the Grange Tuesdays from Dec. 2-March 17. \nNo Registration Required. For more information\, send email to: lauraploeg@yahoo.com \nLaura has been teaching yoga to adults\, children and families since 2014. She believes individuals can experience a mindful connection to themselves and the world through the practice of yoga. With a mindful connection to self\, both adults and children can feel better\, have more self-control and more self-awareness. A strong sense of self allows for more stable connections with others. Laura hopes to help yoga students find stability in themselves\, and therefore become more productive\, helpful and healthy members of their community.
URL:https://philomathnews.com/event/yoga-at-the-grange-2/2026-01-20/
LOCATION:Marys River Grange Hall\, 24707 Grange Hall Road\, Philomath\, OR\, 97370
CATEGORIES:Exercise
ATTACH;FMTTYPE=image/jpeg:https://philomathnews.com/wp-content/uploads/2025/03/030725-yoga-artwork.jpg
ORGANIZER;CN="Laura Coen":MAILTO:lauraploeg@yahoo.com
END:VEVENT
BEGIN:VEVENT
DTSTART;TZID=America/Los_Angeles:20260120T190000
DTEND;TZID=America/Los_Angeles:20260120T190000
DTSTAMP:20260423T135115
CREATED:20251226T182545Z
LAST-MODIFIED:20251226T182545Z
UID:10011468-1768935600-1768935600@philomathnews.com
SUMMARY:PHS Girls Basketball vs. Sweet Home
DESCRIPTION:Philomath High’s girls basketball team is scheduled to host Sweet Home at 7 p.m. Tuesday\, Jan. 20.
URL:https://philomathnews.com/event/phs-girls-basketball-vs-sweet-home/
LOCATION:Philomath High School\, 2054 Applegate St.\, Philomath\, OR\, 97370
CATEGORIES:Athletics
ATTACH;FMTTYPE=image/jpeg:https://philomathnews.com/wp-content/uploads/2025/12/121625-gbb-Brown-06.jpg
END:VEVENT
END:VCALENDAR