BEGIN:VCALENDAR
VERSION:2.0
PRODID:-//Philomath News - ECPv6.15.20//NONSGML v1.0//EN
CALSCALE:GREGORIAN
METHOD:PUBLISH
X-ORIGINAL-URL:https://philomathnews.com
X-WR-CALDESC:Events for Philomath News
REFRESH-INTERVAL;VALUE=DURATION:PT1H
X-Robots-Tag:noindex
X-PUBLISHED-TTL:PT1H
BEGIN:VTIMEZONE
TZID:America/Los_Angeles
BEGIN:DAYLIGHT
TZOFFSETFROM:-0800
TZOFFSETTO:-0700
TZNAME:PDT
DTSTART:20250309T100000
END:DAYLIGHT
BEGIN:STANDARD
TZOFFSETFROM:-0700
TZOFFSETTO:-0800
TZNAME:PST
DTSTART:20251102T090000
END:STANDARD
BEGIN:DAYLIGHT
TZOFFSETFROM:-0800
TZOFFSETTO:-0700
TZNAME:PDT
DTSTART:20260308T100000
END:DAYLIGHT
BEGIN:STANDARD
TZOFFSETFROM:-0700
TZOFFSETTO:-0800
TZNAME:PST
DTSTART:20261101T090000
END:STANDARD
BEGIN:DAYLIGHT
TZOFFSETFROM:-0800
TZOFFSETTO:-0700
TZNAME:PDT
DTSTART:20270314T100000
END:DAYLIGHT
BEGIN:STANDARD
TZOFFSETFROM:-0700
TZOFFSETTO:-0800
TZNAME:PST
DTSTART:20271107T090000
END:STANDARD
END:VTIMEZONE
BEGIN:VEVENT
DTSTART;VALUE=DATE:20260118
DTEND;VALUE=DATE:20260119
DTSTAMP:20260423T140226
CREATED:20251226T180024Z
LAST-MODIFIED:20251226T180024Z
UID:10011457-1768694400-1768780799@philomathnews.com
SUMMARY:PHS Cheer at Gladiator Cheer Challenge
DESCRIPTION:Philomath High School’s cheer team is scheduled to compete on Sunday\, Jan. 18 at the Gladiator Cheer Challenge at Gladstone High School.
URL:https://philomathnews.com/event/phs-cheer-at-gladiator-cheer-challenge/
LOCATION:Gladstone High School\, 18800 Portland Ave.\, Gladstone\, OR\, 97027
CATEGORIES:Athletics
ATTACH;FMTTYPE=image/jpeg:https://philomathnews.com/wp-content/uploads/2025/03/030725-gbb-Cheer-01.jpg
END:VEVENT
BEGIN:VEVENT
DTSTART;TZID=America/Los_Angeles:20260118T103000
DTEND;TZID=America/Los_Angeles:20260118T103000
DTSTAMP:20260423T140226
CREATED:20251226T170204Z
LAST-MODIFIED:20251226T170851Z
UID:10011443-1768732200-1768732200@philomathnews.com
SUMMARY:Fruit Tree Pruning Class at Shonnard's
DESCRIPTION:Fruit Tree Pruning Class at Shonnard’s\nSunday\, January 18th at 10:30am\nFREE CLASS \nDon’t miss one of our most popular classes of the year to learn all about pruning fruit trees. We’ll cover a number of horticultural techniques that control growth\, remove dead or diseased wood\, and stimulate the formation of flowers.
URL:https://philomathnews.com/event/fruit-tree-spraying-class-at-shonnards-2/
LOCATION:Shonnard’s Nursery\, 6600 Philomath Blvd\, Corvallis\, OR\, 97333
CATEGORIES:Classes and Workshops
ATTACH;FMTTYPE=image/jpeg:https://philomathnews.com/wp-content/uploads/2025/12/011825-fruit-tree-pruning-shonnards.jpg
END:VEVENT
BEGIN:VEVENT
DTSTART;TZID=America/Los_Angeles:20260118T130000
DTEND;TZID=America/Los_Angeles:20260118T160000
DTSTAMP:20260423T140226
CREATED:20260107T170552Z
LAST-MODIFIED:20260107T170552Z
UID:10011515-1768741200-1768752000@philomathnews.com
SUMMARY:Marys River Grange Farmer and Homesteader Swap Meet and Greet
DESCRIPTION:Calling all farmers and homesteaders! Many of us are guilty of having a “just in case” stockpile in our barns and sheds but instead of letting them sit unused\, let’s connect and meet other folks who might be looking for the very thing you’re holding on to. Gather your unused tools\, supplies\, extra seeds\, already read books\, overstock of canning supplies\, extra egg cartons\, fibers\, unused packaging materials\, etc.\, and bring ‘em on down to Marys River Grange for a festive and fun gathering. \nWe will supply tables\, you bring your goods and get ready to swap\, barter\, sell at a set price\, or give it all away for free. If you have larger items (hoop house plastic\, irrigation line\, shade cloth\, tractor implements\, etc.)\, you are welcome to either bring them and display them outside or bring a detailed list to display at the event. \nRegistration is required. \nThe intention of this event is to bring together folks who work with land or animals to feed themselves or others; create an atmosphere of mutual respect; share resources and enjoy each other’s company and keep perfectly good tools\, equipment\, etc.\, in use instead of gathering dust in storage. You don’t have to bring items to participate but we do ask that all participants be connected to farming or homesteading. Contact: Bea Johnson at sunbowproduce@peak.org.
URL:https://philomathnews.com/event/marys-river-grange-farmer-and-homesteader-swap-meet-and-greet/
LOCATION:Marys River Grange Hall\, 24707 Grange Hall Road\, Philomath\, OR\, 97370
CATEGORIES:Clubs and Organizations
ATTACH;FMTTYPE=image/jpeg:https://philomathnews.com/wp-content/uploads/2026/01/010625-mrg-bldg_0237-scaled.jpeg
ORGANIZER;CN="Marys River Grange No. 685":MAILTO:marysrivergrange@gmail.com
END:VEVENT
BEGIN:VEVENT
DTSTART;TZID=America/Los_Angeles:20260118T150000
DTEND;TZID=America/Los_Angeles:20260118T150000
DTSTAMP:20260423T140226
CREATED:20260114T002302Z
LAST-MODIFIED:20260114T002302Z
UID:10011520-1768748400-1768748400@philomathnews.com
SUMMARY:Benton County Town Hall with U.S. Sen. Jeff Merkley
DESCRIPTION:Oregon U.S. Sen. Jeff Merkley announced that he will continue his town halls with an in-person community conversation in Benton County on Sunday\, Jan. 18. The event begins at 3 p.m. at Philomath High School. \nThe eight events continue Merkley’s 2026 town hall tour of Oregon\, where he will hold a community conversation in each of the state’s 36 counties.
URL:https://philomathnews.com/event/benton-county-town-hall-with-u-s-sen-jeff-merkley/
LOCATION:Philomath High School\, 2054 Applegate St.\, Philomath\, OR\, 97370
CATEGORIES:Government
ATTACH;FMTTYPE=image/png:https://philomathnews.com/wp-content/uploads/2026/01/011326-merkley.png
ORGANIZER;CN="U.S. Sen. Jeff Merkley":MAILTO:https://www.merkley.senate.gov/connect/contact/
END:VEVENT
END:VCALENDAR