BEGIN:VCALENDAR
VERSION:2.0
PRODID:-//Philomath News - ECPv6.15.20//NONSGML v1.0//EN
CALSCALE:GREGORIAN
METHOD:PUBLISH
X-WR-CALNAME:Philomath News
X-ORIGINAL-URL:https://philomathnews.com
X-WR-CALDESC:Events for Philomath News
REFRESH-INTERVAL;VALUE=DURATION:PT1H
X-Robots-Tag:noindex
X-PUBLISHED-TTL:PT1H
BEGIN:VTIMEZONE
TZID:America/Los_Angeles
BEGIN:DAYLIGHT
TZOFFSETFROM:-0800
TZOFFSETTO:-0700
TZNAME:PDT
DTSTART:20250309T100000
END:DAYLIGHT
BEGIN:STANDARD
TZOFFSETFROM:-0700
TZOFFSETTO:-0800
TZNAME:PST
DTSTART:20251102T090000
END:STANDARD
BEGIN:DAYLIGHT
TZOFFSETFROM:-0800
TZOFFSETTO:-0700
TZNAME:PDT
DTSTART:20260308T100000
END:DAYLIGHT
BEGIN:STANDARD
TZOFFSETFROM:-0700
TZOFFSETTO:-0800
TZNAME:PST
DTSTART:20261101T090000
END:STANDARD
BEGIN:DAYLIGHT
TZOFFSETFROM:-0800
TZOFFSETTO:-0700
TZNAME:PDT
DTSTART:20270314T100000
END:DAYLIGHT
BEGIN:STANDARD
TZOFFSETFROM:-0700
TZOFFSETTO:-0800
TZNAME:PST
DTSTART:20271107T090000
END:STANDARD
END:VTIMEZONE
BEGIN:VEVENT
DTSTART;VALUE=DATE:20260110
DTEND;VALUE=DATE:20260111
DTSTAMP:20260423T152736
CREATED:20251226T175554Z
LAST-MODIFIED:20251226T175554Z
UID:10011455-1768003200-1768089599@philomathnews.com
SUMMARY:PHS Cheer at Colt Cheer Challenge
DESCRIPTION:Philomath High School’s cheer team is scheduled to compete on Saturday\, Jan. 10 at the Colt Cheer Challenge at Thurston High School.
URL:https://philomathnews.com/event/phs-cheer-at-colt-cheer-challenge/
LOCATION:Thurston High School\, 333 58th St.\, Springfield\, OR\, 97478
CATEGORIES:Athletics
ATTACH;FMTTYPE=image/jpeg:https://philomathnews.com/wp-content/uploads/2025/03/030725-gbb-Cheer-01.jpg
END:VEVENT
BEGIN:VEVENT
DTSTART;VALUE=DATE:20260110
DTEND;VALUE=DATE:20260111
DTSTAMP:20260423T152736
CREATED:20251226T183854Z
LAST-MODIFIED:20260109T101015Z
UID:10011474-1768003200-1768089599@philomathnews.com
SUMMARY:PHS Girls Wrestling at Lady Dragon Dual Tournament
DESCRIPTION:Philomath High’s girls wrestling team is scheduled to compete at Saturday\, Jan. 10 at the Lady Dragon Dual Tournament at Dallas.
URL:https://philomathnews.com/event/phs-girls-wrestling-at-lady-dragon-dual-tournament-2/
LOCATION:Dallas High School\, 1250 SE Holman Ave.\, Dallas\, OR\, 97338
CATEGORIES:Athletics
ATTACH;FMTTYPE=image/jpeg:https://philomathnews.com/wp-content/uploads/2025/12/121225-wr-pettit-juvenl_0278-scaled.jpg
END:VEVENT
BEGIN:VEVENT
DTSTART;TZID=America/Los_Angeles:20260110T100000
DTEND;TZID=America/Los_Angeles:20260110T100000
DTSTAMP:20260423T152736
CREATED:20251226T191333Z
LAST-MODIFIED:20251226T191333Z
UID:10011483-1768039200-1768039200@philomathnews.com
SUMMARY:PHS Swimming at District Sprint Meet
DESCRIPTION:Philomath High’s boys and girls swim teams are scheduled to compete at 10 a.m. in the District Sprint Meet at South Albany High School.
URL:https://philomathnews.com/event/phs-swimming-at-district-sprint-meet/
LOCATION:South Albany High School\, 3705 Columbus St.\, Albany\, OR\, 97322
CATEGORIES:Athletics
ATTACH;FMTTYPE=image/jpeg:https://philomathnews.com/wp-content/uploads/2025/12/121025-swm-avery-100-breast_9787.jpg
END:VEVENT
BEGIN:VEVENT
DTSTART;TZID=America/Los_Angeles:20260110T110000
DTEND;TZID=America/Los_Angeles:20260110T120000
DTSTAMP:20260423T152736
CREATED:20251212T212250Z
LAST-MODIFIED:20251212T212250Z
UID:10010902-1768042800-1768046400@philomathnews.com
SUMMARY:Benton County Genealogical Society Program at Philomath Museum
DESCRIPTION:Come and learn about some Benton County history.\nThis presentation is about Letitia Carson\, one of Oregon’s first Black pioneers. Born into slavery in Kentucky\, Letitia made the 2\,100+ mile Oregon trail journey in 1845 with her Irish husband\, David Carson\, giving birth along the way. They settled in the Soap Creek Valley in spring 1846\, but she was forced off the land in 1852. Letitia was a farmer\, mother\, midwife\, entrepreneur\, and likely the first Black woman in the country to receive a homestead patent under the 1862 Homestead Act. We will tell Letitia Carson’s amazing story and also share the origins\, partners\, and goals of the Letitia Carson Legacy Project.
URL:https://philomathnews.com/event/benton-county-genealogical-society-program-at-philomath-museum/
LOCATION:Philomath Museum\, 1101 Main St.\, Philomath\, OR\, 97370
CATEGORIES:Clubs and Organizations
ATTACH;FMTTYPE=image/jpeg:https://philomathnews.com/wp-content/uploads/2025/10/101125-philomath-museum-file_4063-scaled.jpg
ORGANIZER;CN="Benton County Genealogical Society":MAILTO:bcgsor@gmail.com
END:VEVENT
BEGIN:VEVENT
DTSTART;TZID=America/Los_Angeles:20260110T170000
DTEND;TZID=America/Los_Angeles:20260110T170000
DTSTAMP:20260423T152736
CREATED:20251226T180658Z
LAST-MODIFIED:20251226T180658Z
UID:10011459-1768064400-1768064400@philomathnews.com
SUMMARY:PHS Boys Basketball at Astoria
DESCRIPTION:Philomath High’s boys basketball team is scheduled to play at Astoria at 5 p.m. Saturday\, Jan. 10.
URL:https://philomathnews.com/event/phs-boys-basketball-at-astoria/
LOCATION:Astoria High School\, 1001 W Marine Dr.\, Astoria\, OR\, 97103
CATEGORIES:Athletics
ATTACH;FMTTYPE=image/jpeg:https://philomathnews.com/wp-content/uploads/2025/12/122325-bbb-Peters-Ja-01.jpg
END:VEVENT
END:VCALENDAR