BEGIN:VCALENDAR
VERSION:2.0
PRODID:-//Philomath News - ECPv6.15.20//NONSGML v1.0//EN
CALSCALE:GREGORIAN
METHOD:PUBLISH
X-WR-CALNAME:Philomath News
X-ORIGINAL-URL:https://philomathnews.com
X-WR-CALDESC:Events for Philomath News
REFRESH-INTERVAL;VALUE=DURATION:PT1H
X-Robots-Tag:noindex
X-PUBLISHED-TTL:PT1H
BEGIN:VTIMEZONE
TZID:America/Los_Angeles
BEGIN:DAYLIGHT
TZOFFSETFROM:-0800
TZOFFSETTO:-0700
TZNAME:PDT
DTSTART:20240310T100000
END:DAYLIGHT
BEGIN:STANDARD
TZOFFSETFROM:-0700
TZOFFSETTO:-0800
TZNAME:PST
DTSTART:20241103T090000
END:STANDARD
BEGIN:DAYLIGHT
TZOFFSETFROM:-0800
TZOFFSETTO:-0700
TZNAME:PDT
DTSTART:20250309T100000
END:DAYLIGHT
BEGIN:STANDARD
TZOFFSETFROM:-0700
TZOFFSETTO:-0800
TZNAME:PST
DTSTART:20251102T090000
END:STANDARD
BEGIN:DAYLIGHT
TZOFFSETFROM:-0800
TZOFFSETTO:-0700
TZNAME:PDT
DTSTART:20260308T100000
END:DAYLIGHT
BEGIN:STANDARD
TZOFFSETFROM:-0700
TZOFFSETTO:-0800
TZNAME:PST
DTSTART:20261101T090000
END:STANDARD
END:VTIMEZONE
BEGIN:VEVENT
DTSTART;TZID=America/Los_Angeles:20251213T100000
DTEND;TZID=America/Los_Angeles:20251213T100000
DTSTAMP:20260425T134018
CREATED:20251117T183233Z
LAST-MODIFIED:20251117T183233Z
UID:10010465-1765620000-1765620000@philomathnews.com
SUMMARY:Getting Houseplants Ready for Winter at Shonnard's
DESCRIPTION:Getting Houseplants Ready for Winter\nSaturday\, December 13th at 10:00am\nFREE CLASS \nAs the seasons change\, the way you care for your plants should reflect the seasonal switch. With that\, there are some tips and tricks that can be applied to most of our plants to aid their transition into and throughout the winter here in the Pacific Northwest.
URL:https://philomathnews.com/event/getting-houseplants-ready-for-winter-at-shonnards/
LOCATION:Shonnard’s Nursery\, 6600 Philomath Blvd\, Corvallis\, OR\, 97333
CATEGORIES:Classes and Workshops
ATTACH;FMTTYPE=image/png:https://philomathnews.com/wp-content/uploads/2025/11/111725-shonnards-houseplants.png
END:VEVENT
BEGIN:VEVENT
DTSTART;TZID=America/Los_Angeles:20251213T100000
DTEND;TZID=America/Los_Angeles:20251213T120000
DTSTAMP:20260425T134018
CREATED:20251208T161902Z
LAST-MODIFIED:20251208T161902Z
UID:10010531-1765620000-1765627200@philomathnews.com
SUMMARY:Santa at the Library
DESCRIPTION:Santa Claus plans to make an appearance from 10 a.m.-noon Saturday\, Dec. 13 at Philomath Community Library\, courtesy of the Philomath Lions Club.
URL:https://philomathnews.com/event/santa-at-the-library/
LOCATION:Philomath Community Library\, 1050 Applegate\, Philomath\, OR\, 97370
CATEGORIES:Clubs and Organizations,Community,Library
ATTACH;FMTTYPE=image/jpeg:https://philomathnews.com/wp-content/uploads/2023/12/120923-santa-library-philo-photos.jpeg
END:VEVENT
END:VCALENDAR