BEGIN:VCALENDAR
VERSION:2.0
PRODID:-//Philomath News - ECPv6.15.20//NONSGML v1.0//EN
CALSCALE:GREGORIAN
METHOD:PUBLISH
X-ORIGINAL-URL:https://philomathnews.com
X-WR-CALDESC:Events for Philomath News
REFRESH-INTERVAL;VALUE=DURATION:PT1H
X-Robots-Tag:noindex
X-PUBLISHED-TTL:PT1H
BEGIN:VTIMEZONE
TZID:America/Los_Angeles
BEGIN:DAYLIGHT
TZOFFSETFROM:-0800
TZOFFSETTO:-0700
TZNAME:PDT
DTSTART:20240310T100000
END:DAYLIGHT
BEGIN:STANDARD
TZOFFSETFROM:-0700
TZOFFSETTO:-0800
TZNAME:PST
DTSTART:20241103T090000
END:STANDARD
BEGIN:DAYLIGHT
TZOFFSETFROM:-0800
TZOFFSETTO:-0700
TZNAME:PDT
DTSTART:20250309T100000
END:DAYLIGHT
BEGIN:STANDARD
TZOFFSETFROM:-0700
TZOFFSETTO:-0800
TZNAME:PST
DTSTART:20251102T090000
END:STANDARD
BEGIN:DAYLIGHT
TZOFFSETFROM:-0800
TZOFFSETTO:-0700
TZNAME:PDT
DTSTART:20260308T100000
END:DAYLIGHT
BEGIN:STANDARD
TZOFFSETFROM:-0700
TZOFFSETTO:-0800
TZNAME:PST
DTSTART:20261101T090000
END:STANDARD
END:VTIMEZONE
BEGIN:VEVENT
DTSTART;TZID=America/Los_Angeles:20251205T090000
DTEND;TZID=America/Los_Angeles:20251205T090000
DTSTAMP:20260423T091934
CREATED:20251128T162446Z
LAST-MODIFIED:20251128T162446Z
UID:10010526-1764925200-1764925200@philomathnews.com
SUMMARY:PHS Girls Wrestling at Battle for the Capital
DESCRIPTION:Philomath High’s girls wrestling team is scheduled to compete Friday\, Dec. 5 at the Battle for the Capital at McKay High School.
URL:https://philomathnews.com/event/phs-girls-wrestling-at-battle-for-the-capital/
LOCATION:McKay High School\, 2440 Lancaster Dr NE\, Salem\, OR\, 97370
CATEGORIES:Athletics
ATTACH;FMTTYPE=image/jpeg:https://philomathnews.com/wp-content/uploads/2025/01/010925-wr-bc-robertson-4-scaled.jpg
END:VEVENT
BEGIN:VEVENT
DTSTART;TZID=America/Los_Angeles:20251205T120000
DTEND;TZID=America/Los_Angeles:20251205T140000
DTSTAMP:20260423T091934
CREATED:20251117T011123Z
LAST-MODIFIED:20251117T011603Z
UID:10010451-1764936000-1764943200@philomathnews.com
SUMMARY:Friends and Foundation of the Corvallis-Benton County Public Library Holiday Book Sale (Members Only)
DESCRIPTION:The Friends and Foundation of the Corvallis-Benton County Public Library will hold\nits annual Holiday Book Sale on Dec. 5 and 6\, 2025\, in the main meeting room at\nthe Corvallis Library\, 645 N.W. Monroe Ave. \nThe Dec. 5 event from noon-2 p.m. is for donors only.
URL:https://philomathnews.com/event/friends-and-foundation-of-the-corvallis-benton-county-public-library-holiday-book-sale-members-only/
LOCATION:Corvallis-Benton County Public Library\, 645 NW Monroe Ave.\, Corvallis\, OR\, 97330
CATEGORIES:Library
ATTACH;FMTTYPE=image/jpeg:https://philomathnews.com/wp-content/uploads/2024/04/040524-book-sale-artwork.jpg
ORGANIZER;CN="Friends and Foundation of the Corvallis-Benton County Library":MAILTO:info@cbcplfriendsandfoundation.org
END:VEVENT
BEGIN:VEVENT
DTSTART;TZID=America/Los_Angeles:20251205T140000
DTEND;TZID=America/Los_Angeles:20251205T180000
DTSTAMP:20260423T091934
CREATED:20251117T011436Z
LAST-MODIFIED:20251117T011436Z
UID:10010453-1764943200-1764957600@philomathnews.com
SUMMARY:Friends and Foundation of the Corvallis-Benton County Public Library Holiday Book Sale
DESCRIPTION:The Friends and Foundation of the Corvallis-Benton County Public Library will hold its annual Holiday Book Sale on Dec. 5 and 6\, 2025\, in the main meeting room at the Corvallis Library\, 645 N.W. Monroe Ave. Hours are: Dec. 5\, donors only noon to 2 p.m.\, all welcome 2 to 6 p.m.; Dec. 6\, all welcome 9 a.m. to 5 p.m. \nItems for sale will be high quality used and new books\, suitable for gift-giving; CDs\, DVDs\, books bags\, and children’s backpacks. There will be books for all ages\, including a large selection of children’s books. All items will be individually priced. \nNew this year will be a craft activities table and refreshments. \nThere will be early entrance for those who have donated $20 or more in the past year; donations may be made at the door. All other hours will be open to everyone. Sales benefit activities and programs at all library locations: Alsea\, Corvallis\, Monroe\, and Philomath. \nFriends and Foundation of the Library always welcomes more volunteer help to transport and sell books. If interested\, please email volunteer@cbcplfriendsandfoundation.org.
URL:https://philomathnews.com/event/friends-and-foundation-of-the-corvallis-benton-county-public-library-holiday-book-sale-2/2025-12-05/
LOCATION:Corvallis-Benton County Public Library\, 645 NW Monroe Ave.\, Corvallis\, OR\, 97330
CATEGORIES:Library
ATTACH;FMTTYPE=image/jpeg:https://philomathnews.com/wp-content/uploads/2024/04/040524-book-sale-artwork.jpg
ORGANIZER;CN="Friends and Foundation of the Corvallis-Benton County Library":MAILTO:info@cbcplfriendsandfoundation.org
END:VEVENT
BEGIN:VEVENT
DTSTART;TZID=America/Los_Angeles:20251205T170000
DTEND;TZID=America/Los_Angeles:20251205T190000
DTSTAMP:20260423T091934
CREATED:20251116T211625Z
LAST-MODIFIED:20251116T211823Z
UID:10009400-1764954000-1764961200@philomathnews.com
SUMMARY:Omelet Dinner at College United Methodist Church
DESCRIPTION:Held the first Friday of each month (excluding July and August)\, the dinner began in 1987 as a means of funding parsonage property taxes. Dinners are open to the public. The meal consists of an omelet (made while you watch) with your choice of fillings (ham\, green onion\, green peppers\, mushrooms\, cheddar and/or Jack cheese)\, homemade scones\, fresh fruit and a beverage. If you are real hungry\, sausage gravy and scones are available for purchase. Homemade desserts can be enjoyed for a donation. \nIn April\, omelets are replaced with our annual Spaghetti Dinner. The meal includes spaghetti\, bread\, salad and a beverage. Delicious\, homemade desserts will be available for a donation. (Same time\, same place — Social Hall from 5-7 PM)
URL:https://philomathnews.com/event/omelet-dinner-at-college-united-methodist-church/2025-12-05/
LOCATION:College United Methodist Church\, 1123 Main St.\, Philomath\, OR\, 97370
CATEGORIES:Community
ATTACH;FMTTYPE=image/jpeg:https://philomathnews.com/wp-content/uploads/2020/11/College-United-Methodist-Church3-2020.jpg
ORGANIZER;CN="College United Methodist Church":MAILTO:collegeumc@gmail.com
END:VEVENT
BEGIN:VEVENT
DTSTART;TZID=America/Los_Angeles:20251205T190000
DTEND;TZID=America/Los_Angeles:20251205T190000
DTSTAMP:20260423T091934
CREATED:20251125T231058Z
LAST-MODIFIED:20251125T231058Z
UID:10010501-1764961200-1764961200@philomathnews.com
SUMMARY:PHS Play: Power Trip
DESCRIPTION:Philomath High School students present “Power Trip” on Thursday\, Dec. 4 (7 p.m.)\, Friday\, Dec. 5 (7 p.m.) and Saturday\, Dec. 6 (1 and 7 p.m.).
URL:https://philomathnews.com/event/phs-play-power-trip/2025-12-05/
LOCATION:Philomath High School\, 2054 Applegate St.\, Philomath\, OR\, 97370
CATEGORIES:Arts and Entertainment,Schools
ATTACH;FMTTYPE=image/jpeg:https://philomathnews.com/wp-content/uploads/2021/11/080818-pe-nws-phs-file.jpg
END:VEVENT
END:VCALENDAR