BEGIN:VCALENDAR
VERSION:2.0
PRODID:-//Philomath News - ECPv6.15.20//NONSGML v1.0//EN
CALSCALE:GREGORIAN
METHOD:PUBLISH
X-WR-CALNAME:Philomath News
X-ORIGINAL-URL:https://philomathnews.com
X-WR-CALDESC:Events for Philomath News
REFRESH-INTERVAL;VALUE=DURATION:PT1H
X-Robots-Tag:noindex
X-PUBLISHED-TTL:PT1H
BEGIN:VTIMEZONE
TZID:America/Los_Angeles
BEGIN:DAYLIGHT
TZOFFSETFROM:-0800
TZOFFSETTO:-0700
TZNAME:PDT
DTSTART:20240310T100000
END:DAYLIGHT
BEGIN:STANDARD
TZOFFSETFROM:-0700
TZOFFSETTO:-0800
TZNAME:PST
DTSTART:20241103T090000
END:STANDARD
BEGIN:DAYLIGHT
TZOFFSETFROM:-0800
TZOFFSETTO:-0700
TZNAME:PDT
DTSTART:20250309T100000
END:DAYLIGHT
BEGIN:STANDARD
TZOFFSETFROM:-0700
TZOFFSETTO:-0800
TZNAME:PST
DTSTART:20251102T090000
END:STANDARD
BEGIN:DAYLIGHT
TZOFFSETFROM:-0800
TZOFFSETTO:-0700
TZNAME:PDT
DTSTART:20260308T100000
END:DAYLIGHT
BEGIN:STANDARD
TZOFFSETFROM:-0700
TZOFFSETTO:-0800
TZNAME:PST
DTSTART:20261101T090000
END:STANDARD
END:VTIMEZONE
BEGIN:VEVENT
DTSTART;TZID=America/Los_Angeles:20251202T090000
DTEND;TZID=America/Los_Angeles:20251202T090000
DTSTAMP:20260421T100109
CREATED:20251116T195508Z
LAST-MODIFIED:20251116T200243Z
UID:10008776-1764666000-1764666000@philomathnews.com
SUMMARY:Benton County Board of Commissioners Meeting
DESCRIPTION:The Benton County Board of Commissioners typically meet for regular meetings at 9 a.m. on the first and third Tuesdays each month at the Kalapuya Building. Holidays and special events occasionally forces the board to move a regular meeting to another date.
URL:https://philomathnews.com/event/benton-county-board-of-commissioners-meeting/2025-12-02/
LOCATION:Kalapuya Building\, 4500 SW Research Way\, Corvallis\, OR\, 97333
CATEGORIES:Government
ATTACH;FMTTYPE=image/jpeg:https://philomathnews.com/wp-content/uploads/2022/02/020822-kalapuya-bldg_2625-scaled.jpeg
END:VEVENT
BEGIN:VEVENT
DTSTART;TZID=America/Los_Angeles:20251202T120000
DTEND;TZID=America/Los_Angeles:20251202T120000
DTSTAMP:20260421T100109
CREATED:20251125T234441Z
LAST-MODIFIED:20251125T234441Z
UID:10010510-1764676800-1764676800@philomathnews.com
SUMMARY:Philomath Rotary Club Meeting
DESCRIPTION:Please come to the Philomath Rotary Club meeting event on December 2 at noon in the fellowship hall of Peace Lutheran Church. All Rotarians and community members are welcome.\nClub announcements and upcoming community service goals include Peace Pole installations at 5 school grounds and the 24th annual Salmon & Jazz fun-raiser on April 18\, 2026.\nThere will be special presentation by Chris Waugh\, District Governor 5110 for Rotary year 2025-2026.  Key speech will be “What’s so special about Rotary?” Also learn more about District 5110 which has 61 Rotary Clubs and around 3\,000 members throughout Oregon most of Oregon.\nWe hope you can come and please remember lunch will be provided.  Please RSVP to rotaryfred@hotmail.com if you will be attending so we can plan the number of meals.\nThere will be a board meeting following meeting at 1 PM
URL:https://philomathnews.com/event/philomath-rotary-club-meeting-2/
LOCATION:Peace Lutheran Church\, 2540 Applegate St.\, Philomath\, OR\, 97370
CATEGORIES:Clubs and Organizations
ATTACH;FMTTYPE=image/jpeg:https://philomathnews.com/wp-content/uploads/2025/07/062725-rotary-file_7524-scaled.jpg
END:VEVENT
BEGIN:VEVENT
DTSTART;TZID=America/Los_Angeles:20251202T173000
DTEND;TZID=America/Los_Angeles:20251202T173000
DTSTAMP:20260421T100109
CREATED:20251116T201754Z
LAST-MODIFIED:20260103T155752Z
UID:10008898-1764696600-1764696600@philomathnews.com
SUMMARY:Philomath Park Advisory Board Meeting
DESCRIPTION:The Board meets on the first Tuesday of each month at 5:30 p.m. Access Park Advisory Board agenda packets here.
URL:https://philomathnews.com/event/philomath-park-advisory-board-meeting/2025-12-02/
LOCATION:Philomath City Hall\, 980 Applegate St.\, Philomath
CATEGORIES:Government
ATTACH;FMTTYPE=image/jpeg:https://philomathnews.com/wp-content/uploads/2025/01/011525-city-hall-file_1596-scaled.jpeg
END:VEVENT
BEGIN:VEVENT
DTSTART;TZID=America/Los_Angeles:20251202T180000
DTEND;TZID=America/Los_Angeles:20251202T190000
DTSTAMP:20260421T100109
CREATED:20251116T192954Z
LAST-MODIFIED:20251116T193042Z
UID:10007993-1764698400-1764702000@philomathnews.com
SUMMARY:Philomath Community Meal
DESCRIPTION:Free meal and fellowship — everyone welcome! Live music\, prayer room\, delicious meal. Sponsored by Philomath Area Churches.
URL:https://philomathnews.com/event/philomath-community-meal/2025-12-02/
LOCATION:College United Methodist Church\, 1123 Main St.\, Philomath\, OR\, 97370
CATEGORIES:Community
ATTACH;FMTTYPE=image/jpeg:https://philomathnews.com/wp-content/uploads/2024/11/112424-community-dinner-sign_256.jpg
ORGANIZER;CN="College United Methodist Church":MAILTO:collegeumc@gmail.com
END:VEVENT
BEGIN:VEVENT
DTSTART;TZID=America/Los_Angeles:20251202T180000
DTEND;TZID=America/Los_Angeles:20251202T190000
DTSTAMP:20260421T100109
CREATED:20251216T154159Z
LAST-MODIFIED:20251216T154159Z
UID:10010973-1764698400-1764702000@philomathnews.com
SUMMARY:Yoga at the Grange
DESCRIPTION:Instructor Laura Coen leads Yoga at the Grange Tuesdays from Dec. 2-March 17. \nNo Registration Required. For more information\, send email to: lauraploeg@yahoo.com \nLaura has been teaching yoga to adults\, children and families since 2014. She believes individuals can experience a mindful connection to themselves and the world through the practice of yoga. With a mindful connection to self\, both adults and children can feel better\, have more self-control and more self-awareness. A strong sense of self allows for more stable connections with others. Laura hopes to help yoga students find stability in themselves\, and therefore become more productive\, helpful and healthy members of their community.
URL:https://philomathnews.com/event/yoga-at-the-grange-2/2025-12-02/
LOCATION:Marys River Grange Hall\, 24707 Grange Hall Road\, Philomath\, OR\, 97370
CATEGORIES:Exercise
ATTACH;FMTTYPE=image/jpeg:https://philomathnews.com/wp-content/uploads/2025/03/030725-yoga-artwork.jpg
ORGANIZER;CN="Laura Coen":MAILTO:lauraploeg@yahoo.com
END:VEVENT
BEGIN:VEVENT
DTSTART;TZID=America/Los_Angeles:20251202T183000
DTEND;TZID=America/Los_Angeles:20251202T193000
DTSTAMP:20260421T100109
CREATED:20251116T202150Z
LAST-MODIFIED:20251116T202150Z
UID:10008958-1764700200-1764703800@philomathnews.com
SUMMARY:Philomath Evening Book Club
DESCRIPTION:The Philomath Evening Book Club meets at the Philomath Community Library on the first Tuesday of each month (unless noted). Copies of book club books are available monthly at the library; please ask at the front desk.
URL:https://philomathnews.com/event/philomath-evening-book-club/2025-12-02/
LOCATION:Philomath Community Library\, 1050 Applegate\, Philomath\, OR\, 97370
CATEGORIES:Library
ATTACH;FMTTYPE=image/jpeg:https://philomathnews.com/wp-content/uploads/2022/08/081522-library-file_7767-scaled.jpeg
END:VEVENT
END:VCALENDAR